Workbook
Name A: 'Backup sheet'!$D$2
Name ab: 'Backup sheet'!$E$3:$E$4
Name AE: 'Backup sheet'!$H$2
Name AOE: 'Backup sheet'!$I$2:$I$8
Name B: 'Backup sheet'!$D$3
Name BL: 'Backup sheet'!$J$2
Name BND: 'Backup sheet'!$D$4:$D$6
Name BOB: 'Backup sheet'!$E$3:$E$5
Name BS: 'Backup sheet'!$E$5
Name BWS: 'Backup sheet'!$I$9
Name CSOD: 'Backup sheet'!$F$2:$F$5
Name D: 'Backup sheet'!$D:$D
Name DCD: 'Backup sheet'!$I$3:$I$8
Name DD: 'Backup sheet'!$D$4
Name Default: 'Backup sheet'!$K$2
Name EE: 'Backup sheet'!$D$5
Name FF: 'Backup sheet'!$D$6
Name gf: #REF!
Name JJ: 'Backup sheet'!$E$2
Name KK: 'Backup sheet'!$E$3
Name LC: 'Backup sheet'!$H$2:$H$3
Name LDC: 'Backup sheet'!$I$2:$I$9
Name LL: 'Backup sheet'!$E$4
Name MBW: 'Backup sheet'!$I$3:$I$9
Name MM: 'Backup sheet'!$E$6
Name MMM: 'Backup sheet'!$B$4
Name NA: 'Backup sheet'!$J$4
Name NL: 'Backup sheet'!$H$3
Name NN: 'Backup sheet'!$E$7
Name OB: 'Backup sheet'!$E$4:$E$5
Name OO: 'Backup sheet'!$E$8
Name s: #REF!
Name SSS: 'Backup sheet'!$G$2:$G$3
Name tcs: 'Backup sheet'!$B$3
Name Type: 'Backup sheet'!$A$2:$A$6
Name vv: 'Backup sheet'!$B$2
Name YNN: 'Backup sheet'!$J$2:$J$4

Sheet Backup sheet
A1: FIA - Type of Compliant | B1: IA Visit/Tele Call Verification Status | C1: If Tele Call Not Success | D1: Availability of Borrower | E1: Confirmed By | F1: Cash Siphoned Off Details (Drop Down) | G1: If TeleCall Success | H1: Loan Card | I1: Availability of Evidence
A2: Collection Amount Misappropriated | B2: Visited | C2: Invalid Number | D2: Borrower Available | E2: Borrower | F2: Safe Locker Cash Siphoned Off | G2: Borrower | H2: Available | I2: Loan Card | J2: Yes
A3: Pre-Closure Amount Misappropriated | B3: Tele Call Success | C3: Incoming Facility Barred | D3: Borrower Not Available | E3: Borrower Family Member | F3: Collection Entry done in FIMO without Collecting Amount from Borrower - Borrower Details Available | G3: Borrower Family Member | H3: Not Available | I3: Digital Payment | J3: No
A4: Disbursed Amount Recollected | B4: Tele Call Not Success | C4: No Answer | D4: Borrower Not Traceable | E4: Other Borrower | F4: Collection Entry done in FIMO without Collecting Amount from Borrower - Borrower Details Not Available | I4: Cash Receipt | J4: NA
A5: Advance Collection Amount Misappropriated | C5: Out of Coverage Area | D5: Borrower-Migrated | E5: Branch Staff | F5: Collection Entry done in FIMO without Collecting Amount from Borrower - Borrower Details Partial Available | I5: Delinquent Staff Written Statement
A6: Loan Amount Misappropriation | C6: Other Member | D6: Borrower Death | E6: Borrower Migrated | I6: Center Meeting Register
C7: Staff Mobile Number | E7: Borrower Not Treceable | I7: Handwritten Receipt
C8: Switched Off | E8: Borrower Death | I8: Multiple Evidence
C9: Wrong Number | I9: Borrower Written Statement

Sheet Fraud Investigation Report
A1: Spandana Sphoorty Financial Limited
A2: Fraud Risk Management Department
A3: Fraud Investigation Report Tracker Version 1.2
A4: Sr. No. | B4: Financial Year/Quarter (Formula) | C4: Branch Code (Formula) | D4: Branch Name (Formula) | E4: State (Formula) | F4: Region (Formula) | G4: Date of Identification (DD-MMM-YY) | H4: Identified by (IA/Business/HR/IT etc) (Drop Down) | I4: Date of Complaint Raised (DD-MMM-YY) | J4: Compliant Number (Formula) | K4: Initial No. of Borrowers Identified | L4: Preliminary Fraud Amount | M4: Preliminary Fraud Amount Recovered | N4: AH Name/ID | O4: RH Name/ID | P4: SH Name/ID | Q4: CBO/DCBO Name/ID | R4: Name of the Staff Involved (Formula) | S4: Employee Designation (Formula) | T4: Employee Code (Formula) | U4: Employee Current Status (Drop Down) | V4: Date, if Employee not available/not working (DD-MMM-YY) | W4: Type of Compliant (Formula) | X4: Multiple Complaints If any (Formula) | Y4: Fraud Investigation Status (Drop Down) | Z4: Start Date of Fraud Investigation (DD-MMM-YY) | AA4: End Date of Fraud Investigation (DD-MMM-YY) | AB4: Veification done by AH Name | AC4: Veification done by AH Emp Id | AD4: Number of borrowers verified by AH | AE4: Investigation done by IO Name | AF4: Investigation done by IO Emp ID | AG4: Number of borrowers verified by IO | AH4: Total No. of Borrowers Verified (Formula) | AI4: Total Fraud Amount (Post Investigation) (Formula) | AJ4: Total Amount Accounted (Amount updated in FIMO during Verification) (On or before Fraud Investigation) (Formula) | AK4: Total Amount Recovered (Amount Recovred from staff during FI) (On or before Fraud Investigation) (Formula) | AL4: Balance Net Fraud Amount to recover (Formula) | AM4: Total number of Borrowers Affected (Formula) | AN4: Investigation Report Submitted Date (DD-MMM-YY) | AO4: Investigation Officer Observations & Remarks
A5: 1 | B5: =IF(I5="", "", IF(MONTH(I5)>=4, "Q" & ROUNDUP((MONTH(I5)-3)/3,0) & " " & YEAR(I5)-2000 & "-" & YEAR(I5)-1999, "Q" & ROUNDUP((MONTH(I5)+9)/3,0) & " " & YEAR(I5)-2001 & "-" & YEAR(I5)-2000)) -> Q1 26-27 | C5: =IF('Physical Cash at Safe'!D28="Yes", 'Physical Cash at Safe'!B4, 'Borrower Wise Details'!B5) -> MR3054 | D5: =IF('Physical Cash at Safe'!D28="Yes", 'Physical Cash at Safe'!A4, 'Borrower Wise Details'!C5) -> Igatpuri | E5: =IF(D5="", "", IF(ISBLANK('Loan Outstanding Report'!B5), IF('Physical Cash at Safe'!D28="Yes", 'Physical Cash at Safe'!A6, ""), 'Loan Outstanding Report'!B5)) -> West | F5: =IF(D5="", "", IF(ISBLANK('Loan Outstanding Report'!C5), IF('Physical Cash at Safe'!D28="Yes", 'Physical Cash at Safe'!E4, ""), 'Loan Outstanding Report'!C5)) -> Maharashtra | G5: 46128 | H5: IA | I5: 46128 | J5: =IF('Physical Cash at Safe'!D28="Yes",'Physical Cash at Safe'!E28,IF('Borrower Wise Details'!D5<>"",'Borrower Wise Details'!D5,"")) -> FN26-27-00204 | K5: 1 | L5: 3470 | M5: 3460 | N5: Shubham Talole/SF0037282 | O5: Aniket Ajit Chiparge/SF0097792 | P5: Sudarshan Raosaheb Patil/SF0078799 | Q5: Umesh Kumar Sir/SF0088299 | R5: =IF('Physical Cash at Safe'!$D$28="Yes", 'Physical Cash at Safe'!$A$28, IF('Borrower Wise Details'!F5<>"", 'Borrower Wise Details'!F5, "")) -> Karan Gopal | S5: =IF('Physical Cash at Safe'!$D$28="Yes", 'Physical Cash at Safe'!$C$28, IF('Borrower Wise Details'!H5<>"", 'Borrower Wise Details'!H5, "")) -> Branch Manager | T5: =IF('Physical Cash at Safe'!$D$28="Yes", 'Physical Cash at Safe'!$B$28, IF('Borrower Wise Details'!G5<>"", 'Borrower Wise Details'!G5, "")) -> SF0051296 | U5: Suspended-Not Working | V5: 46129 | W5: =IF('Physical Cash at Safe'!$D$28="Yes", "Safe Locker Cash Siphoned Off", IF('Borrower Wise Details'!$P$5<>"",'Borrower Wise Details'!$P$5,"") ) -> Collection Amount Misappropriated | X5: {=IF('Borrower Wise Details'!P5="","", IF('Physical Cash at Safe'!$D$28="Yes", IF(COUNT('Borrower Wise Details'!$P$5:$P$1003)<>"", IFERROR( _xlfn.TEXTJOIN("/",TRUE,_xlfn.UNIQUE(_xlfn._xlws.FILTER('Borrower Wise Details'!$P$5:$P$1003,'Borrower Wise Details'!$P$5:$P$1003<>""))), "" ), "" ), IF(COUNT('Borrower Wise Details'!$P$5:$P$1003)<>"", IFERROR( _xlfn.TEXTJOIN("/",TRUE,_xlfn.UNIQUE(_xlfn._xlws.FILTER('Borrower Wise Details'!$P$5:$P$1003,('Borrower Wise Details'!$P$5:$P$1003<>"")*('Borrower Wise Details'!$P$5:$P$1003<>INDEX(_xlfn._xlws.FILTER('Borrower Wise Details'!$P$5:$P$1003,'Borrower Wise Details'!$P$5:$P$1003<>""),1))))), "" ), "" ) ) )} | Y5: Completed-Report Submitted | Z5: 46210 | AA5: 46212 | AB5: Shubham Talole | AC5: SF0037282 | AD5: 19 | AE5: Umesh Halmare | AF5: SF0031505 | AG5: 52 | AH5: 71 | AI5: {=IF(COUNTA('Borrower Wise Details'!$R$5:$R$1003)=0, "", IF('Physical Cash at Safe'!$D$28="Yes", 'Physical Cash at Safe'!$A$30 + SUM(SUMIFS('Borrower Wise Details'!$R$5:$R$1003, 'Borrower Wise Details'!$P$5:$P$1003, {"Collection Amount Misappropriated","Pre-Closure Amount Misappropriated","Disbursed Amount Recollected","Advance Collection Amount Misappropriated","Loan Amount Misappropriation"})), SUM(SUMIFS('Borrower Wise Details'!$R$5:$R$1003, 'Borrower Wise Details'!$P$5:$P$1003, {"Collection Amount Misappropriated","Pre-Closure Amount Misappropriated","Disbursed Amount Recollected","Advance Collection Amount Misappropriated","Loan Amount Misappropriation"})) ) )} -> 3470 | AJ5: 3460 | AK5: 10 | AL5: =IFERROR(IF(COUNTA(AI:AK5)=0,"",AI5-(AJ5+AK5)),"") -> 0 | AM5: {=IF(COUNTA('Borrower Wise Details'!$J$5:$J$1003)=0,"", SUMPRODUCT(--(FREQUENCY( IF(('Borrower Wise Details'!$J$5:$J$1003<>""),IF(ISNUMBER(SEARCH({"Collection Amount Misappropriated","Pre-Closure Amount Misappropriated","Disbursed Amount Recollected","Advance Collection Amount Misappropriated","Loan Amount Misappropriation"},'Borrower Wise Details'!$P$5:$P$1003)),MATCH('Borrower Wise Details'!$J$5:$J$1003,'Borrower Wise Details'!$J$5:$J$1003,0))), ROW('Borrower Wise Details'!$J$5:$J$1003)-ROW('Borrower Wise Details'!$J$5)+1)>0)))} -> 1 | AN5: 46218 | AO5: Branch Manager Karan Gopal/SF0051296 was found involved in Collection Amount Misappropriation (Collected EMIs but not posted to concerned borrower accounts) on the names of 01 borrower for the amounting to Rs. 3470/- based on the evidence available. Total Fraud Amount = Rs. 3470/- Recovered Amount = Rs. 3470/- Net Fraud Amount = Rs. 00/-

Sheet Cash Embezzelment
A1: Spandana Sphoorty Financial Limited
A2: Fraud Risk Management Department
A3: Cash Embezzlement by Branch Staff | H3: Type of Fraud Amount
A4: Sr. No. | B4: Branch ID (Formula) | C4: Branch Name (Formula) | D4: Fradulent Staff Name (Formula) | E4: Fradulent Staff Emp ID (Formula) | F4: Fraudulent Staff Designation (Formula) | G4: Complaint Number (Formula) | H4: Safe Locker Cash Siphoned Off (Formula) | I4: Collection Amount Misappropriated (Formula) | J4: Pre-Closure Amount Misappropriated (Formula) | K4: Disbursed Amount Recollected (Formula) | L4: Advance Collection Amount Misappropriated (Formula) | M4: Loan Amount Misappropriation (Formula) | N4: Total Fraud Amount (Formula) | O4: Recovery Amount (Formula) | P4: Net Fraud Amount (Formula) | Q4: Fraud details of CDL Product (If Any) | R4: Police Complant/FIR Status (Drop Down)
A5: 1 | B5: =IF('Fraud Investigation Report'!C5="", "", 'Fraud Investigation Report'!C5) -> MR3054 | C5: =IF('Fraud Investigation Report'!D5="", "", 'Fraud Investigation Report'!D5) -> Igatpuri | D5: =IF(OR('Fraud Investigation Report'!R5="", 'Fraud Investigation Report'!R5=0), "", 'Fraud Investigation Report'!R5) -> Karan Gopal | E5: =IF(OR('Fraud Investigation Report'!T5="", 'Fraud Investigation Report'!T5=0), "", 'Fraud Investigation Report'!T5) -> SF0051296 | F5: =IF(OR('Fraud Investigation Report'!S5="", 'Fraud Investigation Report'!S5=0), "", 'Fraud Investigation Report'!S5) -> Branch Manager | G5: =IF('Fraud Investigation Report'!J5="", "", 'Fraud Investigation Report'!J5) -> FN26-27-00204 | H5: =IF(OR(ISNUMBER(SEARCH("Safe Locker Cash Siphoned Off",'Fraud Investigation Report'!W5)), ISNUMBER(SEARCH("Safe Locker Cash Siphoned Off",'Fraud Investigation Report'!X5))), 'Physical Cash at Safe'!$A$30, "") | I5: =IF(OR(ISNUMBER(SEARCH("Collection Amount Misappropriated",'Fraud Investigation Report'!W5)), ISNUMBER(SEARCH("Collection Amount Misappropriated",'Fraud Investigation Report'!X5))), SUMIFS('Borrower Wise Details'!$R$5:$R$1003, 'Borrower Wise Details'!$P$5:$P$1003, "Collection Amount Misappropriated"), "" ) -> 3470 | J5: =IF(OR(ISNUMBER(SEARCH("Pre-Closure Amount Misappropriated",'Fraud Investigation Report'!W5)), ISNUMBER(SEARCH("Pre-Closure Amount Misappropriated",'Fraud Investigation Report'!X5))), SUMIFS('Borrower Wise Details'!$R$5:$R$1003, 'Borrower Wise Details'!$P$5:$P$1003, "Pre-Closure Amount Misappropriated"), "" ) | K5: =IF(OR(ISNUMBER(SEARCH("Disbursed Amount Recollected",'Fraud Investigation Report'!W5)), ISNUMBER(SEARCH("Disbursed Amount Recollected",'Fraud Investigation Report'!X5))), SUMIFS('Borrower Wise Details'!$R$5:$R$1003, 'Borrower Wise Details'!$P$5:$P$1003, "Disbursed Amount Recollected"), "" ) | L5: =IF(OR(ISNUMBER(SEARCH("Advance Collection Amount Misappropriated",'Fraud Investigation Report'!W5)),ISNUMBER(SEARCH("Advance Collection Amount Misappropriated",'Fraud Investigation Report'!X5))), SUMIFS('Borrower Wise Details'!$R$5:$R$1003,'Borrower Wise Details'!$P$5:$P$1003,"Advance Collection Amount Misappropriated"), "" ) | M5: =IF(OR(ISNUMBER(SEARCH("Loan Amount Misappropriation",'Fraud Investigation Report'!W5)), ISNUMBER(SEARCH("Loan Amount Misappropriation",'Fraud Investigation Report'!X5))), SUMIFS('Borrower Wise Details'!$R$5:$R$1003, 'Borrower Wise Details'!$P$5:$P$1003, "Loan Amount Misappropriation"), "" ) | N5: =SUM(H5:M5) -> 3470 | O5: =IFERROR('Fraud Investigation Report'!AJ5+'Fraud Investigation Report'!AK5,"") -> 3470 | P5: =IF(AND(N5="", O5=""), "", IF(O5="", N5, N5 - IF(ISNUMBER(O5), O5, 0))) -> 0 | Q5: NA | R5: No Action Taken

Sheet Physical Cash at Safe
A1: Spandana Sphoorty Financial Limited
B2: Fraud Risk Management Department
A3: Branch Code | B3: Branch Name | C3: Area | D3: Region | E3: Zone
A4: MRIL0469 | B4: Pune | C4: Pune | D4: Pune | E4: West
A5: State | B5: FIMO Opening Balance Date (DD-MMM-YY) | C5: Denomination Register Date (DD-MMM-YY) | D5: Date of Verification (DD-MMM-YY) | E5: Time of Verification (24 Hrs.) (HH:MM)
A6: Maharashtra | B6: 46190 | C6: 46190 | D6: 46190 | E6: 0.52083333
A7: Physical Cash Verification Certificate
A8: Note Denomination | B8: Cash as per FIMO | D8: Cash as per Physical Verification
B9: Number | C9: Amount (Rs.) | D9: Number | E9: Amount (Rs.)
A10: 2000 | C10: =B10*A10 -> 0 | E10: =D10*A10 -> 0
A11: 500 | B11: 4 | C11: =B11*A11 -> 2000 | D11: 4 | E11: =D11*A11 -> 2000
A12: 200 | B12: 1 | C12: =B12*A12 -> 200 | D12: 1 | E12: =D12*A12 -> 200
A13: 100 | B13: 0 | C13: =B13*A13 -> 0 | D13: 0 | E13: =D13*A13 -> 0
A14: 50 | B14: 0 | C14: =B14*A14 -> 0 | D14: 0 | E14: =D14*A14 -> 0
A15: 20 | B15: 2 | C15: =B15*A15 -> 40 | D15: 2 | E15: =D15*A15 -> 40
A16: 10 | B16: 0 | C16: =B16*A16 -> 0 | D16: 0 | E16: =D16*A16 -> 0
A17: 5 | B17: 0 | C17: =B17*A17 -> 0 | D17: 0 | E17: =D17*A17 -> 0
A18: All Coins | B18: 0 | C18: =B18 -> 0 | D18: 0 | E18: =D18 -> 0
B19: Total | C19: =SUM(C10:C18) -> 2240 | D19: Total | E19: =SUM(E10:E18) -> 2240
A20: Denomination Register Opening Cash Balance | C20: 0 | D20: Petty Expenses | E20: 0
A21: Collection Amount | C21: 0 | D21: Bank Deposit Amount | E21: 0
A22: Counter Fiet Notes (If Any) Mention Denomination in Remarks | C22: 0 | D22: Availability of Deposit Slip (Drop Down)
A23: Difference (Excess/Short) | C23: =(C19+C21)-(E20+E21)-E19 -> 0 | D23: Digital payment in Branch staff personal a/c Amount | E23: 0
A24: Investigation Officer Remarks for the Differences | B24: Physical Cash Tailed with FIMO
A25: Explanation provided by Branch Manager
A26: Physical Cash Siphoned Off Details
A27: Cash Siphoned Off by EMP Name | B27: Cash Siphoned Off by Emp ID | C27: Cash Siphoned Off by Emp Designation | D27: Cash Siphoned Off (Drop Down) | E27: Complaint Number
D28: No
A29: Cash Siphoned Off Amount (Gross Fraud) | B29: Recovery Amount | C29: Cash Siphoned Off Amount (Net Fraud) | D29: Cash Siphoned Off Details (Drop Down)
C30: =IF(AND(A30="",B30=""),"",A30-B30)
A32: Safe Keys Handled by (Drop Down) | B32: Dual Staff | C32: Updation of Key Register (Drop Down) | D32: Available - Not Updated (Specify in Key Register)
A33: "Right" Key Number | B33: 443822 | C33: "Left" Key Number | D33: 440589
A34: "Right" Key Holder Name (Physical) | B34: Manik Satish Pawar | C34: "Left" Key Holder Name (Physical) | D34: Shivnath Bhimrao Khandagle
A35: "Right" Key Holder Emp ID (Physical) | B35: SF0097630 | C35: "Left" Key Holder Emp ID (Physical) | D35: SF0097734
A36: "Right" Key Holder Designation (Physical) | B36: Branch Quality Manager | C36: "Left" Key Holder Designation (Physical) | D36: Credit Assistant

Sheet Borrower Wise Details
A1: Spandana Sphoorty Financial Limited
A2: Fraud Risk Management Department
A3: Borrower Wise Details Ver 1.2 | E3: Home | F3: Loan O/s Report | U3: Home | V3: Loan O/s Report
A4: Sr. No. | B4: Branch Code (Formula) | C4: Branch Name (Formula) | D4: Complaint No. (Formula from 2 row) | E4: Date of IO Visit (DD/MMM/YY) | F4: Fradulent Staff Name (Formula from 2 row) | G4: Fradulent Staff Emp. ID (Formula from 2 row) | H4: Fraudulent Staff Designation (Formula from 2 row) | I4: Center Number | J4: Customer ID | K4: Borrower Name | L4: Loan ID | M4: Date of Disbursement as per FIMO (DD/MM/YY) | N4: Disbursed Amount as per FIMO | O4: Installment Amount as per FIMO | P4: Type of Amount Collected (Drop Down) | Q4: Date of Collection (DD/MM/YY) | R4: Total Amount Collected (Gross Fraud) | S4: Amount Adjusted & Accounted in FIMO | T4: Amount Recovered But "Not" Accounted in FIMO | U4: Difference Amount (Net Fraud) (Formula) | V4: Availability of Evidence | W4: Remarks (If Applicable)
A5: 1 | B5: =IF('Loan Outstanding Report'!$G$5="", "", 'Loan Outstanding Report'!$G$5) -> MR3054 | C5: =IF('Loan Outstanding Report'!$H$5="", "", 'Loan Outstanding Report'!$H$5) -> Igatpuri | D5: FN26-27-00204 | E5: 46211 | F5: Karan Gopal | G5: SF0051296 | H5: Branch Manager | I5: 696923 C1 | J5: SSF3961032 | K5: PUJA RANGNATH KALE | L5: 358790587 | M5: 09-Nov-2024 | N5: 65000 | O5: 3460 | P5: Collection Amount Misappropriated | Q5: 46123 | R5: 3470 | S5: 3460 | T5: 10 | U5: =IF(AND(ISBLANK(R5),ISBLANK(S5),ISBLANK(T5)),"",R5-(S5+T5)) -> 0 | V5: Digital Payment | W5: As per Digital payment reciept Borrower Puja Rangnath Kale/358790587 was paid EMI of Rs 3470/- on 11 April 2026 to BM Karan Gopal/SF0051296 but BM not accounted in FIMO. Thereafter IA team was find out the same on 16 April 2026 then BM Gopal accounted Rs3460/- on borrower account in FIMO on 16th April 2026, & Remaining Rs 10 returned to borrower through PhonePe on 14th July 2026.
A6: 2 | B6: =IF(J6<>"", $B$5, "") | C6: =IF(J6<>"", $C$5, "") | D6: =IF(J6<>"", $D$5, "") | F6: =IF(J6<>"", $F$5, "") | G6: =IF(J6<>"", $G$5, "") | H6: =IF(J6<>"", $H$5, "") | U6: =IF(AND(ISBLANK(R6),ISBLANK(S6),ISBLANK(T6)),"",R6-(S6+T6))
A7: 3 | B7: =IF(J7<>"", $B$5, "") | C7: =IF(J7<>"", $C$5, "") | D7: =IF(J7<>"", $D$5, "") | F7: =IF(J7<>"", $F$5, "") | G7: =IF(J7<>"", $G$5, "") | H7: =IF(J7<>"", $H$5, "") | U7: =IF(AND(ISBLANK(R7),ISBLANK(S7),ISBLANK(T7)),"",R7-(S7+T7))
A8: 4 | B8: =IF(J8<>"", $B$5, "") | C8: =IF(J8<>"", $C$5, "") | D8: =IF(J8<>"", $D$5, "") | F8: =IF(J8<>"", $F$5, "") | G8: =IF(J8<>"", $G$5, "") | H8: =IF(J8<>"", $H$5, "") | U8: =IF(AND(ISBLANK(R8),ISBLANK(S8),ISBLANK(T8)),"",R8-(S8+T8))
A9: 5 | B9: =IF(J9<>"", $B$5, "") | C9: =IF(J9<>"", $C$5, "") | D9: =IF(J9<>"", $D$5, "") | F9: =IF(J9<>"", $F$5, "") | G9: =IF(J9<>"", $G$5, "") | H9: =IF(J9<>"", $H$5, "") | U9: =IF(AND(ISBLANK(R9),ISBLANK(S9),ISBLANK(T9)),"",R9-(S9+T9))
A10: 6 | B10: =IF(J10<>"", $B$5, "") | C10: =IF(J10<>"", $C$5, "") | D10: =IF(J10<>"", $D$5, "") | F10: =IF(J10<>"", $F$5, "") | G10: =IF(J10<>"", $G$5, "") | H10: =IF(J10<>"", $H$5, "") | U10: =IF(AND(ISBLANK(R10),ISBLANK(S10),ISBLANK(T10)),"",R10-(S10+T10))
A11: 7 | B11: =IF(J11<>"", $B$5, "") | C11: =IF(J11<>"", $C$5, "") | D11: =IF(J11<>"", $D$5, "") | F11: =IF(J11<>"", $F$5, "") | G11: =IF(J11<>"", $G$5, "") | H11: =IF(J11<>"", $H$5, "") | U11: =IF(AND(ISBLANK(R11),ISBLANK(S11),ISBLANK(T11)),"",R11-(S11+T11))
A12: 8 | B12: =IF(J12<>"", $B$5, "") | C12: =IF(J12<>"", $C$5, "") | D12: =IF(J12<>"", $D$5, "") | F12: =IF(J12<>"", $F$5, "") | G12: =IF(J12<>"", $G$5, "") | H12: =IF(J12<>"", $H$5, "") | U12: =IF(AND(ISBLANK(R12),ISBLANK(S12),ISBLANK(T12)),"",R12-(S12+T12))
A13: 9 | B13: =IF(J13<>"", $B$5, "") | C13: =IF(J13<>"", $C$5, "") | D13: =IF(J13<>"", $D$5, "") | F13: =IF(J13<>"", $F$5, "") | G13: =IF(J13<>"", $G$5, "") | H13: =IF(J13<>"", $H$5, "") | U13: =IF(AND(ISBLANK(R13),ISBLANK(S13),ISBLANK(T13)),"",R13-(S13+T13))
A14: 10 | B14: =IF(J14<>"", $B$5, "") | C14: =IF(J14<>"", $C$5, "") | D14: =IF(J14<>"", $D$5, "") | F14: =IF(J14<>"", $F$5, "") | G14: =IF(J14<>"", $G$5, "") | H14: =IF(J14<>"", $H$5, "") | U14: =IF(AND(ISBLANK(R14),ISBLANK(S14),ISBLANK(T14)),"",R14-(S14+T14))
A15: 11 | B15: =IF(J15<>"", $B$5, "") | C15: =IF(J15<>"", $C$5, "") | D15: =IF(J15<>"", $D$5, "") | F15: =IF(J15<>"", $F$5, "") | G15: =IF(J15<>"", $G$5, "") | H15: =IF(J15<>"", $H$5, "") | U15: =IF(AND(ISBLANK(R15),ISBLANK(S15),ISBLANK(T15)),"",R15-(S15+T15))
A16: 12 | B16: =IF(J16<>"", $B$5, "") | C16: =IF(J16<>"", $C$5, "") | D16: =IF(J16<>"", $D$5, "") | F16: =IF(J16<>"", $F$5, "") | G16: =IF(J16<>"", $G$5, "") | H16: =IF(J16<>"", $H$5, "") | U16: =IF(AND(ISBLANK(R16),ISBLANK(S16),ISBLANK(T16)),"",R16-(S16+T16))
A17: 13 | B17: =IF(J17<>"", $B$5, "") | C17: =IF(J17<>"", $C$5, "") | D17: =IF(J17<>"", $D$5, "") | F17: =IF(J17<>"", $F$5, "") | G17: =IF(J17<>"", $G$5, "") | H17: =IF(J17<>"", $H$5, "") | U17: =IF(AND(ISBLANK(R17),ISBLANK(S17),ISBLANK(T17)),"",R17-(S17+T17))
... A103: 99 | B103: =IF(J103<>"", $B$5, "") | C103: =IF(J103<>"", $C$5, "") | D103: =IF(J103<>"", $D$5, "") | F103: =IF(J103<>"", $F$5, "") | G103: =IF(J103<>"", $G$5, "") | H103: =IF(J103<>"", $H$5, "") | U103: =IF(AND(ISBLANK(R103),ISBLANK(S103),ISBLANK(T103)),"",R103-(S103+T103))
A104: 100 | B104: =IF(J104<>"", $B$5, "") | H104: =IF(J104<>"", $H$5, "") | U104: =IF(AND(ISBLANK(R104),ISBLANK(S104),ISBLANK(T104)),"",R104-(S104+T104))
A105: 101 | U105: =IF(AND(ISBLANK(R105),ISBLANK(S105),ISBLANK(T105)),"",R105-(S105+T105))
A106: 102 | U106: =IF(AND(ISBLANK(R106),ISBLANK(S106),ISBLANK(T106)),"",R106-(S106+T106))
A107: 103 | U107: =IF(AND(ISBLANK(R107),ISBLANK(S107),ISBLANK(T107)),"",R107-(S107+T107))
A108: 104 | U108: =IF(AND(ISBLANK(R108),ISBLANK(S108),ISBLANK(T108)),"",R108-(S108+T108))
A109: 105 | U109: =IF(AND(ISBLANK(R109),ISBLANK(S109),ISBLANK(T109)),"",R109-(S109+T109))
A110: 106 | U110: =IF(AND(ISBLANK(R110),ISBLANK(S110),ISBLANK(T110)),"",R110-(S110+T110))
A111: 107 | U111: =IF(AND(ISBLANK(R111),ISBLANK(S111),ISBLANK(T111)),"",R111-(S111+T111))
A112: 108 | U112: =IF(AND(ISBLANK(R112),ISBLANK(S112),ISBLANK(T112)),"",R112-(S112+T112))
A113: 109 | U113: =IF(AND(ISBLANK(R113),ISBLANK(S113),ISBLANK(T113)),"",R113-(S113+T113))
A114: 110 | U114: =IF(AND(ISBLANK(R114),ISBLANK(S114),ISBLANK(T114)),"",R114-(S114+T114))
A115: 111 | U115: =IF(AND(ISBLANK(R115),ISBLANK(S115),ISBLANK(T115)),"",R115-(S115+T115))
A116: 112 | U116: =IF(AND(ISBLANK(R116),ISBLANK(S116),ISBLANK(T116)),"",R116-(S116+T116))
... A1003: 999 | U1003: =IF(AND(ISBLANK(R1003),ISBLANK(S1003),ISBLANK(T1003)),"",R1003-(S1003+T1003))

Sheet Loan Outstanding Report
A1: From Date : 18 June 2026
A2: To Date : 18 June 2026
A3: Reporting Time : Thursday, June 18, 2026 7:26 AM | BG3: Home | BH3: Borrower Wise Details | BP3: Home | BQ3: Borrower Wise Details
A4: S No | B4: Zone | C4: State | D4: Region | E4: Area | F4: Cluster | G4: Branch Code | H4: Branch | I4: Village Id | J4: Village | K4: Village ID | L4: CSR EMP ID | M4: CSR NAME | N4: Center Id | O4: Center Number | P4: Group ID | Q4: Group Name | R4: Product Name | S4: Cust ID | T4: UCIC | U4: Caste | V4: Religion | W4: PPI Score | X4: Loan purpose | Y4: Loan No. | Z4: Customer Name | AA4: Disb date | AB4: Loan Amount | AC4: Center Meeting Date | AD4: No of Instalments | AE4: Loan Cycle | AF4: Vintage | AG4: Client Formation Date | AH4: Vintage Bracket | AI4: First Installment Date | AJ4: First EMI amount | AK4: Second EMI amount | AL4: Last Repaid Date | AM4: Principal Collection | AN4: Interest Collection | AO4: Total Collection | AP4: Outstanding Principal | AQ4: Outstanding Interest | AR4: Outstanding Total | AS4: Over Due Prin | AT4: Over Due Int | AU4: Over Due Total | AV4: No of Installments Paid | AW4: OD days | AX4: Ageing Bucket | AY4: Last Prepayment Date | AZ4: Prepayment Prin | BA4: Prepayment Interest | BB4: Loan Status | BC4: Death Flag | BD4: Woff date | BE4: Woff Amount | BF4: Ucic | BG4: Borrower Mobile Number | BH4: IO Staff Name/ID (Ex: Ganesh/SF0072845) | BI4: Verification Status (Drop Down) | BJ4: IO Visited Date (DD-MMM-YY) | BK4: Availability of Borrower (Dropdown) | BL4: Confirmed By (Drop Down) | BM4: Availability of Loan Card (Drop Down) | BN4: Cash Misappropriation Status (Drop Down) | BO4: Total Fraud Amount | BP4: Availability of Evidence (Drop Down) | BQ4: Remarks
A5: 180 | B5: West | C5: Maharashtra | D5: Pune | E5: Srirampur | F5: Srirampur | G5: MR3054 | H5: Igatpuri | I5: 129565 | J5: Ghoti | K5: 129565 | L5: SF0103665 | M5: Mangesh Anil Davkhare | N5: 221790 | O5: 687264 | P5: 502070 | Q5: 687264 Nagre1 | R5: Chetana | S5: SSF2770025 | T5: SSF2770025 | U5: GENERAL | V5: MUSLIM | W5: 541 | X5: Boutique | Y5: 348862440 | Z5: SANMA ABDULLAH ANSARI | AA5: 20-Sep-2022 | AB5: 33602 | AC5: 07 | AD5: 24 | AE5: 1 | AF5: 3.79 Yrs | AG5: 20 Sep 2022 | AH5: > 2 to 4 Years | AI5: 08-Nov-2022 | AJ5: 1751 | AK5: 1800 | AL5: 01-Jun-2024 | AM5: 21958.04 | AN5: 8592.96 | AO5: 30551 | AP5: 11643.96 | AQ5: 956.04 | AR5: 12600 | AS5: 11643.96 | AT5: 956.04 | AU5: 12600 | AV5: 44 | BB5: Open | BD5: 30-Sep-2025 | BE5: 33602 | BF5: SSF2770025 | BG5: 7378961786 | BH5: Sainath Gawade/SF0032842 | BI5: Visited | BJ5: 46211 | BK5: Borrower Not Available | BL5: Other Borrower | BM5: Not Available | BN5: NA | BQ5: Borrower & Loan card not available during CLV
A6: 179 | B6: West | C6: Maharashtra | D6: Pune | E6: Srirampur | F6: Srirampur | G6: MR3054 | H6: Igatpuri | I6: 132092 | J6: Pimpalgaon Mor | K6: 132092 | L6: SF0103665 | M6: Mangesh Anil Davkhare | N6: 288186 | O6: bhosale C1 | P6: 412988 | Q6: bhosale C1 Baba1 | R6: Chetana | S6: SSF2333006 | T6: SSF2333006 | U6: SC | V6: HINDU | W6: 541 | X6: Agriculture & Farming | Y6: 348364944 | Z6: MANDABAI BHGVANTA BHOSALE | AA6: 21-Jun-2022 | AB6: 31514 | AC6: 04 | AD6: 24 | AE6: 1 | AF6: 4.04 Yrs | AG6: 21 Jun 2022 | AH6: > 4 to 6 Years | AI6: 03-Aug-2022 | AJ6: 1268 | AK6: 1650 | AL6: 04-Jun-2024 | AM6: 27699.22 | AN6: 7618.78 | AO6: 35318 | AP6: 3814.78 | AQ6: 85.22 | AR6: 3900 | AS6: 3814.78 | AT6: 85.22 | AU6: 3900 | AV6: 48 | BB6: Open | BD6: 31-Dec-2024 | BE6: 31514 | BF6: SSF2333006 | BG6: 7038408804 | BH6: Sainath Gawade/SF0032842 | BI6: Visited | BJ6: 46211 | BK6: Borrower Not Available | BL6: Other Borrower | BM6: Not Available | BN6: NA | BQ6: Borrower & Loan card not available during CLV
A7: 181 | B7: West | C7: Maharashtra | D7: Pune | E7: Srirampur | F7: Srirampur | G7: MR3054 | H7: Igatpuri | I7: 129565 | J7: Ghoti | K7: 129565 | L7: SF0103665 | M7: Mangesh Anil Davkhare | N7: 356254 | O7: 692157 C1 | P7: 508243 | Q7: 692157 C1 Ramrav Nagar1 | R7: Chetana | S7: SSF2799170 | T7: SSF2799170 | U7: GENERAL | V7: HINDU | W7: 541 | X7: Agarbathi Making | Y7: 348953996 | Z7: NAJUKA ARUN KADU | AA7: 26-Sep-2022 | AB7: 33602 | AC7: 07 | AD7: 24 | AE7: 1 | AF7: 3.78 Yrs | AG7: 26 Sep 2022 | AH7: > 2 to 4 Years | AI7: 02-Nov-2022 | AJ7: 1486 | AK7: 1800 | AL7: 28-Sep-2023 | AM7: 10491.87 | AN7: 5394.13 | AO7: 15886 | AP7: 23110.13 | AQ7: 3889.87 | AR7: 27000 | AS7: 23110.13 | AT7: 3889.87 | AU7: 27000 | AV7: 45 | BB7: Open | BE7: 0 | BF7: SSF2799170 | BG7: 8766659013 | BH7: Sainath Gawade/SF0032842 | BI7: Visited | BJ7: 46211 | BK7: Borrower Not Available | BL7: Other Borrower | BM7: Not Available | BN7: NA | BQ7: Borrower & Loan card not available during CLV
A8: 182 | B8: West | C8: Maharashtra | D8: Pune | E8: Srirampur | F8: Srirampur | G8: MR3054 | H8: Igatpuri | I8: 133212 | J8: Devale | K8: 133212 | L8: SF0103665 | M8: Mangesh Anil Davkhare | N8: 221588 | O8: 686643 | P8: 444192 | Q8: 686643 Mandardevi21 | R8: Chetana | S8: SSF2800008 | T8: SSF2800008 | U8: OBC | V8: HINDU | W8: 541 | X8: AUTOMOBILE SHOP | Y8: 348956861 | Z8: MANISHA KAILAS KARPE | AA8: 26-Sep-2022 | AB8: 33602 | AC8: 05 | AD8: 24 | AE8: 1 | AF8: 3.78 Yrs | AG8: 26 Sep 2022 | AH8: > 2 to 4 Years | AI8: 02-Nov-2022 | AJ8: 1486 | AK8: 1800 | AL8: 23-Dec-2023 | AM8: 17438.56 | AN8: 7447.44 | AO8: 24886 | AP8: 16163.44 | AQ8: 1836.56 | AR8: 18000 | AS8: 16163.44 | AT8: 1836.56 | AU8: 18000 | AV8: 46 | BB8: Open | BE8: 0 | BF8: SSF2800008 | BG8: 9270904711 | BH8: Sainath Gawade/SF0032842 | BI8: Visited | BJ8: 46211 | BK8: Borrower Not Available | BL8: Other Borrower | BM8: Not Available | BN8: NA | BQ8: Borrower & Loan card not available during CLV
A9: 183 | B9: West | C9: Maharashtra | D9: Pune | E9: Srirampur | F9: Srirampur | G9: MR3054 | H9: Igatpuri | I9: 129565 | J9: Ghoti | K9: 129565 | L9: SF0103665 | M9: Mangesh Anil Davkhare | N9: 356254 | O9: 692157 C1 | P9: 508243 | Q9: 692157 C1 Ramrav Nagar1 | R9: Chetana | S9: SSF2801428 | T9: SSF2801428 | U9: OBC | V9: HINDU | W9: 541 | X9: Agarbathi Making | Y9: 348961457 | Z9: BEBIBAI BALU DUBHASHE | AA9: 26-Sep-2022 | AB9: 33402 | AC9: 07 | AD9: 24 | AE9: 1 | AF9: 3.78 Yrs | AG9: 26 Sep 2022 | AH9: > 2 to 4 Years | AI9: 02-Nov-2022 | AJ9: 1281 | AK9: 1800 | AL9: 26-Sep-2023 | AM9: 12976.82 | AN9: 6304.18 | AO9: 19281 | AP9: 20425.18 | AQ9: 2974.82 | AR9: 23400 | AS9: 20425.18 | AT9: 2974.82 | AU9: 23400 | AV9: 45 | BB9: Open | BD9: 31-Dec-2024 | BE9: 33402 | BF9: SSF2801428 | BG9: 9075568335 | BH9: Sainath Gawade/SF0032842 | BI9: Visited | BJ9: 46212 | BK9: Borrower Not Available | BL9: Other Borrower | BM9: Not Available | BN9: NA | BQ9: Borrower & Loan card not available during CLV
A10: 184 | B10: West | C10: Maharashtra | D10: Pune | E10: Srirampur | F10: Srirampur | G10: MR3054 | H10: Igatpuri | I10: 129565 | J10: Ghoti | K10: 129565 | L10: SF0098605 | M10: Yejurvendra Bharatsing Kachave | N10: 227844 | O10: 708437 | P10: 300130 | Q10: 1210322 | R10: Chetana | S10: SID951375977778 | T10: SID951375977778 | U10: GENERAL | V10: HINDU | W10: 541 | X10: Cloth Business | Y10: 349259317 | Z10: RANJANA GORAKH GANJAVE | AA10: 14-Oct-2022 | AB10: 54278 | AC10: 07 | AD10: 24 | AE10: 2 | AF10: 5.60 Yrs | AG10: 01 Dec 2020 | AH10: > 4 to 6 Years | AI10: 02-Dec-2022 | AJ10: 3536 | AK10: 2900 | AL10: 27-Aug-2025 | AM10: 38745.07 | AN10: 15090.93 | AO10: 53836 | AP10: 15532.93 | AQ10: 867.07 | AR10: 16400 | AS10: 15532.93 | AT10: 867.07 | AU10: 16400 | AV10: 44 | BB10: Open | BD10: 31-Dec-2024 | BE10: 54278 | BF10: SID951375977778 | BG10: 9322628560 | BH10: Sainath Gawade/SF0032842 | BI10: Visited | BJ10: 46212 | BK10: Borrower Not Available | BL10: Other Borrower | BM10: Not Available | BN10: NA | BQ10: Borrower & Loan card not available during CLV
A11: 185 | B11: West | C11: Maharashtra | D11: Pune | E11: Srirampur | F11: Srirampur | G11: MR3054 | H11: Igatpuri | I11: 129565 | J11: Ghoti | K11: 129565 | L11: SF0103665 | M11: Mangesh Anil Davkhare | N11: 356254 | O11: 692157 C1 | P11: 508243 | Q11: 692157 C1 Ramrav Nagar1 | R11: Chetana | S11: SSF2881247 | T11: SSF2881247 | U11: OBC | V11: HINDU | W11: 541 | X11: Agarbathi Making | Y11: 349324024 | Z11: VAISHALI SAGAR KADU | AA11: 17-Oct-2022 | AB11: 33602 | AC11: 07 | AD11: 24 | AE11: 1 | AF11: 3.72 Yrs | AG11: 17 Oct 2022 | AH11: > 2 to 4 Years | AI11: 02-Dec-2022 | AJ11: 2035 | AK11: 1800 | AL11: 04-Sep-2023 | AM11: 11941.02 | AN11: 6293.98 | AO11: 18235 | AP11: 21660.98 | AQ11: 3539.02 | AR11: 25200 | AS11: 21660.98 | AT11: 3539.02 | AU11: 25200 | AV11: 44 | BB11: Open | BD11: 31-Dec-2024 | BE11: 33602 | BF11: SSF2881247 | BG11: 8605918874 | BH11: Sainath Gawade/SF0032842 | BI11: Visited | BJ11: 46210 | BK11: Borrower Available | BL11: Borrower | BM11: Not Available | BN11: NA | BQ11: Borrower intentionally not paying EMI from September2023
A12: 186 | B12: West | C12: Maharashtra | D12: Pune | E12: Srirampur | F12: Srirampur | G12: MR3054 | H12: Igatpuri | I12: 132801 | J12: Talegaon | K12: 132801 | L12: SF0098605 | M12: Yejurvendra Bharatsing Kachave | N12: 365979 | O12: 687923 C1 | P12: 435691 | Q12: 687923 Rajwada 21 | R12: Chetana | S12: SSF2927500 | T12: SSF2927500 | U12: OBC | V12: HINDU | W12: 541 | X12: Boutique | Y12: 349431425 | Z12: MANISHA SHIVAJI SHINDE | AA12: 30-Oct-2022 | AB12: 33402 | AC12: 10 | AD12: 24 | AE12: 1 | AF12: 3.68 Yrs | AG12: 30 Oct 2022 | AH12: > 2 to 4 Years | AI12: 04-Dec-2022 | AJ12: 1577 | AK12: 1800 | AL12: 22-May-2025 | AM12: 25266.29 | AN12: 9210.71 | AO12: 34477 | AP12: 8135.71 | AQ12: 364.29 | AR12: 8500 | AS12: 8135.71 | AT12: 364.29 | AU12: 8500 | AV12: 44 | BB12: Open | BD12: 31-Dec-2024 | BE12: 33402 | BF12: SSF2927500 | BG12: 7666113005 | BH12: Sainath Gawade/SF0032842 | BI12: Visited | BJ12: 46212 | BK12: Borrower Not Available | BL12: Other Borrower | BM12: Not Available | BN12: NA | BQ12: Borrower & Loan card not available during CLV
A13: 188 | B13: West | C13: Maharashtra | D13: Pune | E13: Srirampur | F13: Srirampur | G13: MR3054 | H13: Igatpuri | I13: 129700 | J13: Igatpuri | K13: 129700 | L13: SF0098605 | M13: Yejurvendra Bharatsing Kachave | N13: 355859 | O13: 696925 C1 | P13: 507394 | Q13: 696925 C1 Milind Nagar1 | R13: Chetana | S13: SSF2978593 | T13: SSF2978593 | U13: SC | V13: HINDU | W13: 541 | X13: Agarbathi Making | Y13: 349588179 | Z13: ALKABAI RAJU DONDE | AA13: 22-Nov-2022 | AB13: 33402 | AC13: 05 | AD13: 24 | AE13: 1 | AF13: 3.62 Yrs | AG13: 22 Nov 2022 | AH13: > 2 to 4 Years | AI13: 05-Jan-2023 | AJ13: 1770 | AK13: 1800 | AL13: 28-Jul-2023 | AM13: 7877.74 | AN13: 4692.26 | AO13: 12570 | AP13: 25524.26 | AQ13: 5075.74 | AR13: 30600 | AS13: 25524.26 | AT13: 5075.74 | AU13: 30600 | AV13: 44 | BB13: Open | BE13: 0 | BF13: SSF2978593 | BG13: 8446098120 | BH13: Sainath Gawade/SF0032842 | BI13: Visited | BJ13: 46210 | BK13: Borrower Available | BL13: Borrower | BM13: Not Available | BN13: NA | BQ13: Borrower intentionally not paying EMI from September2023
A14: 189 | B14: West | C14: Maharashtra | D14: Pune | E14: Srirampur | F14: Srirampur | G14: MR3054 | H14: Igatpuri | I14: 133362 | J14: Ambebahula | K14: 133362 | L14: SF0098605 | M14: Yejurvendra Bharatsing Kachave | N14: 377518 | O14: 693430 C3 | P14: 552146 | Q14: 693430 C3 Vilholi1 | R14: Chetana | S14: SSF3147190 | T14: SSF3147190 | U14: ST | V14: HINDU | W14: 541 | X14: Agriculture & Farming | Y14: 350105435 | Z14: SARLA DASRATH TRIBHUVAN | AA14: 30-Dec-2022 | AB14: 31514 | AC14: 08 | AD14: 24 | AE14: 1 | AF14: 3.52 Yrs | AG14: 30 Dec 2022 | AH14: > 2 to 4 Years | AI14: 06-Feb-2023 | AJ14: 1497 | AK14: 1700 | AL14: 03-Oct-2023 | AM14: 6236.77 | AN14: 3760.23 | AO14: 9997 | AP14: 25277.23 | AQ14: 5322.77 | AR14: 30600 | AS14: 25277.23 | AT14: 5322.77 | AU14: 30600 | AV14: 42 | BB14: Open | BD14: 31-Dec-2024 | BE14: 31514 | BF14: SSF3147190 | BG14: 7558716652 | BH14: Sainath Gawade/SF0032842 | BI14: Visited | BJ14: 46210 | BK14: Borrower Available | BL14: Borrower | BM14: Not Available | BN14: NA | BQ14: Borrower intentionally not paying EMI from September2023
A15: 191 | B15: West | C15: Maharashtra | D15: Pune | E15: Srirampur | F15: Srirampur | G15: MR3054 | H15: Igatpuri | I15: 132801 | J15: Talegaon | K15: 132801 | L15: SF0098605 | M15: Yejurvendra Bharatsing Kachave | N15: 365979 | O15: 687923 C1 | P15: 295478 | Q15: 1191301 | R15: Chetana | S15: SSF3305715 | T15: SSF3305715 | U15: EBC | V15: HINDU | W15: 541 | X15: Agriculture & Farming | Y15: 350460684 | Z15: POOJA SAMADHAN PAWAR | AA15: 31-Jan-2023 | AB15: 31514 | AC15: 10 | AD15: 24 | AE15: 1 | AF15: 3.43 Yrs | AG15: 31 Jan 2023 | AH15: > 2 to 4 Years | AI15: 04-Mar-2023 | AJ15: 1420 | AK15: 1700 | AL15: 31-Jan-2025 | AM15: 26619.87 | AN15: 8800.13 | AO15: 35420 | AP15: 4894.13 | AQ15: 205.87 | AR15: 5100 | AS15: 4894.13 | AT15: 205.87 | AU15: 5100 | AV15: 42 | BB15: Open | BD15: 30-Sep-2025 | BE15: 31514 | BF15: SSF3305715 | BG15: 8888128682 | BH15: Sainath Gawade/SF0032842 | BI15: Visited | BJ15: 46212 | BK15: Borrower Not Available | BL15: Other Borrower | BM15: Not Available | BN15: NA | BQ15: Borrower & Loan card not available during CLV
A16: 192 | B16: West | C16: Maharashtra | D16: Pune | E16: Srirampur | F16: Srirampur | G16: MR3054 | H16: Igatpuri | I16: 129565 | J16: Ghoti | K16: 129565 | L16: SF0103665 | M16: Mangesh Anil Davkhare | N16: 356254 | O16: 692157 C1 | P16: 508243 | Q16: 692157 C1 Ramrav Nagar1 | R16: Chetana | S16: SSF3311834 | T16: SSF3311834 | U16: OBC | V16: HINDU | W16: 541 | X16: Agriculture & Farming | Y16: 350513096 | Z16: VAISHALI GANESH SHELAR | AA16: 10-Feb-2023 | AB16: 32558 | AC16: 07 | AD16: 24 | AE16: 1 | AF16: 3.40 Yrs | AG16: 10 Feb 2023 | AH16: > 2 to 4 Years | AI16: 02-Apr-2023 | AJ16: 1994 | AK16: 1750 | AL16: 05-Sep-2023 | AM16: 6519.03 | AN16: 4224.97 | AO16: 10744 | AP16: 26038.97 | AQ16: 5461.03 | AR16: 31500 | AS16: 26038.97 | AT16: 5461.03 | AU16: 31500 | AV16: 40 | BB16: Open | BD16: 31-Mar-2025 | BE16: 32558 | BF16: SSF3311834 | BG16: 9371882972 | BH16: Sainath Gawade/SF0032842 | BI16: Visited | BJ16: 46211 | BK16: Borrower Not Available | BL16: Other Borrower | BM16: Not Available | BN16: NA | BQ16: Borrower & Loan card not available during CLV
A17: 195 | B17: West | C17: Maharashtra | D17: Pune | E17: Srirampur | F17: Srirampur | G17: MR3054 | H17: Igatpuri | I17: 133212 | J17: Devale | K17: 133212 | L17: SF0103665 | M17: Mangesh Anil Davkhare | N17: 218611 | O17: 677104 | P17: 293282 | Q17: 1184309 | R17: Chetana | S17: SSF3449136 | T17: SSF3449136 | U17: GENERAL | V17: MUSLIM | W17: 541 | X17: Agriculture & Farming | Y17: 350738163 | Z17: AFSANA NYAJAHEMAD KHALIFA | AA17: 24-Feb-2023 | AB17: 33602 | AC17: 10 | AD17: 24 | AE17: 1 | AF17: 3.36 Yrs | AG17: 24 Feb 2023 | AH17: > 2 to 4 Years | AI17: 02-Apr-2023 | AJ17: 1846 | AK17: 1800 | AL17: 02-Oct-2023 | AM17: 8068.74 | AN17: 4577.26 | AO17: 12646 | AP17: 25533.26 | AQ17: 5066.74 | AR17: 30600 | AS17: 25533.26 | AT17: 5066.74 | AU17: 30600 | AV17: 41 | BB17: Open | BD17: 31-Mar-2025 | BE17: 33602 | BF17: SSF3449136 | BG17: 8767846793 | BH17: Sainath Gawade/SF0032842 | BI17: Visited | BJ17: 46211 | BK17: Borrower Not Available | BL17: Other Borrower | BM17: Not Available | BN17: NA | BQ17: Borrower & Loan card not available during CLV
A18: 196 | B18: West | C18: Maharashtra | D18: Pune | E18: Srirampur | F18: Srirampur | G18: MR3054 | H18: Igatpuri | I18: 132671 | J18: Vilholi | K18: 132671 | L18: SF0103665 | M18: Mangesh Anil Davkhare | N18: 381117 | O18: 693430 C5 | P18: 559576 | Q18: 693430 C5 Ganeshya1 | R18: Chetana | S18: SSF3246277 | T18: SSF3246277 | U18: EBC | V18: HINDU | W18: 541 | X18: Agriculture & Farming | Y18: 350770481 | Z18: ARTI SITARAM JADHAV | AA18: 25-Feb-2023 | AB18: 32558 | AC18: 08 | AD18: 24 | AE18: 1 | AF18: 3.36 Yrs | AG18: 25 Feb 2023 | AH18: > 2 to 4 Years | AI18: 05-Apr-2023 | AJ18: 1726 | AK18: 1750 | AL18: 01-Jul-2024 | AM18: 15517.39 | AN18: 7208.61 | AO18: 22726 | AP18: 17040.61 | AQ18: 2209.39 | AR18: 19250 | AS18: 17040.61 | AT18: 2209.39 | AU18: 19250 | AV18: 41 | BB18: Open | BE18: 0 | BF18: SSF3246277 | BG18: 8530923026 | BH18: Sainath Gawade/SF0032842 | BI18: Visited | BJ18: 46212 | BK18: Borrower Not Available | BL18: Other Borrower | BM18: Not Available | BN18: NA | BQ18: Borrower & Loan card not available during CLV
A19: 197 | B19: West | C19: Maharashtra | D19: Pune | E19: Srirampur | F19: Srirampur | G19: MR3054 | H19: Igatpuri | I19: 129565 | J19: Ghoti | K19: 129565 | L19: SF0103665 | M19: Mangesh Anil Davkhare | N19: 221790 | O19: 687264 | P19: 502070 | Q19: 687264 Nagre1 | R19: Chetana | S19: SSF3509477 | T19: SSF3509477 | U19: EBC | V19: HINDU | W19: 541 | X19: Agriculture & Farming | Y19: 350853998 | Z19: TARABAI KAILAS GAIKWAD | AA19: 05-Mar-2023 | AB19: 33402 | AC19: 07 | AD19: 24 | AE19: 1 | AF19: 3.34 Yrs | AG19: 05 Mar 2023 | AH19: > 2 to 4 Years | AI19: 08-Apr-2023 | AJ19: 1572 | AK19: 1800 | AL19: 12-Jun-2024 | AM19: 18772.76 | AN19: 8027.24 | AO19: 26800 | AP19: 14629.24 | AQ19: 1542.76 | AR19: 16172 | AS19: 14629.24 | AT19: 1542.76 | AU19: 16172 | AV19: 39 | BB19: Open | BE19: 0 | BF19: SSF3509477 | BG19: 9021987878 | BH19: Sainath Gawade/SF0032842 | BI19: Visited | BJ19: 46212 | BK19: Borrower Not Available | BL19: Other Borrower | BM19: Not Available | BN19: NA | BQ19: Borrower & Loan card not available during CLV
A20: 199 | B20: West | C20: Maharashtra | D20: Pune | E20: Srirampur | F20: Srirampur | G20: MR3054 | H20: Igatpuri | I20: 132671 | J20: Vilholi | K20: 132671 | L20: SF0098605 | M20: Yejurvendra Bharatsing Kachave | N20: 370092 | O20: 693430 C1 | P20: 551843 | Q20: 693430 C1 Rajurbahula 21 | R20: Chetana | S20: SSF3515583 | T20: SSF3515583 | U20: ST | V20: HINDU | W20: 541 | X20: Agriculture & Farming | Y20: 350867507 | Z20: YOGITA | AA20: 07-Mar-2023 | AB20: 36733 | AC20: 08 | AD20: 24 | AE20: 1 | AF20: 3.33 Yrs | AG20: 07 Mar 2023 | AH20: > 2 to 4 Years | AI20: 06-Apr-2023 | AJ20: 1257 | AK20: 2000 | AL20: 25-Sep-2023 | AM20: 6974.16 | AN20: 4282.84 | AO20: 11257 | AP20: 29758.84 | AQ20: 6241.16 | AR20: 36000 | AS20: 29758.84 | AT20: 6241.16 | AU20: 36000 | AV20: 40 | BB20: Open | BD20: 30-Sep-2025 | BE20: 36733 | BF20: SSF3515583 | BG20: 8805526549 | BH20: Sainath Gawade/SF0032842 | BI20: Visited | BJ20: 46212 | BK20: Borrower Not Available | BL20: Other Borrower | BM20: Not Available | BN20: NA | BQ20: Borrower & Loan card not available during CLV
A21: 200 | B21: West | C21: Maharashtra | D21: Pune | E21: Srirampur | F21: Srirampur | G21: MR3054 | H21: Igatpuri | I21: 133079 | J21: Barshingave | K21: 133079 | L21: SF0103665 | M21: Mangesh Anil Davkhare | N21: 393173 | O21: 688596 C4 | P21: 584848 | Q21: 688596 C4 DHAMANGON1 | R21: Chetana | S21: SSF3545162 | T21: SSF3545162 | U21: EBC | V21: HINDU | W21: 541 | X21: Agriculture & Farming | Y21: 350950001 | Z21: NAKUBAI BALU PANSARE | AA21: 14-Mar-2023 | AB21: 33402 | AC21: 04 | AD21: 24 | AE21: 1 | AF21: 3.32 Yrs | AG21: 14 Mar 2023 | AH21: > 2 to 4 Years | AI21: 09-May-2023 | AJ21: 2087 | AK21: 1800 | AL21: 25-Mar-2025 | AM21: 20266.76 | AN21: 8820.24 | AO21: 29087 | AP21: 13135.24 | AQ21: 1264.76 | AR21: 14400 | AS21: 13135.24 | AT21: 1264.76 | AU21: 14400 | AV21: 40 | BB21: Open | BD21: 31-Mar-2025 | BE21: 33402 | BF21: SSF3545162 | BG21: 7709760647 | BH21: Sainath Gawade/SF0032842 | BI21: Visited | BJ21: 46212 | BK21: Borrower Not Available | BL21: Other Borrower | BM21: Not Available | BN21: NA | BQ21: Borrower & Loan card not available during CLV
A22: 201 | B22: West | C22: Maharashtra | D22: Pune | E22: Srirampur | F22: Srirampur | G22: MR3054 | H22: Igatpuri | I22: 132671 | J22: Vilholi | K22: 132671 | L22: SF0103665 | M22: Mangesh Anil Davkhare | N22: 396372 | O22: 693430 C7 | P22: 590940 | Q22: 693430 C7 Moray1 | R22: Chetana | S22: SSF3586382 | T22: SSF3586382 | U22: SC | V22: HINDU | W22: 541 | X22: Agriculture & Farming | Y22: 351042369 | Z22: SANGITA ATISH BHALERAO | AA22: 20-Mar-2023 | AB22: 36733 | AC22: 08 | AD22: 24 | AE22: 1 | AF22: 3.30 Yrs | AG22: 20 Mar 2023 | AH22: > 2 to 4 Years | AI22: 06-May-2023 | AJ22: 1697 | AK22: 2000 | AL22: 31-Aug-2024 | AM22: 22138.29 | AN22: 9558.71 | AO22: 31697 | AP22: 14594.71 | AQ22: 1405.29 | AR22: 16000 | AS22: 14594.71 | AT22: 1405.29 | AU22: 16000 | AV22: 39 | BB22: Open | BE22: 0 | BF22: SSF3586382 | BG22: 8857889190 | BH22: Sainath Gawade/SF0032842 | BI22: Visited | BJ22: 46210 | BK22: Borrower Available | BL22: Borrower | BM22: Not Available | BN22: NA | BQ22: Borrower intentionally not paying EMI.
A23: 202 | B23: West | C23: Maharashtra | D23: Pune | E23: Srirampur | F23: Srirampur | G23: MR3054 | H23: Igatpuri | I23: 129700 | J23: Igatpuri | K23: 129700 | L23: SF0103665 | M23: Mangesh Anil Davkhare | N23: 371231 | O23: 683539 C1 | P23: 540639 | Q23: 683539 C1 Dhammagiri1 | R23: Chetana | S23: SSF3592834 | T23: SSF3592834 | U23: OBC | V23: HINDU | W23: 541 | X23: Agriculture & Farming | Y23: 351056964 | Z23: RUKSAR IMRAN SHAIKH | AA23: 21-Mar-2023 | AB23: 33602 | AC23: 05 | AD23: 24 | AE23: 1 | AF23: 3.30 Yrs | AG23: 21 Mar 2023 | AH23: > 2 to 4 Years | AI23: 10-May-2023 | AJ23: 2156 | AK23: 1800 | AL23: 08-Feb-2024 | AM23: 8058.72 | AN23: 4897.28 | AO23: 12956 | AP23: 25543.28 | AQ23: 5056.72 | AR23: 30600 | AS23: 25543.28 | AT23: 5056.72 | AU23: 30600 | AV23: 39 | BB23: Open | BD23: 31-Mar-2025 | BE23: 33602 | BF23: SSF3592834 | BG23: 9922779967 | BH23: Sainath Gawade/SF0032842 | BI23: Visited | BJ23: 46210 | BK23: Borrower Available | BL23: Borrower | BM23: Not Available | BN23: NA | BQ23: Borrower intentionally not paying EMI.
A24: 203 | B24: West | C24: Maharashtra | D24: Pune | E24: Srirampur | F24: Srirampur | G24: MR3054 | H24: Igatpuri | I24: 129565 | J24: Ghoti | K24: 129565 | L24: SF0103665 | M24: Mangesh Anil Davkhare | N24: 356254 | O24: 692157 C1 | P24: 508243 | Q24: 692157 C1 Ramrav Nagar1 | R24: Unnati Product | S24: SSF2801428 | T24: SSF2801428 | U24: SC | V24: HINDU | W24: 541 | X24: Agriculture & Farming | Y24: 351128363 | Z24: BEBIBAI BALU DUBHASHE | AA24: 23-Mar-2023 | AB24: 21076 | AC24: 07 | AD24: 18 | AE24: 0 | AF24: 3.78 Yrs | AG24: 26 Sep 2022 | AH24: > 2 to 4 Years | AI24: 02-May-2023 | AJ24: 1091 | AK24: 1450 | AL24: 26-Sep-2023 | AM24: 4712.44 | AN24: 2178.56 | AO24: 6891 | AP24: 16363.56 | AQ24: 2486.44 | AR24: 18850 | AS24: 16363.56 | AT24: 2486.44 | AU24: 18850 | AV24: 39 | BB24: Open | BD24: 31-Dec-2024 | BE24: 21076 | BF24: SSF2801428 | BG24: 8378959059 | BH24: Sainath Gawade/SF0032842 | BI24: Visited | BJ24: 46210 | BK24: Borrower Available | BL24: Borrower | BM24: Not Available | BN24: NA | BQ24: Borrower intentionally not paying EMI.
A25: 204 | B25: West | C25: Maharashtra | D25: Pune | E25: Srirampur | F25: Srirampur | G25: MR3054 | H25: Igatpuri | I25: 129700 | J25: Igatpuri | K25: 129700 | L25: SF0103665 | M25: Mangesh Anil Davkhare | N25: 219280 | O25: 680815 | P25: 289374 | Q25: 1170482 | R25: Chetana | S25: SSF2800183 | T25: SSF2800183 | U25: GENERAL | V25: MUSLIM | W25: 541 | X25: Agarbathi Making | Y25: 351168173 | Z25: BUSHRA FARHAN KACHHI | AA25: 25-Mar-2023 | AB25: 33602 | AC25: 05 | AD25: 24 | AE25: 1 | AF25: 3.28 Yrs | AG25: 25 Mar 2023 | AH25: > 2 to 4 Years | AI25: 05-May-2023 | AJ25: 1949 | AK25: 1800 | AL25: 19-Mar-2025 | AM25: 31839.42 | AN25: 9709.58 | AO25: 41549 | AP25: 1762.58 | AQ25: 37.42 | AR25: 1800 | AS25: 1762.58 | AT25: 37.42 | AU25: 1800 | AV25: 39 | BB25: Open | BD25: 30-Sep-2025 | BE25: 33602 | BF25: SSF2800183 | BG25: 9307678419 | BH25: Sainath Gawade/SF0032842 | BI25: Visited | BJ25: 46210 | BK25: Borrower Available | BL25: Borrower | BM25: Not Available | BN25: NA | BQ25: Borrower intentionally not paying EMI.
A26: 205 | B26: West | C26: Maharashtra | D26: Pune | E26: Srirampur | F26: Srirampur | G26: MR3054 | H26: Igatpuri | I26: 132671 | J26: Vilholi | K26: 132671 | L26: SF0103665 | M26: Mangesh Anil Davkhare | N26: 400507 | O26: 693430 C9 | P26: 599288 | Q26: 693430 C9 Devlaligaon1 | R26: Chetana | S26: SSF3664461 | T26: SSF3664461 | U26: SC | V26: HINDU | W26: 541 | X26: Agriculture & Farming | Y26: 351211819 | Z26: USHA RAMAKANT TAYADE | AA26: 27-Mar-2023 | AB26: 36733 | AC26: 08 | AD26: 24 | AE26: 1 | AF26: 3.28 Yrs | AG26: 27 Mar 2023 | AH26: > 2 to 4 Years | AI26: 06-May-2023 | AJ26: 1521 | AK26: 2000 | AL26: 25-May-2024 | AM26: 17264.14 | AN26: 8256.86 | AO26: 25521 | AP26: 19468.86 | AQ26: 2531.14 | AR26: 22000 | AS26: 19468.86 | AT26: 2531.14 | AU26: 22000 | AV26: 39 | BB26: Open | BD26: 31-Dec-2024 | BE26: 36733 | BF26: SSF3664461 | BG26: 9370918864 | BH26: Sainath Gawade/SF0032842 | BI26: Visited | BJ26: 46210 | BK26: Borrower Available | BL26: Borrower | BM26: Not Available | BN26: NA | BQ26: Borrower intentionally not paying EMI.
A27: 206 | B27: West | C27: Maharashtra | D27: Pune | E27: Srirampur | F27: Srirampur | G27: MR3054 | H27: Igatpuri | I27: 167024 | J27: MU PIMPRI SADRODDIN | K27: 167024 | L27: SF0098605 | M27: Yejurvendra Bharatsing Kachave | N27: 392629 | O27: MU PIMPRI SADRODDIN C2 | P27: 583486 | Q27: MU PIMPRI SADRODDIN C2 dhamangav1 | R27: Chetana | S27: SSF3515511 | T27: SSF3515511 | U27: EBC | V27: HINDU | W27: 541 | X27: Agriculture & Farming | Y27: 351248501 | Z27: GANGABAI MADAN BORHADE | AA27: 28-Mar-2023 | AB27: 33402 | AC27: 03 | AD27: 24 | AE27: 1 | AF27: 3.28 Yrs | AG27: 28 Mar 2023 | AH27: > 2 to 4 Years | AI27: 09-May-2023 | AJ27: 1766 | AK27: 1800 | AL27: 25-Jan-2025 | AM27: 28216.56 | AN27: 9549.44 | AO27: 37766 | AP27: 5185.44 | AQ27: 214.56 | AR27: 5400 | AS27: 5185.44 | AT27: 214.56 | AU27: 5400 | AV27: 40 | BB27: Open | BD27: 30-Sep-2025 | BE27: 33402 | BF27: SSF3515511 | BG27: 9765419079 | BH27: Sainath Gawade/SF0032842 | BI27: Visited | BJ27: 46210 | BK27: Borrower Available | BL27: Borrower | BM27: Not Available | BN27: NA | BQ27: Borrower intentionally not paying EMI.
A28: 207 | B28: West | C28: Maharashtra | D28: Pune | E28: Srirampur | F28: Srirampur | G28: MR3054 | H28: Igatpuri | I28: 132671 | J28: Vilholi | K28: 132671 | L28: SF0103665 | M28: Mangesh Anil Davkhare | N28: 400507 | O28: 693430 C9 | P28: 599288 | Q28: 693430 C9 Devlaligaon1 | R28: Chetana | S28: SSF3702664 | T28: SSF3702664 | U28: ST | V28: HINDU | W28: 541 | X28: Agriculture & Farming | Y28: 351289492 | Z28: VIDYA VISHWAS KHADASE | AA28: 30-Mar-2023 | AB28: 36733 | AC28: 08 | AD28: 24 | AE28: 1 | AF28: 3.27 Yrs | AG28: 30 Mar 2023 | AH28: > 2 to 4 Years | AI28: 06-May-2023 | AJ28: 1445 | AK28: 2000 | AL28: 16-May-2024 | AM28: 17264.14 | AN28: 8180.86 | AO28: 25445 | AP28: 19468.86 | AQ28: 2531.14 | AR28: 22000 | AS28: 19468.86 | AT28: 2531.14 | AU28: 22000 | AV28: 39 | BB28: Open | BD28: 31-Dec-2024 | BE28: 36733 | BF28: SSF3702664 | BG28: 9011232490 | BH28: Sainath Gawade/SF0032842 | BI28: Visited | BJ28: 46210 | BK28: Borrower Available | BL28: Borrower | BM28: Not Available | BN28: NA | BQ28: Borrower intentionally not paying EMI.
A29: 208 | B29: West | C29: Maharashtra | D29: Pune | E29: Srirampur | F29: Srirampur | G29: MR3054 | H29: Igatpuri | I29: 132671 | J29: Vilholi | K29: 132671 | L29: SF0103665 | M29: Mangesh Anil Davkhare | N29: 400507 | O29: 693430 C9 | P29: 599288 | Q29: 693430 C9 Devlaligaon1 | R29: Chetana | S29: SSF3702682 | T29: SSF3702682 | U29: SC | V29: HINDU | W29: 541 | X29: Agriculture & Farming | Y29: 351289525 | Z29: ANITA ANIL SALVE | AA29: 30-Mar-2023 | AB29: 36733 | AC29: 08 | AD29: 24 | AE29: 1 | AF29: 3.27 Yrs | AG29: 30 Mar 2023 | AH29: > 2 to 4 Years | AI29: 06-May-2023 | AJ29: 1445 | AK29: 2000 | AL29: 30-May-2024 | AM29: 17264.14 | AN29: 8180.86 | AO29: 25445 | AP29: 19468.86 | AQ29: 2531.14 | AR29: 22000 | AS29: 19468.86 | AT29: 2531.14 | AU29: 22000 | AV29: 39 | BB29: Open | BD29: 31-Mar-2025 | BE29: 36733 | BF29: SSF3702682 | BG29: 9011445244 | BH29: Sainath Gawade/SF0032842 | BI29: Visited | BJ29: 46210 | BK29: Borrower Available | BL29: Borrower | BM29: Not Available | BN29: NA | BQ29: Borrower intentionally not paying EMI.
A30: 209 | B30: West | C30: Maharashtra | D30: Pune | E30: Srirampur | F30: Srirampur | G30: MR3054 | H30: Igatpuri | I30: 129915 | J30: Ghoti | K30: 129915 | L30: SF0103665 | M30: Mangesh Anil Davkhare | N30: 220267 | O30: 683565 | P30: 515755 | Q30: 683565 Ramravnagar1 | R30: Chetana | S30: SSF3681812 | T30: SSF3681812 | U30: OBC | V30: HINDU | W30: 541 | X30: Agriculture & Farming | Y30: 351335794 | Z30: JIJABAI MACHHINDRA KHARAT | AA30: 06-Apr-2023 | AB30: 36000 | AC30: 07 | AD30: 24 | AE30: 1 | AF30: 3.25 Yrs | AG30: 06 Apr 2023 | AH30: > 2 to 4 Years | AI30: 02-Jun-2023 | AJ30: 1950 | AK30: 1950 | AL30: 30-Apr-2025 | AM30: 30181.47 | AN30: 10768.53 | AO30: 40950 | AP30: 5818.53 | AQ30: 240.47 | AR30: 6059 | AS30: 5818.53 | AT30: 240.47 | AU30: 6059 | AV30: 38 | BB30: Open | BD30: 30-Jun-2025 | BE30: 36000 | BF30: SSF3681812 | BG30: 7507784615 | BH30: Sainath Gawade/SF0032842 | BI30: Visited | BJ30: 46210 | BK30: Borrower Available | BL30: Borrower | BM30: Not Available | BN30: NA | BQ30: Borrower intentionally not paying EMI.
A31: 210 | B31: West | C31: Maharashtra | D31: Pune | E31: Srirampur | F31: Srirampur | G31: MR3054 | H31: Igatpuri | I31: 129700 | J31: Igatpuri | K31: 129700 | L31: SF0098605 | M31: Yejurvendra Bharatsing Kachave | N31: 368321 | O31: 687118 C1 | P31: 534438 | Q31: 687118 C1 Gandhi Nagar Igatpuri1 | R31: Chetana | S31: SSF3743372 | T31: SSF3743372 | U31: EBC | V31: OTHERS | W31: 541 | X31: Agriculture & Farming | Y31: 351368307 | Z31: MANGALA MILIND UJAGARE | AA31: 12-Apr-2023 | AB31: 37000 | AC31: 05 | AD31: 24 | AE31: 1 | AF31: 3.24 Yrs | AG31: 12 Apr 2023 | AH31: > 2 to 4 Years | AI31: 09-Jun-2023 | AJ31: 2000 | AK31: 2000 | AL31: 26-Sep-2023 | AM31: 4311.73 | AN31: 3688.27 | AO31: 8000 | AP31: 32688.27 | AQ31: 7694.73 | AR31: 40383 | AS31: 32688.27 | AT31: 7694.73 | AU31: 40383 | AV31: 38 | BB31: Open | BD31: 31-Dec-2024 | BE31: 37000 | BF31: SSF3743372 | BG31: 8390786263 | BH31: Sainath Gawade/SF0032842 | BI31: Visited | BJ31: 46210 | BK31: Borrower Available | BL31: Borrower | BM31: Not Available | BN31: NA | BQ31: Borrower intentionally not paying EMI.
A32: 211 | B32: West | C32: Maharashtra | D32: Pune | E32: Srirampur | F32: Srirampur | G32: MR3054 | H32: Igatpuri | I32: 132671 | J32: Vilholi | K32: 132671 | L32: SF0103665 | M32: Mangesh Anil Davkhare | N32: 403112 | O32: 693430 C12 | P32: 605616 | Q32: 693430 C12 Rambai Abedkar Nagar1 | R32: Chetana | S32: SSF3752319 | T32: SSF3752319 | U32: EBC | V32: HINDU | W32: 541 | X32: Agriculture & Farming | Y32: 351384354 | Z32: SANGEETA MADHAV SURVE | AA32: 14-Apr-2023 | AB32: 37000 | AC32: 08 | AD32: 24 | AE32: 1 | AF32: 3.23 Yrs | AG32: 14 Apr 2023 | AH32: > 2 to 4 Years | AI32: 06-Jun-2023 | AJ32: 2000 | AK32: 2000 | AL32: 27-Jun-2024 | AM32: 17380.33 | AN32: 8619.67 | AO32: 26000 | AP32: 19619.67 | AQ32: 2559.33 | AR32: 22179 | AS32: 19619.67 | AT32: 2559.33 | AU32: 22179 | AV32: 38 | BB32: Open | BD32: 31-Dec-2024 | BE32: 37000 | BF32: SSF3752319 | BG32: 9623502951 | BH32: Sainath Gawade/SF0032842 | BI32: Visited | BJ32: 46210 | BK32: Borrower Available | BL32: Borrower | BM32: Not Available | BN32: NA | BQ32: Borrower intentionally not paying EMI.
A33: 215 | B33: West | C33: Maharashtra | D33: Pune | E33: Srirampur | F33: Srirampur | G33: MR3054 | H33: Igatpuri | I33: 129565 | J33: Ghoti | K33: 129565 | L33: SF0103665 | M33: Mangesh Anil Davkhare | N33: 356254 | O33: 692157 C1 | P33: 508243 | Q33: 692157 C1 Ramrav Nagar1 | R33: Unnati | S33: SSF2881247 | T33: SSF2881247 | U33: OBC | V33: HINDU | W33: 541 | X33: Agriculture & Farming | Y33: 351463118 | Z33: VAISHALI SAGAR KADU | AA33: 25-Apr-2023 | AB33: 21000 | AC33: 07 | AD33: 18 | AE33: 0 | AF33: 3.72 Yrs | AG33: 17 Oct 2022 | AH33: > 2 to 4 Years | AI33: 02-Jun-2023 | AJ33: 1420 | AK33: 1420 | AL33: 04-Sep-2023 | AM33: 3929.43 | AN33: 1750.57 | AO33: 5680 | AP33: 17070.57 | AQ33: 2786.43 | AR33: 19857 | AS33: 17070.57 | AT33: 2786.43 | AU33: 19857 | AV33: 38 | BB33: Open | BD33: 31-Dec-2024 | BE33: 21000 | BF33: SSF2881247 | BG33: 8605918874 | BH33: Sainath Gawade/SF0032842 | BI33: Visited | BJ33: 46211 | BK33: Borrower Not Available | BL33: Other Borrower | BM33: Not Available | BN33: NA | BQ33: Borrower & Loan card not available during CLV
A34: 430 | B34: West | C34: Maharashtra | D34: Pune | E34: Srirampur | F34: Srirampur | G34: MR3054 | H34: Igatpuri | I34: 132671 | J34: Vilholi | K34: 132671 | L34: SF0103665 | M34: Mangesh Anil Davkhare | N34: 396372 | O34: 693430 C7 | P34: 590940 | Q34: 693430 C7 Moray1 | R34: Chetana | S34: SSF3602517 | T34: SSF3602517 | U34: SC | V34: HINDU | W34: 0 | X34: Agriculture & Farming | Y34: 357757496 | Z34: MEENA DEVIDAS BHALERAO | AA34: 01-Jul-2024 | AB34: 65000 | AC34: 08 | AD34: 24 | AE34: GL-2 | AF34: 3.30 Yrs | AG34: 21 Mar 2023 | AH34: > 2 to 4 Years | AI34: 01-Aug-2024 | AJ34: 3470 | AK34: 3470 | AL34: 06-Apr-2025 | AM34: 20549.59 | AN34: 10680.41 | AO34: 31230 | AP34: 44450.41 | AQ34: 7837.59 | AR34: 52288 | AS34: 44450.41 | AT34: 7837.59 | AU34: 52288 | AV34: 24 | BB34: Open | BE34: 0 | BF34: SSF3602517 | BG34: 7709421916 | BH34: Sainath Gawade/SF0032842 | BI34: Visited | BJ34: 46211 | BK34: Borrower Not Available | BL34: Other Borrower | BM34: Not Available | BN34: NA | BQ34: Borrower & Loan card not available during CLV
A35: 703 | B35: West | C35: Maharashtra | D35: Pune | E35: Srirampur | F35: Srirampur | G35: MR3054 | H35: Igatpuri | I35: 239594 | J35: Khambale | K35: 239594 | L35: SF0103665 | M35: Mangesh Anil Davkhare | N35: 226035 | O35: 700059 | P35: 510565 | Q35: 700059 Rajwada1 | R35: Chetana | S35: SSF3520036 | T35: SSF3520036 | U35: SC | V35: HINDU | W35: 0 | X35: Agriculture & Farming | Y35: 359808209 | Z35: LALITA BHAGAVAN JAGATAP | AA35: 24-Oct-2025 | AB35: 98000 | AC35: 06 | AD35: 24 | AE35: GL-2 | AF35: 3.33 Yrs | AG35: 08 Mar 2023 | AH35: > 2 to 4 Years | AI35: 06-Nov-2025 | AJ35: 5230 | AK35: 5230 | AL35: 06-Jul-2026 | AM35: 32435.51 | AN35: 14404.49 | AO35: 46840 | AP35: 65564.49 | AQ35: 11185.51 | AR35: 76750 | AS35: 230 | AT35: 0 | AU35: 230 | AV35: 9 | BB35: Open | BE35: 0 | BF35: SSF3520036 | BG35: 9028166082 | BH35: Sainath Gawade/SF0032842 | BI35: Visited | BJ35: 46210 | BK35: Borrower Available | BL35: Borrower | BM35: Available | BN35: No | BQ35: As per loan card there is no issue
A36: 820 | B36: West | C36: Maharashtra | D36: Pune | E36: Srirampur | F36: Srirampur | G36: MR3054 | H36: Igatpuri | I36: 129700 | J36: Igatpuri | K36: 129700 | L36: SF0103665 | M36: Mangesh Anil Davkhare | N36: 219555 | O36: 682293 | P36: 289736 | Q36: 1174944 | R36: Chetana | S36: SMH0000006877945 | T36: SMH0000006877945 | U36: OBC | V36: HINDU | W36: 0 | X36: Agriculture & Farming | Y36: 360189659 | Z36: GAURI RAMESH HADAP | AA36: 12-Feb-2026 | AB36: 50000 | AC36: 05 | AD36: 24 | AE36: GL-1 | AF36: 0.39 Yrs | AG36: 12 Feb 2026 | AH36: <= 2 Years | AI36: 05-Mar-2026 | AJ36: 2690 | AK36: 2690 | AL36: 05-Jul-2026 | AM36: 8061.34 | AN36: 4708.66 | AO36: 12770 | AP36: 41938.66 | AQ36: 9475.34 | AR36: 51414 | AS36: 680 | AT36: 0 | AU36: 680 | AV36: 5 | BB36: Open | BE36: 0 | BF36: SMH0000006877945 | BG36: 9225782197 | BH36: Sainath Gawade/SF0032842 | BI36: Visited | BJ36: 46211 | BK36: Borrower Not Available | BL36: Other Borrower | BM36: Not Available | BN36: NA | BQ36: Borrower & Loan card not available during CLV
A37: 577 | B37: West | C37: Maharashtra | D37: Pune | E37: Srirampur | F37: Srirampur | G37: MR3054 | H37: Igatpuri | I37: 133362 | J37: Ambebahula | K37: 133362 | L37: SF0098605 | M37: Yejurvendra Bharatsing Kachave | N37: 353887 | O37: 696923 C1 | P37: 503182 | Q37: 696923 C1 Ambebahula1 | R37: Chetana | S37: SSF3961032 | T37: SSF3961032 | U37: SC | V37: HINDU | W37: 0 | X37: Agriculture & Farming | Y37: 358790587 | Z37: PUJA RANGNATH KALE | AA37: 09-Nov-2024 | AB37: 65000 | AC37: 08 | AD37: 24 | AE37: GL-2 | AF37: 3.06 Yrs | AG37: 14 Jun 2023 | AH37: > 2 to 4 Years | AI37: 06-Dec-2024 | AJ37: 3460 | AK37: 3460 | AL37: 13-Jun-2026 | AM37: 48927.51 | AN37: 16812.49 | AO37: 65740 | AP37: 16072.49 | AQ37: 1003.51 | AR37: 17076 | AS37: 0 | AT37: 0 | AU37: 0 | AV37: 19 | BB37: Open | BE37: 0 | BF37: SSF3961032 | BG37: 9529662890 | BH37: Sainath Gawade/SF0032842 | BI37: Visited | BJ37: 46211 | BK37: Borrower Available | BL37: Borrower | BM37: Available | BN37: Yes | BO37: 3470 | BP37: Digital Payment | BQ37: As per Digital payment reciept Borrower Puja Rangnath Kale/358790587 was paid EMI of Rs 3470/- on 11 April 2026 to BM Karan Gopal/SF0051296 but BM not accounted in FIMO. Thereafter IA team was find out the same on 16 April 2026 then BM Gopal accounted Rs3460/- on borrower account in FIMO on 16th April 2026, & Remaining Rs 10 returned to borrower through PhonePe on 14th July 2026.
