Workbook
Name A: 'Backup sheet'!$D$2
Name ab: 'Backup sheet'!$E$3:$E$4
Name AE: 'Backup sheet'!$H$2
Name AOE: 'Backup sheet'!$I$2:$I$8
Name B: 'Backup sheet'!$D$3
Name BL: 'Backup sheet'!$J$2
Name BND: 'Backup sheet'!$D$4:$D$6
Name BOB: 'Backup sheet'!$E$3:$E$5
Name BS: 'Backup sheet'!$E$5
Name BWS: 'Backup sheet'!$I$9
Name CSOD: 'Backup sheet'!$F$2:$F$5
Name D: 'Backup sheet'!$D:$D
Name DCD: 'Backup sheet'!$I$3:$I$8
Name DD: 'Backup sheet'!$D$4
Name Default: 'Backup sheet'!$K$2
Name EE: 'Backup sheet'!$D$5
Name FF: 'Backup sheet'!$D$6
Name gf: #REF!
Name JJ: 'Backup sheet'!$E$2
Name KK: 'Backup sheet'!$E$3
Name LC: 'Backup sheet'!$H$2:$H$3
Name LDC: 'Backup sheet'!$I$2:$I$9
Name LL: 'Backup sheet'!$E$4
Name MBW: 'Backup sheet'!$I$3:$I$9
Name MM: 'Backup sheet'!$E$6
Name MMM: 'Backup sheet'!$B$4
Name NA: 'Backup sheet'!$J$4
Name NL: 'Backup sheet'!$H$3
Name NN: 'Backup sheet'!$E$7
Name OB: 'Backup sheet'!$E$4:$E$5
Name OO: 'Backup sheet'!$E$8
Name s: #REF!
Name SSS: 'Backup sheet'!$G$2:$G$3
Name tcs: 'Backup sheet'!$B$3
Name Type: 'Backup sheet'!$A$2:$A$6
Name vv: 'Backup sheet'!$B$2
Name YNN: 'Backup sheet'!$J$2:$J$4

Sheet Backup sheet
A1: FIA - Type of Compliant | B1: IA Visit/Tele Call Verification Status | C1: If Tele Call Not Success | D1: Availability of Borrower | E1: Confirmed By | F1: Cash Siphoned Off Details (Drop Down) | G1: If TeleCall Success | H1: Loan Card | I1: Availability of Evidence
A2: Collection Amount Misappropriated | B2: Visited | C2: Invalid Number | D2: Borrower Available | E2: Borrower | F2: Safe Locker Cash Siphoned Off | G2: Borrower | H2: Available | I2: Loan Card | J2: Yes
A3: Pre-Closure Amount Misappropriated | B3: Tele Call Success | C3: Incoming Facility Barred | D3: Borrower Not Available | E3: Borrower Family Member | F3: Collection Entry done in FIMO without Collecting Amount from Borrower - Borrower Details Available | G3: Borrower Family Member | H3: Not Available | I3: Digital Payment | J3: No
A4: Disbursed Amount Recollected | B4: Tele Call Not Success | C4: No Answer | D4: Borrower Not Traceable | E4: Other Borrower | F4: Collection Entry done in FIMO without Collecting Amount from Borrower - Borrower Details Not Available | I4: Cash Receipt | J4: NA
A5: Advance Collection Amount Misappropriated | C5: Out of Coverage Area | D5: Borrower-Migrated | E5: Branch Staff | F5: Collection Entry done in FIMO without Collecting Amount from Borrower - Borrower Details Partial Available | I5: Delinquent Staff Written Statement
A6: Loan Amount Misappropriation | C6: Other Member | D6: Borrower Death | E6: Borrower Migrated | I6: Center Meeting Register
C7: Staff Mobile Number | E7: Borrower Not Treceable | I7: Handwritten Receipt
C8: Switched Off | E8: Borrower Death | I8: Multiple Evidence
C9: Wrong Number | I9: Borrower Written Statement

Sheet Fraud Investigation Report
A1: Spandana Sphoorty Financial Limited
A2: Fraud Risk Management Department
A3: Fraud Investigation Report Tracker Version 1.2
A4: Sr. No. | B4: Financial Year/Quarter (Formula) | C4: Branch Code (Formula) | D4: Branch Name (Formula) | E4: State (Formula) | F4: Region (Formula) | G4: Date of Identification (DD-MMM-YY) | H4: Identified by (IA/Business/HR/IT etc) (Drop Down) | I4: Date of Complaint Raised (DD-MMM-YY) | J4: Compliant Number (Formula) | K4: Initial No. of Borrowers Identified | L4: Preliminary Fraud Amount | M4: Preliminary Fraud Amount Recovered | N4: AH Name/ID | O4: RH Name/ID | P4: SH Name/ID | Q4: CBO/DCBO Name/ID | R4: Name of the Staff Involved (Formula) | S4: Employee Designation (Formula) | T4: Employee Code (Formula) | U4: Employee Current Status (Drop Down) | V4: Date, if Employee not available/not working (DD-MMM-YY) | W4: Type of Compliant (Formula) | X4: Multiple Complaints If any (Formula) | Y4: Fraud Investigation Status (Drop Down) | Z4: Start Date of Fraud Investigation (DD-MMM-YY) | AA4: End Date of Fraud Investigation (DD-MMM-YY) | AB4: Veification done by AH Name | AC4: Veification done by AH Emp Id | AD4: Number of borrowers verified by AH | AE4: Investigation done by IO Name | AF4: Investigation done by IO Emp ID | AG4: Number of borrowers verified by IO | AH4: Total No. of Borrowers Verified (Formula) | AI4: Total Fraud Amount (Post Investigation) (Formula) | AJ4: Total Amount Accounted (Amount updated in FIMO during Verification) (On or before Fraud Investigation) (Formula) | AK4: Total Amount Recovered (Amount Recovred from staff during FI) (On or before Fraud Investigation) (Formula) | AL4: Balance Net Fraud Amount to recover (Formula) | AM4: Total number of Borrowers Affected (Formula) | AN4: Investigation Report Submitted Date (DD-MMM-YY) | AO4: Investigation Officer Observations & Remarks
A5: 1 | B5: =IF(I5="", "", IF(MONTH(I5)>=4, "Q" & ROUNDUP((MONTH(I5)-3)/3,0) & " " & YEAR(I5)-2000 & "-" & YEAR(I5)-1999, "Q" & ROUNDUP((MONTH(I5)+9)/3,0) & " " & YEAR(I5)-2001 & "-" & YEAR(I5)-2000)) -> Q2 26-27 | C5: =IF('Physical Cash at Safe'!D28="Yes", 'Physical Cash at Safe'!B4, 'Borrower Wise Details'!B5) -> JH2921 | D5: =IF('Physical Cash at Safe'!D28="Yes", 'Physical Cash at Safe'!A4, 'Borrower Wise Details'!C5) -> Tandwa | E5: =IF(D5="", "", IF(ISBLANK('Loan Outstanding Report'!B5), IF('Physical Cash at Safe'!D28="Yes", 'Physical Cash at Safe'!A6, ""), 'Loan Outstanding Report'!B5)) -> East | F5: =IF(D5="", "", IF(ISBLANK('Loan Outstanding Report'!C5), IF('Physical Cash at Safe'!D28="Yes", 'Physical Cash at Safe'!E4, ""), 'Loan Outstanding Report'!C5)) -> Jharkhand | G5: 46190 | H5: CSS | I5: 46206 | J5: =IF('Physical Cash at Safe'!D28="Yes",'Physical Cash at Safe'!E28,IF('Borrower Wise Details'!D5<>"",'Borrower Wise Details'!D5,"")) -> FN26-27-00901 | K5: 1 | L5: 14164 | M5: 0 | N5: Md. Saquib Alam/SF0035810 | O5: Sumit Kumar Bundela/SF0088927 | P5: Ashutosh/SF0103572 | Q5: Deepak Kujur/SF0101649 | R5: =IF('Physical Cash at Safe'!$D$28="Yes", 'Physical Cash at Safe'!$A$28, IF('Borrower Wise Details'!F5<>"", 'Borrower Wise Details'!F5, "")) -> Rishu Kumar | S5: =IF('Physical Cash at Safe'!$D$28="Yes", 'Physical Cash at Safe'!$C$28, IF('Borrower Wise Details'!H5<>"", 'Borrower Wise Details'!H5, "")) -> Loan Officer | T5: =IF('Physical Cash at Safe'!$D$28="Yes", 'Physical Cash at Safe'!$B$28, IF('Borrower Wise Details'!G5<>"", 'Borrower Wise Details'!G5, "")) -> SF0070752 | U5: Terminated | V5: 46379 | W5: =IF('Physical Cash at Safe'!$D$28="Yes", "Safe Locker Cash Siphoned Off", IF('Borrower Wise Details'!$P$5<>"",'Borrower Wise Details'!$P$5,"") ) -> Collection Amount Misappropriated | X5: {=IF('Borrower Wise Details'!P5="","", IF('Physical Cash at Safe'!$D$28="Yes", IF(COUNT('Borrower Wise Details'!$P$5:$P$1003)<>"", IFERROR( _xlfn.TEXTJOIN("/",TRUE,_xlfn.UNIQUE(_xlfn._xlws.FILTER('Borrower Wise Details'!$P$5:$P$1003,'Borrower Wise Details'!$P$5:$P$1003<>""))), "" ), "" ), IF(COUNT('Borrower Wise Details'!$P$5:$P$1003)<>"", IFERROR( _xlfn.TEXTJOIN("/",TRUE,_xlfn.UNIQUE(_xlfn._xlws.FILTER('Borrower Wise Details'!$P$5:$P$1003,('Borrower Wise Details'!$P$5:$P$1003<>"")*('Borrower Wise Details'!$P$5:$P$1003<>INDEX(_xlfn._xlws.FILTER('Borrower Wise Details'!$P$5:$P$1003,'Borrower Wise Details'!$P$5:$P$1003<>""),1))))), "" ), "" ) ) )} | Y5: Completed-Report Submitted | Z5: 46223 | AA5: 46227 | AB5: Md.Saquib Alam | AC5: SF0035810 | AD5: 29 | AE5: Ajay Kumar Das | AF5: SF0056026 | AG5: 19 | AH5: {=IF(COUNTA('Loan Outstanding Report'!$BI$5:$BI$6000)=0,"",SUMPRODUCT(--(FREQUENCY(IF('Loan Outstanding Report'!$BI$5:$BI$6000<>"",MATCH('Loan Outstanding Report'!$S$5:$S$6000,'Loan Outstanding Report'!$S$5:$S$6000,0)),ROW('Loan Outstanding Report'!$S$5:$S$6000)-ROW('Loan Outstanding Report'!S5)+1)>0)))} -> 48 | AI5: {=IF(COUNTA('Borrower Wise Details'!$R$5:$R$1003)=0, "", IF('Physical Cash at Safe'!$D$28="Yes", 'Physical Cash at Safe'!$A$30 + SUM(SUMIFS('Borrower Wise Details'!$R$5:$R$1003, 'Borrower Wise Details'!$P$5:$P$1003, {"Collection Amount Misappropriated","Pre-Closure Amount Misappropriated","Disbursed Amount Recollected","Advance Collection Amount Misappropriated","Loan Amount Misappropriation"})), SUM(SUMIFS('Borrower Wise Details'!$R$5:$R$1003, 'Borrower Wise Details'!$P$5:$P$1003, {"Collection Amount Misappropriated","Pre-Closure Amount Misappropriated","Disbursed Amount Recollected","Advance Collection Amount Misappropriated","Loan Amount Misappropriation"})) ) )} -> 33576 | AJ5: {=IF(COUNTA('Borrower Wise Details'!$S$5:$S$1003)=0, "", IF('Physical Cash at Safe'!$D$28="Yes", 'Physical Cash at Safe'!$A$30 + SUM(SUMIFS('Borrower Wise Details'!$T$5:$T$1003, 'Borrower Wise Details'!$P$5:$P$1003, {"Collection Amount Misappropriated","Pre-Closure Amount Misappropriated","Disbursed Amount Recollected","Advance Collection Amount Misappropriated","Loan Amount Misappropriation"})), SUM(SUMIFS('Borrower Wise Details'!$S$5:$S$1003, 'Borrower Wise Details'!$P$5:$P$1003, {"Collection Amount Misappropriated","Pre-Closure Amount Misappropriated","Disbursed Amount Recollected","Advance Collection Amount Misappropriated","Loan Amount Misappropriation"})) ) )} -> 0 | AK5: {=IF(COUNTA('Borrower Wise Details'!$T$5:$T$1003)=0, "", IF('Physical Cash at Safe'!$D$28="Yes", 'Physical Cash at Safe'!$A$30 + SUM(SUMIFS('Borrower Wise Details'!$T$5:$T$1003, 'Borrower Wise Details'!$P$5:$P$1003, {"Collection Amount Misappropriated","Pre-Closure Amount Misappropriated","Disbursed Amount Recollected","Advance Collection Amount Misappropriated","Loan Amount Misappropriation"})), SUM(SUMIFS('Borrower Wise Details'!$T$5:$T$1003, 'Borrower Wise Details'!$P$5:$P$1003, {"Collection Amount Misappropriated","Pre-Closure Amount Misappropriated","Disbursed Amount Recollected","Advance Collection Amount Misappropriated","Loan Amount Misappropriation"})) ) )} -> 0 | AL5: =IFERROR(IF(COUNTA(AI:AK5)=0,"",AI5-(AJ5+AK5)),"") -> 33576 | AM5: {=IF(COUNTA('Borrower Wise Details'!$J$5:$J$1003)=0,"", SUMPRODUCT(--(FREQUENCY( IF(('Borrower Wise Details'!$J$5:$J$1003<>""),IF(ISNUMBER(SEARCH({"Collection Amount Misappropriated","Pre-Closure Amount Misappropriated","Disbursed Amount Recollected","Advance Collection Amount Misappropriated","Loan Amount Misappropriation"},'Borrower Wise Details'!$P$5:$P$1003)),MATCH('Borrower Wise Details'!$J$5:$J$1003,'Borrower Wise Details'!$J$5:$J$1003,0))), ROW('Borrower Wise Details'!$J$5:$J$1003)-ROW('Borrower Wise Details'!$J$5)+1)>0)))} -> 3 | AN5: 46255 | AO5: During the CLV, The Loan Officer- Rishu Kumar/SF0070752 had embezzled Rs. 33576/- from the 03 borrowers' EMI collected amount and out of that Rs. 0/- accounted in FIMO as EMI basis. Now, a total of Rs.33576 /- is yet to be recovered from him.

Sheet Cash Embezzelment
A1: Spandana Sphoorty Financial Limited
A2: Fraud Risk Management Department
A3: Cash Embezzlement by Branch Staff | H3: Type of Fraud Amount
A4: Sr. No. | B4: Branch ID (Formula) | C4: Branch Name (Formula) | D4: Fradulent Staff Name (Formula) | E4: Fradulent Staff Emp ID (Formula) | F4: Fraudulent Staff Designation (Formula) | G4: Complaint Number (Formula) | H4: Safe Locker Cash Siphoned Off (Formula) | I4: Collection Amount Misappropriated (Formula) | J4: Pre-Closure Amount Misappropriated (Formula) | K4: Disbursed Amount Recollected (Formula) | L4: Advance Collection Amount Misappropriated (Formula) | M4: Loan Amount Misappropriation (Formula) | N4: Total Fraud Amount (Formula) | O4: Recovery Amount (Formula) | P4: Net Fraud Amount (Formula) | Q4: Fraud details of CDL Product (If Any) | R4: Police Complant/FIR Status (Drop Down)
A5: 1 | B5: =IF('Fraud Investigation Report'!C5="", "", 'Fraud Investigation Report'!C5) -> JH2921 | C5: =IF('Fraud Investigation Report'!D5="", "", 'Fraud Investigation Report'!D5) -> Tandwa | D5: =IF(OR('Fraud Investigation Report'!R5="", 'Fraud Investigation Report'!R5=0), "", 'Fraud Investigation Report'!R5) -> Rishu Kumar | E5: =IF(OR('Fraud Investigation Report'!T5="", 'Fraud Investigation Report'!T5=0), "", 'Fraud Investigation Report'!T5) -> SF0070752 | F5: =IF(OR('Fraud Investigation Report'!S5="", 'Fraud Investigation Report'!S5=0), "", 'Fraud Investigation Report'!S5) -> Loan Officer | G5: =IF('Fraud Investigation Report'!J5="", "", 'Fraud Investigation Report'!J5) -> FN26-27-00901 | H5: =IF(OR(ISNUMBER(SEARCH("Safe Locker Cash Siphoned Off",'Fraud Investigation Report'!W5)), ISNUMBER(SEARCH("Safe Locker Cash Siphoned Off",'Fraud Investigation Report'!X5))), 'Physical Cash at Safe'!$A$30, "") | I5: =IF(OR(ISNUMBER(SEARCH("Collection Amount Misappropriated",'Fraud Investigation Report'!W5)), ISNUMBER(SEARCH("Collection Amount Misappropriated",'Fraud Investigation Report'!X5))), SUMIFS('Borrower Wise Details'!$R$5:$R$1003, 'Borrower Wise Details'!$P$5:$P$1003, "Collection Amount Misappropriated"), "" ) -> 33576 | J5: =IF(OR(ISNUMBER(SEARCH("Pre-Closure Amount Misappropriated",'Fraud Investigation Report'!W5)), ISNUMBER(SEARCH("Pre-Closure Amount Misappropriated",'Fraud Investigation Report'!X5))), SUMIFS('Borrower Wise Details'!$R$5:$R$1003, 'Borrower Wise Details'!$P$5:$P$1003, "Pre-Closure Amount Misappropriated"), "" ) | K5: =IF(OR(ISNUMBER(SEARCH("Disbursed Amount Recollected",'Fraud Investigation Report'!W5)), ISNUMBER(SEARCH("Disbursed Amount Recollected",'Fraud Investigation Report'!X5))), SUMIFS('Borrower Wise Details'!$R$5:$R$1003, 'Borrower Wise Details'!$P$5:$P$1003, "Disbursed Amount Recollected"), "" ) | L5: =IF(OR(ISNUMBER(SEARCH("Advance Collection Amount Misappropriated",'Fraud Investigation Report'!W5)),ISNUMBER(SEARCH("Advance Collection Amount Misappropriated",'Fraud Investigation Report'!X5))), SUMIFS('Borrower Wise Details'!$R$5:$R$1003,'Borrower Wise Details'!$P$5:$P$1003,"Advance Collection Amount Misappropriated"), "" ) | M5: =IF(OR(ISNUMBER(SEARCH("Loan Amount Misappropriation",'Fraud Investigation Report'!W5)), ISNUMBER(SEARCH("Loan Amount Misappropriation",'Fraud Investigation Report'!X5))), SUMIFS('Borrower Wise Details'!$R$5:$R$1003, 'Borrower Wise Details'!$P$5:$P$1003, "Loan Amount Misappropriation"), "" ) | N5: =SUM(H5:M5) -> 33576 | O5: =IFERROR('Fraud Investigation Report'!AJ5+'Fraud Investigation Report'!AK5,"") -> 0 | P5: =IF(AND(N5="", O5=""), "", IF(O5="", N5, N5 - IF(ISNUMBER(O5), O5, 0))) -> 33576 | R5: Complaint Lodged

Sheet Physical Cash at Safe
A1: Spandana Sphoorty Financial Limited
B2: Fraud Risk Management Department
A3: Branch Code | B3: Branch Name | C3: Area | D3: Region | E3: Zone
A4: JH2921 | B4: Tandwa | C4: Hazaribagh | D4: Ranchi | E4: East
A5: State | B5: FIMO Opening Balance Date (DD-MMM-YY) | C5: Denomination Register Date (DD-MMM-YY) | D5: Date of Verification (DD-MMM-YY) | E5: Time of Verification (24 Hrs.) (HH:MM)
A6: Jharkhand | B6: 46225 | C6: 46224 | D6: 46224 | E6: 0.91666667
A7: Physical Cash Verification Certificate
A8: Note Denomination | B8: Cash as per FIMO | D8: Cash as per Physical Verification
B9: Number | C9: Amount (Rs.) | D9: Number | E9: Amount (Rs.)
A10: 2000 | C10: =B10*A10 -> 0 | E10: =D10*A10 -> 0
A11: 500 | B11: 58 | C11: =B11*A11 -> 29000 | D11: 58 | E11: =D11*A11 -> 29000
A12: 200 | B12: 10 | C12: =B12*A12 -> 2000 | D12: 10 | E12: =D12*A12 -> 2000
A13: 100 | C13: =B13*A13 -> 0 | E13: =D13*A13 -> 0
A14: 50 | B14: 201 | C14: =B14*A14 -> 10050 | D14: 201 | E14: =D14*A14 -> 10050
A15: 20 | C15: =B15*A15 -> 0 | E15: =D15*A15 -> 0
A16: 10 | C16: =B16*A16 -> 0 | E16: =D16*A16 -> 0
A17: 5 | C17: =B17*A17 -> 0 | E17: =D17*A17 -> 0
A18: All Coins | B18: 10 | C18: =B18 -> 10 | D18: 10 | E18: =D18 -> 10
B19: Total | C19: =SUM(C10:C18) -> 41060 | D19: Total | E19: =SUM(E10:E18) -> 41060
A20: Denomination Register Opening Cash Balance | C20: 0 | D20: Petty Expenses
A21: Collection Amount | D21: Bank Deposit Amount
A22: Counter Fiet Notes (If Any) Mention Denomination in Remarks | D22: Availability of Deposit Slip (Drop Down)
A23: Difference (Excess/Short) | C23: =(C19+C21)-(E20+E21)-E19 -> 0 | D23: Digital payment in Branch staff personal a/c Amount
A24: Investigation Officer Remarks for the Differences
A25: Explanation provided by Branch Manager
A26: Physical Cash Siphoned Off Details
A27: Cash Siphoned Off by EMP Name | B27: Cash Siphoned Off by Emp ID | C27: Cash Siphoned Off by Emp Designation | D27: Cash Siphoned Off (Drop Down) | E27: Complaint Number
D28: No
A29: Cash Siphoned Off Amount (Gross Fraud) | B29: Recovery Amount | C29: Cash Siphoned Off Amount (Net Fraud) | D29: Cash Siphoned Off Details (Drop Down)
C30: =IF(AND(A30="",B30=""),"",A30-B30)
A32: Safe Keys Handled by (Drop Down) | B32: Dual Staff | C32: Updation of Key Register (Drop Down) | D32: Available & Updated
A33: "Right" Key Number | B33: G1 | C33: "Left" Key Number | D33: G2
A34: "Right" Key Holder Name (Physical) | B34: Bablu Sharma | C34: "Left" Key Holder Name (Physical) | D34: Deepak Kumar
A35: "Right" Key Holder Emp ID (Physical) | B35: SF0096994 | C35: "Left" Key Holder Emp ID (Physical) | D35: SF0072636
A36: "Right" Key Holder Designation (Physical) | B36: Senior Branch Manager | C36: "Left" Key Holder Designation (Physical) | D36: Credit Assistant

Sheet Borrower Wise Details
A1: Spandana Sphoorty Financial Limited
A2: Fraud Risk Management Department
A3: Borrower Wise Details Ver 1.2 | E3: Home | F3: Loan O/s Report | U3: Home | V3: Loan O/s Report
A4: Sr. No. | B4: Branch Code (Formula) | C4: Branch Name (Formula) | D4: Complaint No. (Formula from 2 row) | E4: Date of IO Visit (DD/MMM/YY) | F4: Fradulent Staff Name (Formula from 2 row) | G4: Fradulent Staff Emp. ID (Formula from 2 row) | H4: Fraudulent Staff Designation (Formula from 2 row) | I4: Center Number | J4: Customer ID | K4: Borrower Name | L4: Loan ID | M4: Date of Disbursement as per FIMO (DD/MM/YY) | N4: Disbursed Amount as per FIMO | O4: Installment Amount as per FIMO | P4: Type of Amount Collected (Drop Down) | Q4: Date of Collection (DD/MM/YY) | R4: Total Amount Collected (Gross Fraud) | S4: Amount Adjusted & Accounted in FIMO | T4: Amount Recovered But "Not" Accounted in FIMO | U4: Difference Amount (Net Fraud) (Formula) | V4: Availability of Evidence | W4: Remarks (If Applicable)
A5: 1 | B5: =IF('Loan Outstanding Report'!$G$5="", "", 'Loan Outstanding Report'!$G$5) -> JH2921 | C5: =IF('Loan Outstanding Report'!$H$5="", "", 'Loan Outstanding Report'!$H$5) -> Tandwa | D5: FN26-27-00901 | E5: 46225 | F5: Rishu Kumar | G5: SF0070752 | H5: Loan Officer | I5: 628545 | J5: SSF2350921 | K5: NURJAHAN KHATOON | L5: 354353764 | M5: 45288 | N5: 52000 | O5: 2780 | P5: Collection Amount Misappropriated | Q5: 45447 | R5: 2780 | S5: 0 | T5: 0 | U5: =IF(AND(ISBLANK(R5),ISBLANK(S5),ISBLANK(T5)),"",R5-(S5+T5)) -> 2780 | V5: Loan Card | W5: As per loan card emi fraud done by LO- Rishu Kumar/SF0070752 he collected emi from borrower Nurjahan Khatoon amount of rs.2780 on 04-jun-2024 but collected amount not posted in fimo.
A6: 2 | B6: =IF(J6<>"", $B$5, "") -> JH2921 | C6: =IF(J6<>"", $C$5, "") -> Tandwa | D6: =IF(J6<>"", $D$5, "") -> FN26-27-00901 | E6: 46225 | F6: =IF(J6<>"", $F$5, "") -> Rishu Kumar | G6: =IF(J6<>"", $G$5, "") -> SF0070752 | H6: =IF(J6<>"", $H$5, "") -> Loan Officer | I6: 628545 | J6: SSF2350921 | K6: NURJAHAN KHATOON | L6: 354353764 | M6: 45288 | N6: 52000 | O6: 2780 | P6: Collection Amount Misappropriated | Q6: 45475 | R6: 2780 | S6: 0 | T6: 0 | U6: =IF(AND(ISBLANK(R6),ISBLANK(S6),ISBLANK(T6)),"",R6-(S6+T6)) -> 2780 | V6: Loan Card | W6: As per loan card emi fraud done by LO- Rishu Kumar/SF0070752 he collected emi from borrower Nurjahan Khatoon amount of rs.2780 on 02-Jul-24 but collected amount not posted in fimo.
A7: 3 | B7: =IF(J7<>"", $B$5, "") -> JH2921 | C7: =IF(J7<>"", $C$5, "") -> Tandwa | D7: =IF(J7<>"", $D$5, "") -> FN26-27-00901 | E7: 46225 | F7: =IF(J7<>"", $F$5, "") -> Rishu Kumar | G7: =IF(J7<>"", $G$5, "") -> SF0070752 | H7: =IF(J7<>"", $H$5, "") -> Loan Officer | I7: 628545 | J7: SSF2350921 | K7: NURJAHAN KHATOON | L7: 354353764 | M7: 45288 | N7: 52000 | O7: 2780 | P7: Collection Amount Misappropriated | Q7: 45510 | R7: 2780 | S7: 0 | T7: 0 | U7: =IF(AND(ISBLANK(R7),ISBLANK(S7),ISBLANK(T7)),"",R7-(S7+T7)) -> 2780 | V7: Loan Card | W7: As per loan card emi fraud done by LO- Rishu Kumar/SF0070752 he collectedCemi from borrower Nurjahan Khatoon amount of rs. 2780 on 06-Aug-24 but collected amount not posted in fimo.
A8: 4 | B8: =IF(J8<>"", $B$5, "") -> JH2921 | C8: =IF(J8<>"", $C$5, "") -> Tandwa | D8: =IF(J8<>"", $D$5, "") -> FN26-27-00901 | E8: 46225 | F8: =IF(J8<>"", $F$5, "") -> Rishu Kumar | G8: =IF(J8<>"", $G$5, "") -> SF0070752 | H8: =IF(J8<>"", $H$5, "") -> Loan Officer | I8: 628545 | J8: SSF2350921 | K8: NURJAHAN KHATOON | L8: 354353764 | M8: 45288 | N8: 52000 | O8: 2780 | P8: Collection Amount Misappropriated | Q8: 45997 | R8: 2780 | S8: 0 | T8: 0 | U8: =IF(AND(ISBLANK(R8),ISBLANK(S8),ISBLANK(T8)),"",R8-(S8+T8)) -> 2780 | V8: Digital Payment | W8: As per digital payment emi fraud done by LO- Rishu Kumar/SF0070752 he collected emi from borrower Nurjahan Khatoon amount of rs.2780 on 06-Dec-2025 but collected amount not posted in fimo.
A9: 5 | B9: =IF(J9<>"", $B$5, "") -> JH2921 | C9: =IF(J9<>"", $C$5, "") -> Tandwa | D9: =IF(J9<>"", $D$5, "") -> FN26-27-00901 | E9: 46225 | F9: =IF(J9<>"", $F$5, "") -> Rishu Kumar | G9: =IF(J9<>"", $G$5, "") -> SF0070752 | H9: =IF(J9<>"", $H$5, "") -> Loan Officer | I9: 628545 | J9: SSF2350921 | K9: NURJAHAN KHATOON | L9: 354353764 | M9: 45288 | N9: 52000 | O9: 2780 | P9: Collection Amount Misappropriated | Q9: 46029 | R9: 2780 | S9: 0 | T9: 0 | U9: =IF(AND(ISBLANK(R9),ISBLANK(S9),ISBLANK(T9)),"",R9-(S9+T9)) -> 2780 | V9: Digital Payment | W9: As per digital payment emi fraud done by LO- Rishu Kumar/SF0070752 he collectedCemi from borrower Nurjahan Khatoon amount of rs. 2780 on 07-Jan-26 but collected amount not posted in fimo
A10: 6 | B10: =IF(J10<>"", $B$5, "") -> JH2921 | C10: =IF(J10<>"", $C$5, "") -> Tandwa | D10: =IF(J10<>"", $D$5, "") -> FN26-27-00901 | E10: 46225 | F10: =IF(J10<>"", $F$5, "") -> Rishu Kumar | G10: =IF(J10<>"", $G$5, "") -> SF0070752 | H10: =IF(J10<>"", $H$5, "") -> Loan Officer | I10: 628545 | J10: SSF2350921 | K10: NURJAHAN KHATOON | L10: 354353764 | M10: 45288 | N10: 52000 | O10: 2780 | P10: Collection Amount Misappropriated | Q10: 46060 | R10: 3044 | S10: 0 | T10: 0 | U10: =IF(AND(ISBLANK(R10),ISBLANK(S10),ISBLANK(T10)),"",R10-(S10+T10)) -> 3044 | V10: Digital Payment | W10: As per loan card emi fraud done by LO- Rishu Kumar/SF0070752 he collectedCemi from borrower Nurjahan Khatoon amount of rs. 3044 on 07-Feb-2026 but collected amount not posted in fimo.
A11: 7 | B11: =IF(J11<>"", $B$5, "") -> JH2921 | C11: =IF(J11<>"", $C$5, "") -> Tandwa | D11: =IF(J11<>"", $D$5, "") -> FN26-27-00901 | E11: 46226 | F11: =IF(J11<>"", $F$5, "") -> Rishu Kumar | G11: =IF(J11<>"", $G$5, "") -> SF0070752 | H11: =IF(J11<>"", $H$5, "") -> Loan Officer | I11: Keredari C3 | J11: SID951375728913 | K11: JYOTI DEVI | L11: 351972794 | M11: 27-Jun-2023 | N11: 63000 | O11: 3360 | P11: Collection Amount Misappropriated | Q11: 45845 | R11: 4432 | S11: 0 | T11: 0 | U11: =IF(AND(ISBLANK(R11),ISBLANK(S11),ISBLANK(T11)),"",R11-(S11+T11)) -> 4432 | V11: Digital Payment | W11: As per digital payment LO-Rishu Kumar/SF0070752 he collected amount of rs.4432 on dated 07-Jul-2025 but collected amount not posted in FIMO
A12: 8 | B12: =IF(J12<>"", $B$5, "") -> JH2921 | C12: =IF(J12<>"", $C$5, "") -> Tandwa | D12: =IF(J12<>"", $D$5, "") -> FN26-27-00901 | E12: 46227 | F12: =IF(J12<>"", $F$5, "") -> Rishu Kumar | G12: =IF(J12<>"", $G$5, "") -> SF0070752 | H12: =IF(J12<>"", $H$5, "") -> Loan Officer | I12: 529166 | J12: SID951374325076 | K12: KAVITA DEVI | L12: 350325875 | M12: 25-Jan-2023 | N12: 76397 | O12: 4100 | P12: Collection Amount Misappropriated | Q12: 45610 | R12: 4100 | S12: 0 | T12: 0 | U12: =IF(AND(ISBLANK(R12),ISBLANK(S12),ISBLANK(T12)),"",R12-(S12+T12)) -> 4100 | V12: Digital Payment | W12: As per digital payment & bank statement emi fraud done by LO-Rishu Kumar/SF0070752 , he collected amount of rs.4100 on 14-Nov-2024 but collected amount not posted in FIMO.
A13: 9 | B13: =IF(J13<>"", $B$5, "") -> JH2921 | C13: =IF(J13<>"", $C$5, "") -> Tandwa | D13: =IF(J13<>"", $D$5, "") -> FN26-27-00901 | E13: 46227 | F13: =IF(J13<>"", $F$5, "") -> Rishu Kumar | G13: =IF(J13<>"", $G$5, "") -> SF0070752 | H13: =IF(J13<>"", $H$5, "") -> Loan Officer | I13: 529166 | J13: SID951374325076 | K13: KAVITA DEVI | L13: 350325875 | M13: 25-Jan-2023 | N13: 76397 | O13: 4100 | P13: Collection Amount Misappropriated | Q13: 45635 | R13: 4100 | S13: 0 | T13: 0 | U13: =IF(AND(ISBLANK(R13),ISBLANK(S13),ISBLANK(T13)),"",R13-(S13+T13)) -> 4100 | V13: Digital Payment | W13: As per digital payment & bank statement emi farud done by LO-Rishu Kumar/SF0070752, he emi collected amount of rs.4100 on 09-Dec-2024 but collected amount not posted in FIMO..
A14: 10 | B14: =IF(J14<>"", $B$5, "") -> JH2921 | C14: =IF(J14<>"", $C$5, "") -> Tandwa | D14: =IF(J14<>"", $D$5, "") -> FN26-27-00901 | E14: 46227 | F14: =IF(J14<>"", $F$5, "") -> Rishu Kumar | G14: =IF(J14<>"", $G$5, "") -> SF0070752 | H14: =IF(J14<>"", $H$5, "") -> Loan Officer | I14: 529166 | J14: SID951374325076 | K14: KAVITA DEVI | L14: 350325875 | M14: 25-Jan-2023 | N14: 76397 | O14: 4100 | P14: Collection Amount Misappropriated | Q14: 45666 | R14: 4000 | S14: 0 | T14: 0 | U14: =IF(AND(ISBLANK(R14),ISBLANK(S14),ISBLANK(T14)),"",R14-(S14+T14)) -> 4000 | V14: Digital Payment | W14: As per digital payment emi fraud done by LO-Rishu Kumar/SF0070752 he emi collected amount of rs. 4000 on 09-Jan-2025 but collected amount not posted in FIMO.
A15: 11 | B15: =IF(J15<>"", $B$5, "") | C15: =IF(J15<>"", $C$5, "") | D15: =IF(J15<>"", $D$5, "") | F15: =IF(J15<>"", $F$5, "") | G15: =IF(J15<>"", $G$5, "") | H15: =IF(J15<>"", $H$5, "") | U15: =IF(AND(ISBLANK(R15),ISBLANK(S15),ISBLANK(T15)),"",R15-(S15+T15))
A16: 12 | B16: =IF(J16<>"", $B$5, "") | C16: =IF(J16<>"", $C$5, "") | D16: =IF(J16<>"", $D$5, "") | F16: =IF(J16<>"", $F$5, "") | G16: =IF(J16<>"", $G$5, "") | H16: =IF(J16<>"", $H$5, "") | U16: =IF(AND(ISBLANK(R16),ISBLANK(S16),ISBLANK(T16)),"",R16-(S16+T16))
A17: 13 | B17: =IF(J17<>"", $B$5, "") | C17: =IF(J17<>"", $C$5, "") | D17: =IF(J17<>"", $D$5, "") | F17: =IF(J17<>"", $F$5, "") | G17: =IF(J17<>"", $G$5, "") | H17: =IF(J17<>"", $H$5, "") | U17: =IF(AND(ISBLANK(R17),ISBLANK(S17),ISBLANK(T17)),"",R17-(S17+T17))
A18: 14 | B18: =IF(J18<>"", $B$5, "") | C18: =IF(J18<>"", $C$5, "") | D18: =IF(J18<>"", $D$5, "") | F18: =IF(J18<>"", $F$5, "") | G18: =IF(J18<>"", $G$5, "") | H18: =IF(J18<>"", $H$5, "") | U18: =IF(AND(ISBLANK(R18),ISBLANK(S18),ISBLANK(T18)),"",R18-(S18+T18))
A19: 15 | B19: =IF(J19<>"", $B$5, "") | C19: =IF(J19<>"", $C$5, "") | D19: =IF(J19<>"", $D$5, "") | F19: =IF(J19<>"", $F$5, "") | G19: =IF(J19<>"", $G$5, "") | H19: =IF(J19<>"", $H$5, "") | U19: =IF(AND(ISBLANK(R19),ISBLANK(S19),ISBLANK(T19)),"",R19-(S19+T19))
A20: 16 | B20: =IF(J20<>"", $B$5, "") | C20: =IF(J20<>"", $C$5, "") | D20: =IF(J20<>"", $D$5, "") | F20: =IF(J20<>"", $F$5, "") | G20: =IF(J20<>"", $G$5, "") | H20: =IF(J20<>"", $H$5, "") | U20: =IF(AND(ISBLANK(R20),ISBLANK(S20),ISBLANK(T20)),"",R20-(S20+T20))
A21: 17 | B21: =IF(J21<>"", $B$5, "") | C21: =IF(J21<>"", $C$5, "") | D21: =IF(J21<>"", $D$5, "") | F21: =IF(J21<>"", $F$5, "") | G21: =IF(J21<>"", $G$5, "") | H21: =IF(J21<>"", $H$5, "") | U21: =IF(AND(ISBLANK(R21),ISBLANK(S21),ISBLANK(T21)),"",R21-(S21+T21))
A22: 18 | B22: =IF(J22<>"", $B$5, "") | C22: =IF(J22<>"", $C$5, "") | D22: =IF(J22<>"", $D$5, "") | F22: =IF(J22<>"", $F$5, "") | G22: =IF(J22<>"", $G$5, "") | H22: =IF(J22<>"", $H$5, "") | U22: =IF(AND(ISBLANK(R22),ISBLANK(S22),ISBLANK(T22)),"",R22-(S22+T22))
A23: 19 | B23: =IF(J23<>"", $B$5, "") | C23: =IF(J23<>"", $C$5, "") | D23: =IF(J23<>"", $D$5, "") | F23: =IF(J23<>"", $F$5, "") | G23: =IF(J23<>"", $G$5, "") | H23: =IF(J23<>"", $H$5, "") | U23: =IF(AND(ISBLANK(R23),ISBLANK(S23),ISBLANK(T23)),"",R23-(S23+T23))
A24: 20 | B24: =IF(J24<>"", $B$5, "") | C24: =IF(J24<>"", $C$5, "") | D24: =IF(J24<>"", $D$5, "") | F24: =IF(J24<>"", $F$5, "") | G24: =IF(J24<>"", $G$5, "") | H24: =IF(J24<>"", $H$5, "") | U24: =IF(AND(ISBLANK(R24),ISBLANK(S24),ISBLANK(T24)),"",R24-(S24+T24))
A25: 21 | B25: =IF(J25<>"", $B$5, "") | C25: =IF(J25<>"", $C$5, "") | D25: =IF(J25<>"", $D$5, "") | F25: =IF(J25<>"", $F$5, "") | G25: =IF(J25<>"", $G$5, "") | H25: =IF(J25<>"", $H$5, "") | U25: =IF(AND(ISBLANK(R25),ISBLANK(S25),ISBLANK(T25)),"",R25-(S25+T25))
A26: 22 | B26: =IF(J26<>"", $B$5, "") | C26: =IF(J26<>"", $C$5, "") | D26: =IF(J26<>"", $D$5, "") | F26: =IF(J26<>"", $F$5, "") | G26: =IF(J26<>"", $G$5, "") | H26: =IF(J26<>"", $H$5, "") | U26: =IF(AND(ISBLANK(R26),ISBLANK(S26),ISBLANK(T26)),"",R26-(S26+T26))
... A103: 99 | B103: =IF(J103<>"", $B$5, "") | C103: =IF(J103<>"", $C$5, "") | D103: =IF(J103<>"", $D$5, "") | F103: =IF(J103<>"", $F$5, "") | G103: =IF(J103<>"", $G$5, "") | H103: =IF(J103<>"", $H$5, "") | U103: =IF(AND(ISBLANK(R103),ISBLANK(S103),ISBLANK(T103)),"",R103-(S103+T103))
A104: 100 | B104: =IF(J104<>"", $B$5, "") | H104: =IF(J104<>"", $H$5, "") | U104: =IF(AND(ISBLANK(R104),ISBLANK(S104),ISBLANK(T104)),"",R104-(S104+T104))
A105: 101 | U105: =IF(AND(ISBLANK(R105),ISBLANK(S105),ISBLANK(T105)),"",R105-(S105+T105))
A106: 102 | U106: =IF(AND(ISBLANK(R106),ISBLANK(S106),ISBLANK(T106)),"",R106-(S106+T106))
A107: 103 | U107: =IF(AND(ISBLANK(R107),ISBLANK(S107),ISBLANK(T107)),"",R107-(S107+T107))
A108: 104 | U108: =IF(AND(ISBLANK(R108),ISBLANK(S108),ISBLANK(T108)),"",R108-(S108+T108))
A109: 105 | U109: =IF(AND(ISBLANK(R109),ISBLANK(S109),ISBLANK(T109)),"",R109-(S109+T109))
A110: 106 | U110: =IF(AND(ISBLANK(R110),ISBLANK(S110),ISBLANK(T110)),"",R110-(S110+T110))
A111: 107 | U111: =IF(AND(ISBLANK(R111),ISBLANK(S111),ISBLANK(T111)),"",R111-(S111+T111))
A112: 108 | U112: =IF(AND(ISBLANK(R112),ISBLANK(S112),ISBLANK(T112)),"",R112-(S112+T112))
A113: 109 | U113: =IF(AND(ISBLANK(R113),ISBLANK(S113),ISBLANK(T113)),"",R113-(S113+T113))
A114: 110 | U114: =IF(AND(ISBLANK(R114),ISBLANK(S114),ISBLANK(T114)),"",R114-(S114+T114))
A115: 111 | U115: =IF(AND(ISBLANK(R115),ISBLANK(S115),ISBLANK(T115)),"",R115-(S115+T115))
A116: 112 | U116: =IF(AND(ISBLANK(R116),ISBLANK(S116),ISBLANK(T116)),"",R116-(S116+T116))
...

Sheet Loan Outstanding Report
A1: From Date :
A2: To Date :
A3: Reporting Time : | BG3: Home | BH3: Borrower Wise Details | BP3: Home | BQ3: Borrower Wise Details
A4: S No | B4: Zone | C4: State | D4: Region | E4: Area | F4: Cluster | G4: Branch Code | H4: Branch | I4: Village Id | J4: Village | K4: Village ID | L4: CSR EMP ID | M4: CSR NAME | N4: Center Id | O4: Center Number | P4: Group ID | Q4: Group Name | R4: Product Name | S4: Cust ID | T4: UCIC | U4: Caste | V4: Religion | W4: PPI Score | X4: Loan purpose | Y4: Loan No. | Z4: Customer Name | AA4: Disb date | AB4: Loan Amount | AC4: Center Meeting Date | AD4: No of Instalments | AE4: Loan Cycle | AF4: Vintage | AG4: Client Formation Date | AH4: Vintage Bracket | AI4: First Installment Date | AJ4: First EMI amount | AK4: Second EMI amount | AL4: Last Repaid Date | AM4: Principal Collection | AN4: Interest Collection | AO4: Total Collection | AP4: Outstanding Principal | AQ4: Outstanding Interest | AR4: Outstanding Total | AS4: Over Due Prin | AT4: Over Due Int | AU4: Over Due Total | AV4: No of Installments Paid | AW4: OD days | AX4: Ageing Bucket | AY4: Last Prepayment Date | AZ4: Prepayment Prin | BA4: Prepayment Interest | BB4: Loan Status | BC4: Death Flag | BD4: Woff date | BE4: Woff Amount | BF4: Ucic | BG4: Borrower Mobile Number | BH4: IO Staff Name/ID (Ex: Ganesh/SF0072845) | BI4: Verification Status (Drop Down) | BJ4: IO Visited Date (DD-MMM-YY) | BK4: Availability of Borrower (Dropdown) | BL4: Confirmed By (Drop Down) | BM4: Availability of Loan Card (Drop Down) | BN4: Cash Misappropriation Status (Drop Down) | BO4: Total Fraud Amount | BP4: Availability of Evidence (Drop Down) | BQ4: Remarks
A5: 1 | B5: East | C5: Jharkhand | D5: Ranchi | E5: Hazaribagh | F5: Hazaribagh | G5: JH2921 | H5: Tandwa | I5: 1678 | J5: Kamta | K5: 1678 | L5: SF0072636 | M5: Deepak Kumar | N5: 3408 | O5: 628545 | P5: 4011 | Q5: YKGN 4 | R5: Chetana | S5: SID951375257034 | T5: SID951375257034 | U5: OBC | V5: HINDU | W5: 541 | X5: Agriculture & Farming | Y5: 352525856 | Z5: SARO KHATUN | AA5: 16-Aug-2023 | AB5: 73000 | AC5: Tue | AD5: 24 | AE5: 4 | AF5: 6.90 Yrs | AG5: 22 Oct 2020 | AH5: > 6 to 10 Years | AI5: 03-Oct-2023 | AJ5: 3900 | AK5: 3900 | AL5: 05-May-2025 | AM5: 46556.15 | AN5: 19743.85 | AO5: 66300 | AP5: 26443.85 | AQ5: -153.85 | AR5: 26290 | AS5: 26095.69 | AT5: 194.31 | AU5: 26290 | AV5: 34 | AW5: 506 | AX5: >180 | BB5: Open | BE5: 0 | BF5: SID951375257034 | BG5: 7033541589 | BH5: Ajay Kumar Das/SF0056026 | BI5: Visited | BJ5: 46226 | BK5: Borrower Available | BL5: Borrower | BM5: Not Available | BN5: No | BQ5: Borrower and her lost loan card not available during verification
A6: 2 | B6: East | C6: Jharkhand | D6: Ranchi | E6: Hazaribagh | F6: Hazaribagh | G6: JH2921 | H6: Tandwa | I6: 2014 | J6: Raham | K6: 2014 | L6: SF0099964 | M6: Amarjit Kumar | N6: 7781 | O6: 555840 | P6: 616113 | Q6: chand gu 555840 G2 | R6: Unnati | S6: SID951376133340 | T6: SID951376133340 | U6: OBC | V6: HINDU | W6: 541 | X6: Agriculture & Farming | Y6: 353546561 | Z6: MANISHA DEVI | AA6: 01-Nov-2023 | AB6: 30000 | AC6: 04 | AD6: 18 | AE6: 0 | AF6: 4.88 Yrs | AG6: 04 Sep 2021 | AH6: > 4 to 6 Years | AI6: 07-Dec-2023 | AJ6: 2020 | AK6: 2020 | AL6: 02-Jan-2025 | AM6: 22324.88 | AN6: 5955.12 | AO6: 28280 | AP6: 7675.12 | AQ6: 409.88 | AR6: 8085 | AS6: 7675.12 | AT6: 409.88 | AU6: 8085 | AV6: 32 | AW6: 532 | AX6: >180 | BB6: Open | BE6: 0 | BF6: SID951376133340 | BG6: 8541982535 | BH6: Ajay Kumar Das/SF0056026 | BI6: Visited | BJ6: 46224 | BK6: Borrower Available | BL6: Borrower | BM6: Not Available | BN6: No | BQ6: Borrower present and loan card not available during verification so found any deviation
A7: 3 | B7: East | C7: Jharkhand | D7: Ranchi | E7: Hazaribagh | F7: Hazaribagh | G7: JH2921 | H7: Tandwa | I7: 1643 | J7: Honhi | K7: 1643 | L7: SF0099964 | M7: Amarjit Kumar | N7: 395451 | O7: Honhi C7 | P7: 588845 | Q7: Honhi C7 Ganesh1 | R7: Chetana | S7: SSF5263123 | T7: SSF5263123 | U7: OBC | V7: HINDU | W7: 0 | X7: Agriculture & Farming | Y7: 354563246 | Z7: SARDHA KUMARI | AA7: 06-Jan-2024 | AB7: 42000 | AC7: Fri | AD7: 24 | AE7: 1 | AF7: 2.55 Yrs | AG7: 06 Jan 2024 | AH7: > 2 to 4 Years | AI7: 02-Feb-2024 | AJ7: 2240 | AK7: 2240 | AL7: 04-Jan-2025 | AM7: 18470.48 | AN7: 8409.52 | AO7: 26880 | AP7: 23529.52 | AQ7: 3314.48 | AR7: 26844 | AS7: 23529.52 | AT7: 3314.48 | AU7: 26844 | AV7: 30 | AW7: 531 | AX7: >180 | BB7: Open | BE7: 0 | BF7: SSF5263123 | BG7: 9572604391 | BH7: Ajay Kumar Das/SF0056026 | BI7: Visited | BJ7: 46223 | BK7: Borrower Available | BL7: Borrower | BM7: Not Available | BN7: No | BQ7: Ringleader issue Borrower gives her loan amount to other borrower after taking laon and loan card not available during verification so found any deviation
A8: 4 | B8: East | C8: Jharkhand | D8: Ranchi | E8: Hazaribagh | F8: Hazaribagh | G8: JH2921 | H8: Tandwa | I8: 1678 | J8: Kamta | K8: 1678 | L8: SF0072636 | M8: Deepak Kumar | N8: 3408 | O8: 628545 | P8: 4011 | Q8: YKGN 4 | R8: Chetana | S8: SSF2476501 | T8: SSF2476501 | U8: OBC | V8: HINDU | W8: 0 | X8: Agriculture & Farming | Y8: 355140357 | Z8: SAHINA KHATUN | AA8: 09-Feb-2024 | AB8: 65000 | AC8: Tue | AD8: 24 | AE8: 2 | AF8: 4.37 Yrs | AG8: 11 Mar 2022 | AH8: > 4 to 6 Years | AI8: 05-Mar-2024 | AJ8: 3470 | AK8: 3470 | AL8: 15-Apr-2026 | AM8: 63284 | AN8: 17856 | AO8: 81140 | AP8: 1716 | AQ8: 0 | AR8: 1716 | AS8: 1716 | AT8: 0 | AU8: 1716 | AV8: 29 | AW8: 170 | AX8: 151-180 | BB8: Open | BE8: 0 | BF8: SSF2476501 | BG8: 8789102357 | BH8: Ajay Kumar Das/SF0056026 | BI8: Visited | BJ8: 46227 | BK8: Borrower Available | BL8: Borrower | BM8: Available | BQ8: Borrower and loan card available no issue
A9: 5 | B9: East | C9: Jharkhand | D9: Ranchi | E9: Hazaribagh | F9: Hazaribagh | G9: JH2921 | H9: Tandwa | I9: 2014 | J9: Raham | K9: 2014 | L9: SF0099964 | M9: Amarjit Kumar | N9: 7789 | O9: 555840 | P9: 9482 | Q9: 1015793 | R9: Chetana | S9: SSF5505028 | T9: SSF5505028 | U9: OBC | V9: MUSLIM | W9: 0 | X9: Tent House | Y9: 355148574 | Z9: ASMIN NISHA | AA9: 09-Feb-2024 | AB9: 42000 | AC9: Thu | AD9: 24 | AE9: 1 | AF9: 2.45 Yrs | AG9: 09 Feb 2024 | AH9: > 2 to 4 Years | AI9: 07-Mar-2024 | AJ9: 2240 | AK9: 2240 | AL9: 05-Sep-2024 | AM9: 10320.87 | AN9: 5359.13 | AO9: 15680 | AP9: 31679.13 | AQ9: 6205.87 | AR9: 37885 | AS9: 31679.13 | AT9: 6205.87 | AU9: 37885 | AV9: 29 | AW9: 658 | AX9: >180 | BB9: Open | BE9: 0 | BF9: SSF5505028 | BG9: 9608900829 | BH9: Ajay Kumar Das/SF0056026 | BI9: Visited | BJ9: 46223 | BK9: Borrower Available | BL9: Borrower | BM9: Available | BN9: No | BQ9: Borrower and loan crad available during verification so found any deviation
A10: 6 | B10: East | C10: Jharkhand | D10: Ranchi | E10: Hazaribagh | F10: Hazaribagh | G10: JH2921 | H10: Tandwa | I10: 2014 | J10: Raham | K10: 2014 | L10: SF0099964 | M10: Amarjit Kumar | N10: 7384 | O10: 599978 | P10: 616122 | Q10: RANI 05 GU 599978 G6 | R10: Chetana | S10: SID951376004760 | T10: SID951376004760 | U10: EBC | V10: HINDU | W10: 0 | X10: Agriculture & Farming | Y10: 355180466 | Z10: SONI PERWEEN | AA10: 10-Feb-2024 | AB10: 49000 | AC10: 04 | AD10: 30 | AE10: 4 | AF10: 5.66 Yrs | AG10: 28 Sep 2021 | AH10: > 4 to 6 Years | AI10: 07-Mar-2024 | AJ10: 2210 | AK10: 2210 | AL10: 24-Jan-2026 | AM10: 34994.1 | AN10: 15835.9 | AO10: 50830 | AP10: 14005.9 | AQ10: 1199.1 | AR10: 15205 | AS10: 12106.96 | AT10: 1153.04 | AU10: 13260 | AV10: 29 | AW10: 168 | AX10: 151-180 | BB10: Open | BE10: 0 | BF10: SID951376004760 | BG10: 7295006799 | BH10: Ajay Kumar Das/SF0056026 | BI10: Visited | BJ10: 46223 | BK10: Borrower Available | BL10: Borrower | BM10: Not Available | BN10: No | BQ10: Borrower present and loan crad not available during verification also she said we paid all installment but there no found any evidence
A11: 7 | B11: East | C11: Jharkhand | D11: Ranchi | E11: Hazaribagh | F11: Hazaribagh | G11: JH2921 | H11: Tandwa | I11: 1678 | J11: Kamta | K11: 1678 | L11: SF0072636 | M11: Deepak Kumar | N11: 3408 | O11: 628545 | P11: 4011 | Q11: YKGN 4 | R11: Chetana | S11: SSF3467509 | T11: SSF3467509 | U11: EBC | V11: HINDU | W11: 0 | X11: Agriculture & Farming | Y11: 355923796 | Z11: SAHIN PRAWEEN | AA11: 17-Mar-2024 | AB11: 65000 | AC11: Tue | AD11: 24 | AE11: 2 | AF11: 3.41 Yrs | AG11: 25 Feb 2023 | AH11: > 2 to 4 Years | AI11: 07-May-2024 | AJ11: 3470 | AK11: 3470 | AL11: 30-Aug-2025 | AM11: 38571.68 | AN11: 16948.32 | AO11: 55520 | AP11: 26428.32 | AQ11: 2622.68 | AR11: 29051 | AS11: 26428.32 | AT11: 2622.68 | AU11: 29051 | AV11: 27 | AW11: 324 | AX11: >180 | BB11: Open | BE11: 0 | BF11: SSF3467509 | BG11: 7070366039 | BH11: Ajay Kumar Das/SF0056026 | BI11: Visited | BJ11: 46224 | BK11: Borrower Not Available | BL11: Borrower Family Member | BM11: Not Available | BQ11: Borrowerand loan card not available confirmation with borrower son so no found any deviation.
A12: 8 | B12: East | C12: Jharkhand | D12: Ranchi | E12: Hazaribagh | F12: Hazaribagh | G12: JH2921 | H12: Tandwa | I12: 3957 | J12: Chatti Bariatu | K12: 3957 | L12: SF0099964 | M12: Amarjit Kumar | N12: 6257 | O12: 559256 | P12: 7455 | Q12: 1020482 | R12: Chetana | S12: SID951374360061 | T12: SID951374360061 | U12: EBC | V12: HINDU | W12: 0 | X12: Agriculture & Farming | Y12: 355991311 | Z12: RUKMANI DEVI | AA12: 22-Mar-2024 | AB12: 38000 | AC12: Mon | AD12: 24 | AE12: 4 | AF12: 6.56 Yrs | AG12: 06 Mar 2021 | AH12: > 6 to 10 Years | AI12: 13-May-2024 | AJ12: 2030 | AK12: 2030 | AL12: 31-Jan-2026 | AM12: 31401.4 | AN12: 11228.6 | AO12: 42630 | AP12: 6598.6 | AQ12: 283.4 | AR12: 6882 | AS12: 6598.6 | AT12: 283.4 | AU12: 6882 | AV12: 27 | AW12: 164 | AX12: 151-180 | BB12: Open | BE12: 0 | BF12: SID951374360061 | BG12: 8757659535 | BH12: Ajay Kumar Das/SF0056026 | BI12: Visited | BJ12: 46226 | BK12: Borrower Available | BL12: Borrower | BM12: Not Available | BN12: No | BQ12: Borrower present but her lost loan card also she said we paid all installment but there is no found any evidence.
A13: 9 | B13: East | C13: Jharkhand | D13: Ranchi | E13: Hazaribagh | F13: Hazaribagh | G13: JH2921 | H13: Tandwa | I13: 168958 | J13: Manatu | K13: 168958 | L13: SF0079138 | M13: Abhishek Kumar Sharma | N13: 9150 | O13: 660603 | P13: 11361 | Q13: sarna 2 | R13: Chetana | S13: SID951376059648 | T13: SID951376059648 | U13: ST | V13: HINDU | W13: 0 | X13: Agriculture & Farming | Y13: 356160299 | Z13: PARWATI DEVI | AA13: 27-Mar-2024 | AB13: 65000 | AC13: 02 | AD13: 24 | AE13: 3 | AF13: 5.19 Yrs | AG13: 31 Mar 2021 | AH13: > 4 to 6 Years | AI13: 06-May-2024 | AJ13: 3470 | AK13: 3470 | AL13: 02-Dec-2025 | AM13: 51316.53 | AN13: 18083.47 | AO13: 69400 | AP13: 13683.47 | AQ13: 764.53 | AR13: 14448 | AS13: 13683.47 | AT13: 764.53 | AU13: 14448 | AV13: 27 | AW13: 199 | AX13: >180 | BB13: Open | BE13: 0 | BF13: SID951376059648 | BG13: 9142267509 | BH13: Ajay Kumar Das/SF0056026 | BI13: Visited | BJ13: 46226 | BK13: Borrower Available | BL13: Borrower | BM13: Not Available | BN13: No | BQ13: As borrower statement, she said that we paid all installment to Rishi Kumar and her lost loan card but there is no any evidence found during verification
A14: 10 | B14: East | C14: Jharkhand | D14: Ranchi | E14: Hazaribagh | F14: Hazaribagh | G14: JH2921 | H14: Tandwa | I14: 180180 | J14: Kamta | K14: 180180 | L14: SF0079138 | M14: Abhishek Kumar Sharma | N14: 7635 | O14: 628545 | P14: 9279 | Q14: 1105385 | R14: Chetana | S14: SSF3335001 | T14: SSF3335001 | U14: EBC | V14: HINDU | W14: 0 | X14: Agriculture & Farming | Y14: 356425585 | Z14: MANJU DEVI | AA14: 14-Apr-2024 | AB14: 65000 | AC14: Tue | AD14: 24 | AE14: 2 | AF14: 3.46 Yrs | AG14: 07 Feb 2023 | AH14: > 2 to 4 Years | AI14: 07-May-2024 | AJ14: 3470 | AK14: 3470 | AL14: 24-Jan-2026 | AM14: 55662.46 | AN14: 17207.54 | AO14: 72870 | AP14: 9337.54 | AQ14: 360.46 | AR14: 9698 | AS14: 9337.54 | AT14: 360.46 | AU14: 9698 | AV14: 27 | AW14: 170 | AX14: 151-180 | BB14: Open | BE14: 0 | BF14: SSF3335001 | BG14: 9031492630 | BH14: Ajay Kumar Das/SF0056026 | BI14: Visited | BJ14: 46224 | BK14: Borrower Available | BL14: Borrower | BM14: Not Available | BN14: No | BQ14: As borrower statement, she said that we paid pre-closure amount of rs.42000 on dated 20-Mar-2025 to Rishi Kumar but there is no any evidence found during verification
A15: 11 | B15: East | C15: Jharkhand | D15: Ranchi | E15: Hazaribagh | F15: Hazaribagh | G15: JH2921 | H15: Tandwa | I15: 1850 | J15: Chatti Peto | K15: 1850 | L15: SF0079138 | M15: Abhishek Kumar Sharma | N15: 7571 | O15: 610558 | P15: 9194 | Q15: sabbu 3 | R15: Chetana | S15: SSF6296426 | T15: SSF6296426 | U15: OBC | V15: HINDU | W15: 0 | X15: Agriculture & Farming | Y15: 357432540 | Z15: RUKSANA KHATOON | AA15: 23-Jun-2024 | AB15: 42000 | AC15: 07 | AD15: 24 | AE15: GL-1 | AF15: 2.08 Yrs | AG15: 23 Jun 2024 | AH15: > 2 to 4 Years | AI15: 07-Aug-2024 | AJ15: 2240 | AK15: 2240 | AL15: 24-Jan-2026 | AM15: 28927.88 | AN15: 11392.12 | AO15: 40320 | AP15: 13072.12 | AQ15: 952.88 | AR15: 14025 | AS15: 13072.12 | AT15: 952.88 | AU15: 14025 | AV15: 25 | AW15: 169 | AX15: 151-180 | BB15: Open | BE15: 0 | BF15: SSF6296426 | BG15: 7632964746 | BH15: Ajay Kumar Das/SF0056026 | BI15: Visited | BJ15: 46225 | BK15: Borrower Available | BL15: Borrower | BM15: Available | BN15: No | BQ15: As borrower statement she paid pre-closure amount of rs. 33812 on dated 06-Jan-2025 to branch staff but sing on loan card not available only paid written on loan card.
A16: 12 | B16: East | C16: Jharkhand | D16: Ranchi | E16: Hazaribagh | F16: Hazaribagh | G16: JH2921 | H16: Tandwa | I16: 180180 | J16: Kamta | K16: 180180 | L16: SF0079138 | M16: Abhishek Kumar Sharma | N16: 352135 | O16: Kamta C2 | P16: 499683 | Q16: Kamta C2 Basanti1 | R16: Chetana | S16: SSF2746440 | T16: SSF2746440 | U16: EBC | V16: HINDU | W16: 0 | X16: Agriculture & Farming | Y16: 358817711 | Z16: SONI KHATUN | AA16: 18-Nov-2024 | AB16: 14000 | AC16: 09 | AD16: 18 | AE16: 2 | AF16: 3.86 Yrs | AG16: 13 Sep 2022 | AH16: > 2 to 4 Years | AI16: 07-Jan-2025 | AJ16: 940 | AK16: 940 | AL16: 24-Jan-2026 | AM16: 9463.86 | AN16: 2756.14 | AO16: 12220 | AP16: 4536.14 | AQ16: 273.86 | AR16: 4810 | AS16: 4536.14 | AT16: 273.86 | AU16: 4810 | AV16: 19 | AW16: 170 | AX16: 151-180 | BB16: Open | BE16: 0 | BF16: SSF2746440 | BG16: 7091710192 | BH16: Ajay Kumar Das/SF0056026 | BI16: Visited | BJ16: 46225 | BK16: Borrower Not Available | BL16: Other Borrower | BM16: Not Available | BN16: NA | BQ16: Borrower and loan card not available during verification
A17: 13 | B17: East | C17: Jharkhand | D17: Ranchi | E17: Hazaribagh | F17: Hazaribagh | G17: JH2921 | H17: Tandwa | I17: 1678 | J17: Kamta | K17: 1678 | L17: SF0079138 | M17: Abhishek Kumar Sharma | N17: 7620 | O17: 703742 | P17: 9262 | Q17: durga | R17: Chetana | S17: SID951375201405 | T17: SID951375201405 | U17: OBC | V17: HINDU | W17: 0 | X17: ALMIRAH Making | Y17: 358817713 | Z17: NASIMA KHATUN | AA17: 26-Nov-2024 | AB17: 46000 | AC17: 09 | AD17: 24 | AE17: 5 | AF17: 6.90 Yrs | AG17: 22 Oct 2020 | AH17: > 6 to 10 Years | AI17: 07-Jan-2025 | AJ17: 2430 | AK17: 2430 | AL17: 17-Oct-2025 | AM17: 16290.07 | AN17: 8009.93 | AO17: 24300 | AP17: 29709.93 | AQ17: 4559.07 | AR17: 34269 | AS17: 18000.52 | AT17: 3869.48 | AU17: 21870 | AV17: 19 | AW17: 261 | AX17: >180 | BB17: Open | BE17: 0 | BF17: SID951375201405 | BG17: 7869113177 | BH17: Ajay Kumar Das/SF0056026 | BI17: Visited | BJ17: 46225 | BK17: Borrower Available | BL17: Borrower | BM17: Not Available | BN17: No | BQ17: Borrower present and loan card not available during verification so found any deviation
A18: 14 | B18: East | C18: Jharkhand | D18: Ranchi | E18: Hazaribagh | F18: Hazaribagh | G18: JH2921 | H18: Tandwa | I18: 170797 | J18: Pachanra | K18: 170797 | L18: SF0099964 | M18: Amarjit Kumar | N18: 6260 | O18: 559256 | P18: 7458 | Q18: anchal2 | R18: Chetana | S18: SID951374645464 | T18: SID951374645464 | U18: EBC | V18: HINDU | W18: 0 | X18: Agriculture & Farming | Y18: 358817775 | Z18: RANI DEVI | AA18: 13-Nov-2024 | AB18: 29000 | AC18: 09 | AD18: 18 | AE18: 5 | AF18: 7.44 Yrs | AG18: 24 Jul 2021 | AH18: > 6 to 10 Years | AI18: 09-Dec-2024 | AJ18: 1930 | AK18: 1930 | AL18: 26-Jan-2026 | AM18: 21687.32 | AN18: 5332.68 | AO18: 27020 | AP18: 7312.68 | AQ18: 351.32 | AR18: 7664 | AS18: 7312.68 | AT18: 351.32 | AU18: 7664 | AV18: 20 | AW18: 164 | AX18: 151-180 | BB18: Open | BE18: 0 | BF18: SID951374645464 | BG18: 8266565346 | BH18: Ajay Kumar Das/SF0056026 | BI18: Visited | BJ18: 46225 | BK18: Borrower Available | BL18: Borrower | BM18: Available | BN18: No | BQ18: As per borrower confirmation she said that we all paid her installment to Rishu Kumar but we check loan card no found any evidence against Rishu Kumar during verification
A19: 15 | B19: East | C19: Jharkhand | D19: Ranchi | E19: Hazaribagh | F19: Hazaribagh | G19: JH2921 | H19: Tandwa | I19: 2619 | J19: Bad Bigha | K19: 2619 | L19: SF0099964 | M19: Amarjit Kumar | N19: 351367 | O19: Bad Bigha C1 | P19: 498317 | Q19: Bad Bigha C1 Ganpati1 | R19: Chetana | S19: SSF2727419 | T19: SSF2727419 | U19: SC | V19: HINDU | W19: 0 | X19: Agriculture & Farming | Y19: 358817815 | Z19: SONI DEVI | AA19: 18-Nov-2024 | AB19: 18000 | AC19: 02 | AD19: 18 | AE19: 2 | AF19: 3.86 Yrs | AG19: 12 Sep 2022 | AH19: > 2 to 4 Years | AI19: 03-Jan-2025 | AJ19: 1200 | AK19: 1200 | AL19: 26-Jan-2026 | AM19: 12052.69 | AN19: 3547.31 | AO19: 15600 | AP19: 5947.31 | AQ19: 383.69 | AR19: 6331 | AS19: 5947.31 | AT19: 383.69 | AU19: 6331 | AV19: 19 | AW19: 167 | AX19: 151-180 | BB19: Open | BE19: 0 | BF19: SSF2727419 | BG19: 6378426380 | BH19: Ajay Kumar Das/SF0056026 | BI19: Visited | BJ19: 46224 | BK19: Borrower-Migrated | BL19: Other Borrower | BM19: Not Available | BN19: NA | BQ19: Borrower migrated as other borrower verified.
A20: 16 | B20: East | C20: Jharkhand | D20: Ranchi | E20: Hazaribagh | F20: Hazaribagh | G20: JH2921 | H20: Tandwa | I20: 2619 | J20: Bad Bigha | K20: 2619 | L20: SF0099964 | M20: Amarjit Kumar | N20: 3555 | O20: 524174 | P20: 618097 | Q20: Mata rani 2 524174 G1 | R20: Unnati | S20: SSF4843860 | T20: SSF4843860 | U20: OBC | V20: HINDU | W20: 0 | X20: Agriculture & Farming | Y20: 358971168 | Z20: ANJU DEVI | AA20: 16-Nov-2024 | AB20: 40000 | AC20: 02 | AD20: 18 | AE20: IL-1 | AF20: 2.71 Yrs | AG20: 06 Nov 2023 | AH20: > 2 to 4 Years | AI20: 03-Jan-2025 | AJ20: 2680 | AK20: 2680 | AL20: 24-Jan-2026 | AM20: 26721.78 | AN20: 8118.22 | AO20: 34840 | AP20: 13278.22 | AQ20: 874.78 | AR20: 14153 | AS20: 13278.22 | AT20: 874.78 | AU20: 14153 | AV20: 19 | AW20: 167 | AX20: 151-180 | BB20: Open | BE20: 0 | BF20: SSF4843860 | BG20: 7856075561 | BH20: Ajay Kumar Das/SF0056026 | BI20: Visited | BJ20: 46226 | BK20: Borrower Available | BL20: Borrower | BM20: Not Available | BN20: No | BQ20: Borrower present and her lost loan card also she said that we paid all installment but there is foundany avidence against staffs.
A21: 17 | B21: East | C21: Jharkhand | D21: Ranchi | E21: Hazaribagh | F21: Hazaribagh | G21: JH2921 | H21: Tandwa | I21: 170798 | J21: Keredari | K21: 170798 | L21: SF0059413 | M21: Dipak Kumar Paswan | N21: 365847 | O21: Keredari C3 | P21: 529978 | Q21: Keredari C3 Das1 | R21: Chetana | S21: SID951375728913 | T21: SID951375728913 | U21: SC | V21: HINDU | W21: 541 | X21: ALMIRAH Making | Y21: 351972794 | Z21: JYOTI DEVI | AA21: 27-Jun-2023 | AB21: 63000 | AC21: 03 | AD21: 24 | AE21: 3 | AF21: 6.19 Yrs | AG21: 19 Mar 2021 | AH21: > 6 to 10 Years | AI21: 10-Aug-2023 | AJ21: 3360 | AK21: 3360 | AL21: 20-Jul-2026 | AM21: 58657.63 | AN21: 18622.37 | AO21: 77280 | AP21: 4342.37 | AQ21: 89.63 | AR21: 4432 | AS21: 4342.37 | AT21: 89.63 | AU21: 4432 | AV21: 36 | AW21: 378 | AX21: >180 | BB21: Open | BD21: 30-Sep-2025 | BE21: 63000 | BF21: SID951375728913 | BG21: 7250071991 | BH21: Ajay Kumar Das/SF0056026 | BI21: Visited | BJ21: 46226 | BK21: Borrower Available | BL21: Borrower | BM21: Available | BN21: Yes | BO21: 4432 | BP21: Digital Payment | BQ21: As per digital payment emi fraud done by LO-Rishu Kumar/SF0070752, he emi collected amount of rs.4432 on dated 07-Jul-2025 but collected amount not posted in FIMO
A22: 18 | B22: East | C22: Jharkhand | D22: Ranchi | E22: Hazaribagh | F22: Hazaribagh | G22: JH2921 | H22: Tandwa | I22: 1678 | J22: Kamta | K22: 1678 | L22: SF0072636 | M22: Deepak Kumar | N22: 3408 | O22: 628545 | P22: 4011 | Q22: YKGN 4 | R22: Chetana | S22: SSF2350921 | T22: SSF2350921 | U22: OBC | V22: HINDU | W22: 541 | X22: Agriculture & Farming | Y22: 354353764 | Z22: NURJAHAN KHATOON | AA22: 28-Dec-2023 | AB22: 52000 | AC22: Tue | AD22: 24 | AE22: 2 | AF22: 4.44 Yrs | AG22: 12 Feb 2022 | AH22: > 4 to 6 Years | AI22: 06-Feb-2024 | AJ22: 2780 | AK22: 2780 | AL22: 03-Jul-2026 | AM22: 28966.44 | AN22: 12467.56 | AO22: 41434 | AP22: 23033.56 | AQ22: 2516.44 | AR22: 25550 | AS22: 23033.56 | AT22: 2516.44 | AU22: 25550 | AV22: 30 | AW22: 478 | AX22: >180 | BB22: Open | BD22: 31-Dec-2025 | BE22: 52000 | BF22: SSF2350921 | BG22: 9572462623 | BH22: Ajay Kumar Das/SF0056026 | BI22: Visited | BJ22: 46225 | BK22: Borrower Available | BL22: Borrower | BM22: Available | BN22: Yes | BO22: 16944 | BP22: Multiple Evidence | BQ22: As per loan card & digital payment emi fraud done by LO-Rishu Kumar/SF0070752, he collected multiple emi from borrower Nurjahan Khatoon, he collected emi of rs.2780 on 04-jun-2024, again collected of rs.2780 on 02-Jul-24 , again collected of rs. 2780 on 06-Aug-24, again he collected of rs.2780 on 06-Dec-2025 , again collected of rs. 2780 on 07-Jan-26 and again he collected of rs. 3044 on 07-Feb-2026 but these emi collected amount not posted in fimo,(2780*5+3044=16944) , Remarks:- Entry posted from Head Office of CSS Complaint of rs. 14164 on dated 03-Jul-2026 in borrower account and we check the loan card for Proper evidence regarding the subsequent installment could not be obtained of fraud also sign mismatch.
A23: 19 | B23: East | C23: Jharkhand | D23: Ranchi | E23: Hazaribagh | F23: Hazaribagh | G23: JH2921 | H23: Tandwa | I23: 2992 | J23: Bukru | K23: 2992 | L23: SF0099964 | M23: Amarjit Kumar | N23: 6261 | O23: 529166 | P23: 7459 | Q23: Anchal | R23: Chetana | S23: SID951374325076 | T23: SID951374325076 | U23: EBC | V23: HINDU | W23: 541 | X23: Agriculture & Farming | Y23: 350325875 | Z23: KAVITA DEVI | AA23: 25-Jan-2023 | AB23: 76397 | AC23: 03 | AD23: 24 | AE23: 4 | AF23: 7.73 Yrs | AG23: 29 Jan 2021 | AH23: > 6 to 10 Years | AI23: 07-Mar-2023 | AJ23: 4297 | AK23: 4100 | AL23: 29-Nov-2025 | AM23: 66590.96 | AN23: 21946.04 | AO23: 88537 | AP23: 9806.04 | AQ23: 253.96 | AR23: 10060 | AS23: 9806.04 | AT23: 253.96 | AU23: 10060 | AV23: 42 | AW23: 591 | AX23: >180 | BB23: Open | BD23: 30-Sep-2025 | BE23: 76397 | BF23: SID951374325076 | BG23: 8878959433 | BH23: Ajay Kumar Das/SF0056026 | BI23: Visited | BJ23: 46227 | BK23: Borrower Available | BL23: Borrower | BM23: Not Available | BN23: Yes | BO23: 12200 | BP23: Multiple Evidence | BQ23: As per digital payment & bank statement emi fraud done by LO-Rishu Kumar/SF0070752, he collected emi from borrower from Kavita Devi , he collected emi of rs.4100 on 14-Nov-2024, again collected of rs.4100 on 09-Dec-2024, again collected of rs. 4000 on 09-Jan-2025 but these emi collected amount not posted in fimo,(4100*3=12200) .
A24: 20 | B24: East | C24: Jharkhand | D24: Ranchi | E24: Hazaribagh | F24: Hazaribagh | G24: JH2921 | H24: Tandwa | I24: 1313 | J24: Garilaung | K24: 1313 | L24: SF0079138 | M24: Abhishek Kumar Sharma | N24: 8540 | O24: 537815 | P24: 10494 | Q24: SHANTI | R24: Chetana | S24: SID951374427330 | T24: SID951374427330 | U24: GENERAL | V24: HINDU | W24: 0 | X24: Agriculture & Farming | Y24: 356735011 | Z24: RINA DEVI | AA24: 11-May-2024 | AB24: 66000 | AC24: 08 | AD24: 30 | AE24: 5 | AF24: 7.70 Yrs | AG24: 19 Jan 2021 | AH24: > 6 to 10 Years | AI24: 04-Jun-2024 | AJ24: 2980 | AK24: 2980 | AL24: 08-Jul-2026 | AM24: 55105.5 | AN24: 22374.5 | AO24: 77480 | AP24: 10894.5 | AQ24: 539.5 | AR24: 11434 | AS24: 0 | AT24: 0 | AU24: 0 | AV24: 26 | AW24: 0 | AX24: Standard | BB24: Open | BE24: 0 | BF24: SID951374427330 | BG24: 7677595320 | BH24: Md.Saquib Alam/SF0035810 | BI24: Visited | BJ24: 46240 | BK24: Borrower Not Available | BL24: Other Borrower | BM24: Not Available | BN24: NA | BQ24: Borrower and loan card not available during verification
A25: 21 | B25: East | C25: Jharkhand | D25: Ranchi | E25: Hazaribagh | F25: Hazaribagh | G25: JH2921 | H25: Tandwa | I25: 1678 | J25: Kamta | K25: 1678 | L25: SF0079138 | M25: Abhishek Kumar Sharma | N25: 6392 | O25: 561461 | P25: 589127 | Q25: ykgn 7 561461 G7 | R25: Chetana | S25: SID951374800675 | T25: SID951374800675 | U25: EBC | V25: HINDU | W25: 0 | X25: Agriculture & Farming | Y25: 357618104 | Z25: MUNEJA KHATUN | AA25: 02-Jul-2024 | AB25: 51000 | AC25: 09 | AD25: 30 | AE25: GL-4 | AF25: 7.09 Yrs | AG25: 25 Feb 2020 | AH25: > 6 to 10 Years | AI25: 06-Aug-2024 | AJ25: 2300 | AK25: 2300 | AL25: 09-Jul-2026 | AM25: 37861.51 | AN25: 17338.49 | AO25: 55200 | AP25: 13138.49 | AQ25: 965.51 | AR25: 14104 | AS25: 0 | AT25: 0 | AU25: 0 | AV25: 24 | AW25: 0 | AX25: Standard | BB25: Open | BE25: 0 | BF25: SID951374800675 | BG25: 8084355045 | BH25: Md.Saquib Alam/SF0035810 | BI25: Visited | BJ25: 46240 | BK25: Borrower Available | BL25: Borrower | BM25: Available | BN25: No | BQ25: Borrower and loan card available no issue
A26: 22 | B26: East | C26: Jharkhand | D26: Ranchi | E26: Hazaribagh | F26: Hazaribagh | G26: JH2921 | H26: Tandwa | I26: 2014 | J26: Raham | K26: 2014 | L26: SF0099964 | M26: Amarjit Kumar | N26: 7384 | O26: 599978 | P26: 476750 | Q26: 599978 Raja Hindustani1 | R26: Chetana | S26: SSF2832265 | T26: SSF2832265 | U26: EBC | V26: HINDU | W26: 0 | X26: Agriculture & Farming | Y26: 357737411 | Z26: ASRUN NISHA | AA26: 17-Jul-2024 | AB26: 65000 | AC26: 04 | AD26: 24 | AE26: GL-2 | AF26: 3.82 Yrs | AG26: 29 Sep 2022 | AH26: > 2 to 4 Years | AI26: 05-Sep-2024 | AJ26: 3470 | AK26: 3470 | AL26: 04-Jul-2026 | AM26: 60355.23 | AN26: 19454.77 | AO26: 79810 | AP26: 4644.77 | AQ26: 112.23 | AR26: 4757 | AS26: 0 | AT26: 0 | AU26: 0 | AV26: 23 | AW26: 0 | AX26: Standard | BB26: Open | BE26: 0 | BF26: SSF2832265 | BG26: 8002039496 | BH26: Md.Saquib Alam/SF0035810 | BI26: Visited | BJ26: 46240 | BK26: Borrower Available | BL26: Borrower | BM26: Available | BN26: No | BQ26: Borrower and loan card available no issue
A27: 23 | B27: East | C27: Jharkhand | D27: Ranchi | E27: Hazaribagh | F27: Hazaribagh | G27: JH2921 | H27: Tandwa | I27: 166917 | J27: Hewai | K27: 166917 | L27: SF0096994 | M27: Bablu Sharma | N27: 288025 | O27: Bukru C1 | P27: 378830 | Q27: Bukru C1 Maharaja1 | R27: Chetana | S27: SSF2287263 | T27: SSF2287263 | U27: SC | V27: HINDU | W27: 0 | X27: Agriculture & Farming | Y27: 357945912 | Z27: SITA DEVI | AA27: 06-Aug-2024 | AB27: 65000 | AC27: 06 | AD27: 24 | AE27: GL-2 | AF27: 3.33 Yrs | AG27: 25 Mar 2023 | AH27: > 2 to 4 Years | AI27: 02-Sep-2024 | AJ27: 3470 | AK27: 3470 | AL27: 06-Jul-2026 | AM27: 61762.61 | AN27: 18047.39 | AO27: 79810 | AP27: 3237.39 | AQ27: 62.61 | AR27: 3300 | AS27: 0 | AT27: 0 | AU27: 0 | AV27: 23 | AW27: 0 | AX27: Standard | BB27: Open | BE27: 0 | BF27: SSF2287263 | BG27: 7558494198 | BH27: Md.Saquib Alam/SF0035810 | BI27: Visited | BJ27: 46240 | BK27: Borrower Available | BL27: Borrower | BM27: Available | BN27: No | BQ27: Borrower and loan card available no issue
A28: 24 | B28: East | C28: Jharkhand | D28: Ranchi | E28: Hazaribagh | F28: Hazaribagh | G28: JH2921 | H28: Tandwa | I28: 166917 | J28: Hewai | K28: 166917 | L28: SF0072636 | M28: Deepak Kumar | N28: 6540 | O28: 369573 | P28: 709820 | Q28: 369573 Ram 21 | R28: Chetana | S28: SSF4113119 | T28: SSF4113119 | U28: SC | V28: HINDU | W28: 0 | X28: Tarpaulin Sheet Business | Y28: 357946018 | Z28: HEMPUSHPA DEVI | AA28: 06-Aug-2024 | AB28: 65000 | AC28: 06 | AD28: 24 | AE28: GL-2 | AF28: 3.03 Yrs | AG28: 14 Jul 2023 | AH28: > 2 to 4 Years | AI28: 02-Sep-2024 | AJ28: 3470 | AK28: 3470 | AL28: 06-Jul-2026 | AM28: 61762.61 | AN28: 18047.39 | AO28: 79810 | AP28: 3237.39 | AQ28: 62.61 | AR28: 3300 | AS28: 0 | AT28: 0 | AU28: 0 | AV28: 23 | AW28: 0 | AX28: Standard | BB28: Open | BE28: 0 | BF28: SSF4113119 | BG28: 7870503899 | BH28: Md.Saquib Alam/SF0035810 | BI28: Visited | BJ28: 46240 | BK28: Borrower Available | BL28: Borrower | BM28: Available | BN28: No | BQ28: Borrower and loan card available no issue
A29: 25 | B29: East | C29: Jharkhand | D29: Ranchi | E29: Hazaribagh | F29: Hazaribagh | G29: JH2921 | H29: Tandwa | I29: 166917 | J29: Hewai | K29: 166917 | L29: SF0072636 | M29: Deepak Kumar | N29: 6540 | O29: 369573 | P29: 7809 | Q29: 752141 | R29: Chetana | S29: SSF3253525 | T29: SSF3253525 | U29: SC | V29: HINDU | W29: 0 | X29: Agriculture & Farming | Y29: 358047788 | Z29: VASMATI DEVI | AA29: 01-Sep-2024 | AB29: 33000 | AC29: 06 | AD29: 24 | AE29: GL-2 | AF29: 3.50 Yrs | AG29: 24 Jan 2023 | AH29: > 2 to 4 Years | AI29: 07-Oct-2024 | AJ29: 1760 | AK29: 1760 | AL29: 11-Jul-2026 | AM29: 29581.42 | AN29: 9138.58 | AO29: 38720 | AP29: 3418.58 | AQ29: 106.42 | AR29: 3525 | AS29: 0 | AT29: 0 | AU29: 0 | AV29: 22 | AW29: 0 | AX29: Standard | BB29: Open | BE29: 0 | BF29: SSF3253525 | BG29: 9508955112 | BH29: Md.Saquib Alam/SF0035810 | BI29: Visited | BJ29: 46240 | BK29: Borrower Available | BL29: Borrower | BM29: Available | BN29: No | BQ29: Borrower and loan card available no issue
