Workbook
Name A: 'Backup sheet'!$D$2
Name ab: 'Backup sheet'!$E$3:$E$4
Name AE: 'Backup sheet'!$H$2
Name AOE: 'Backup sheet'!$I$2:$I$8
Name B: 'Backup sheet'!$D$3
Name BL: 'Backup sheet'!$J$2
Name BND: 'Backup sheet'!$D$4:$D$6
Name BOB: 'Backup sheet'!$E$3:$E$5
Name BS: 'Backup sheet'!$E$5
Name BWS: 'Backup sheet'!$I$9
Name CSOD: 'Backup sheet'!$F$2:$F$5
Name D: 'Backup sheet'!$D:$D
Name DCD: 'Backup sheet'!$I$3:$I$8
Name DD: 'Backup sheet'!$D$4
Name Default: 'Backup sheet'!$K$2
Name EE: 'Backup sheet'!$D$5
Name FF: 'Backup sheet'!$D$6
Name gf: #REF!
Name JJ: 'Backup sheet'!$E$2
Name KK: 'Backup sheet'!$E$3
Name LC: 'Backup sheet'!$H$2:$H$3
Name LDC: 'Backup sheet'!$I$2:$I$9
Name LL: 'Backup sheet'!$E$4
Name MBW: 'Backup sheet'!$I$3:$I$9
Name MM: 'Backup sheet'!$E$6
Name MMM: 'Backup sheet'!$B$4
Name NA: 'Backup sheet'!$J$4
Name NL: 'Backup sheet'!$H$3
Name NN: 'Backup sheet'!$E$7
Name OB: 'Backup sheet'!$E$4:$E$5
Name OO: 'Backup sheet'!$E$8
Name s: #REF!
Name SSS: 'Backup sheet'!$G$2:$G$3
Name tcs: 'Backup sheet'!$B$3
Name Type: 'Backup sheet'!$A$2:$A$6
Name vv: 'Backup sheet'!$B$2
Name YNN: 'Backup sheet'!$J$2:$J$4

Sheet Backup sheet
A1: FIA - Type of Compliant | B1: IA Visit/Tele Call Verification Status | C1: If Tele Call Not Success | D1: Availability of Borrower | E1: Confirmed By | F1: Cash Siphoned Off Details (Drop Down) | G1: If TeleCall Success | H1: Loan Card | I1: Availability of Evidence
A2: Collection Amount Misappropriated | B2: Visited | C2: Invalid Number | D2: Borrower Available | E2: Borrower | F2: Safe Locker Cash Siphoned Off | G2: Borrower | H2: Available | I2: Loan Card | J2: Yes
A3: Pre-Closure Amount Misappropriated | B3: Tele Call Success | C3: Incoming Facility Barred | D3: Borrower Not Available | E3: Borrower Family Member | F3: Collection Entry done in FIMO without Collecting Amount from Borrower - Borrower Details Available | G3: Borrower Family Member | H3: Not Available | I3: Digital Payment | J3: No
A4: Disbursed Amount Recollected | B4: Tele Call Not Success | C4: No Answer | D4: Borrower Not Traceable | E4: Other Borrower | F4: Collection Entry done in FIMO without Collecting Amount from Borrower - Borrower Details Not Available | I4: Cash Receipt | J4: NA
A5: Advance Collection Amount Misappropriated | C5: Out of Coverage Area | D5: Borrower-Migrated | E5: Branch Staff | F5: Collection Entry done in FIMO without Collecting Amount from Borrower - Borrower Details Partial Available | I5: Delinquent Staff Written Statement
A6: Loan Amount Misappropriation | C6: Other Member | D6: Borrower Death | E6: Borrower Migrated | I6: Center Meeting Register
C7: Staff Mobile Number | E7: Borrower Not Treceable | I7: Handwritten Receipt
C8: Switched Off | E8: Borrower Death | I8: Multiple Evidence
C9: Wrong Number | I9: Borrower Written Statement

Sheet Fraud Investigation Report
A1: Spandana Sphoorty Financial Limited
A2: Fraud Risk Management Department
A3: Fraud Investigation Report Tracker Version 1.2
A4: Sr. No. | B4: Financial Year/Quarter (Formula) | C4: Branch Code (Formula) | D4: Branch Name (Formula) | E4: State (Formula) | F4: Region (Formula) | G4: Date of Identification (DD-MMM-YY) | H4: Identified by (IA/Business/HR/IT etc) (Drop Down) | I4: Date of Complaint Raised (DD-MMM-YY) | J4: Compliant Number (Formula) | K4: Initial No. of Borrowers Identified | L4: Preliminary Fraud Amount | M4: Preliminary Fraud Amount Recovered | N4: AH Name/ID | O4: RH Name/ID | P4: SH Name/ID | Q4: CBO/DCBO Name/ID | R4: Name of the Staff Involved (Formula) | S4: Employee Designation (Formula) | T4: Employee Code (Formula) | U4: Employee Current Status (Drop Down) | V4: Date, if Employee not available/not working (DD-MMM-YY) | W4: Type of Compliant (Formula) | X4: Multiple Complaints If any (Formula) | Y4: Fraud Investigation Status (Drop Down) | Z4: Start Date of Fraud Investigation (DD-MMM-YY) | AA4: End Date of Fraud Investigation (DD-MMM-YY) | AB4: Veification done by AH Name | AC4: Veification done by AH Emp Id | AD4: Number of borrowers verified by AH | AE4: Investigation done by IO Name | AF4: Investigation done by IO Emp ID | AG4: Number of borrowers verified by IO | AH4: Total No. of Borrowers Verified (Formula) | AI4: Total Fraud Amount (Post Investigation) (Formula) | AJ4: Total Amount Accounted (Amount updated in FIMO during Verification) (On or before Fraud Investigation) (Formula) | AK4: Total Amount Recovered (Amount Recovred from staff during FI) (On or before Fraud Investigation) (Formula) | AL4: Balance Net Fraud Amount to recover (Formula) | AM4: Total number of Borrowers Affected (Formula) | AN4: Investigation Report Submitted Date (DD-MMM-YY) | AO4: Investigation Officer Observations & Remarks
A5: 1 | B5: =IF(I5="", "", IF(MONTH(I5)>=4, "Q" & ROUNDUP((MONTH(I5)-3)/3,0) & " " & YEAR(I5)-2000 & "-" & YEAR(I5)-1999, "Q" & ROUNDUP((MONTH(I5)+9)/3,0) & " " & YEAR(I5)-2001 & "-" & YEAR(I5)-2000)) -> Q2 26-27 | C5: =IF('Physical Cash at Safe'!D28="Yes", 'Physical Cash at Safe'!B4, 'Borrower Wise Details'!B5) -> MR2881 | D5: =IF('Physical Cash at Safe'!D28="Yes", 'Physical Cash at Safe'!A4, 'Borrower Wise Details'!C5) -> Anjangaon | E5: =IF(D5="", "", IF(ISBLANK('Loan Outstanding Report'!B5), IF('Physical Cash at Safe'!D28="Yes", 'Physical Cash at Safe'!A6, ""), 'Loan Outstanding Report'!B5)) -> West | F5: =IF(D5="", "", IF(ISBLANK('Loan Outstanding Report'!C5), IF('Physical Cash at Safe'!D28="Yes", 'Physical Cash at Safe'!E4, ""), 'Loan Outstanding Report'!C5)) -> Maharashtra | G5: 46167 | H5: Business | I5: 46212 | J5: =IF('Physical Cash at Safe'!D28="Yes",'Physical Cash at Safe'!E28,IF('Borrower Wise Details'!D5<>"",'Borrower Wise Details'!D5,"")) -> FN26-27-00977 | K5: 1 | L5: 2780 | M5: 0 | N5: Satish Patil/SF0084769 | O5: Mohamad Nasir Abdul Gani/SF0096975 | P5: Sudarshan Raosaheb Patil/SF0078799 | Q5: Umesh Kumar Sir/SF0088299 | R5: =IF('Physical Cash at Safe'!$D$28="Yes", 'Physical Cash at Safe'!$A$28, IF('Borrower Wise Details'!F5<>"", 'Borrower Wise Details'!F5, "")) -> Avinash Panjabrao Athavle | S5: =IF('Physical Cash at Safe'!$D$28="Yes", 'Physical Cash at Safe'!$C$28, IF('Borrower Wise Details'!H5<>"", 'Borrower Wise Details'!H5, "")) -> Credit Assistant | T5: =IF('Physical Cash at Safe'!$D$28="Yes", 'Physical Cash at Safe'!$B$28, IF('Borrower Wise Details'!G5<>"", 'Borrower Wise Details'!G5, "")) -> SF0084282 | U5: Terminated | V5: 45531 | W5: =IF('Physical Cash at Safe'!$D$28="Yes", "Safe Locker Cash Siphoned Off", IF('Borrower Wise Details'!$P$5<>"",'Borrower Wise Details'!$P$5,"") ) -> Collection Amount Misappropriated | X5: {=IF('Borrower Wise Details'!P5="","", IF('Physical Cash at Safe'!$D$28="Yes", IF(COUNT('Borrower Wise Details'!$P$5:$P$1003)<>"", IFERROR( _xlfn.TEXTJOIN("/",TRUE,_xlfn.UNIQUE(_xlfn._xlws.FILTER('Borrower Wise Details'!$P$5:$P$1003,'Borrower Wise Details'!$P$5:$P$1003<>""))), "" ), "" ), IF(COUNT('Borrower Wise Details'!$P$5:$P$1003)<>"", IFERROR( _xlfn.TEXTJOIN("/",TRUE,_xlfn.UNIQUE(_xlfn._xlws.FILTER('Borrower Wise Details'!$P$5:$P$1003,('Borrower Wise Details'!$P$5:$P$1003<>"")*('Borrower Wise Details'!$P$5:$P$1003<>INDEX(_xlfn._xlws.FILTER('Borrower Wise Details'!$P$5:$P$1003,'Borrower Wise Details'!$P$5:$P$1003<>""),1))))), "" ), "" ) ) )} | Y5: Completed-Report Submitted | Z5: 46217 | AA5: 46220 | AB5: NA | AC5: NA | AD5: NA | AE5: Rahul Sakarde | AF5: SF0026788 | AG5: 30 | AH5: {=IF(COUNTA('Loan Outstanding Report'!$BI$5:$BI$5988)=0,"",SUMPRODUCT(--(FREQUENCY(IF('Loan Outstanding Report'!$BI$5:$BI$5988<>"",MATCH('Loan Outstanding Report'!$S$5:$S$5988,'Loan Outstanding Report'!$S$5:$S$5988,0)),ROW('Loan Outstanding Report'!$S$5:$S$5988)-ROW('Loan Outstanding Report'!S5)+1)>0)))} -> 30 | AI5: {=IF(COUNTA('Borrower Wise Details'!$R$5:$R$1003)=0, "", IF('Physical Cash at Safe'!$D$28="Yes", 'Physical Cash at Safe'!$A$30 + SUM(SUMIFS('Borrower Wise Details'!$R$5:$R$1003, 'Borrower Wise Details'!$P$5:$P$1003, {"Collection Amount Misappropriated","Pre-Closure Amount Misappropriated","Disbursed Amount Recollected","Advance Collection Amount Misappropriated","Loan Amount Misappropriation"})), SUM(SUMIFS('Borrower Wise Details'!$R$5:$R$1003, 'Borrower Wise Details'!$P$5:$P$1003, {"Collection Amount Misappropriated","Pre-Closure Amount Misappropriated","Disbursed Amount Recollected","Advance Collection Amount Misappropriated","Loan Amount Misappropriation"})) ) )} -> 2830 | AJ5: 0 | AK5: 0 | AL5: =IFERROR(IF(COUNTA(AI:AK5)=0,"",AI5-(AJ5+AK5)),"") -> 2830 | AM5: {=IF(COUNTA('Borrower Wise Details'!$J$5:$J$1003)=0,"", SUMPRODUCT(--(FREQUENCY( IF(('Borrower Wise Details'!$J$5:$J$1003<>""),IF(ISNUMBER(SEARCH({"Collection Amount Misappropriated","Pre-Closure Amount Misappropriated","Disbursed Amount Recollected","Advance Collection Amount Misappropriated","Loan Amount Misappropriation"},'Borrower Wise Details'!$P$5:$P$1003)),MATCH('Borrower Wise Details'!$J$5:$J$1003,'Borrower Wise Details'!$J$5:$J$1003,0))), ROW('Borrower Wise Details'!$J$5:$J$1003)-ROW('Borrower Wise Details'!$J$5)+1)>0)))} -> 1 | AN5: 46224 | AO5: Credit Assistant - Avinash Panjabrao Athavle/SF0084282 was found involved Collection Amount Misappropriation (Collected EMIs but not posted to concerned borrower accounts) on the names of 01 borrower for the amounting to Rs. 2830/- based on the evidence available. Total Fraud Amount = Rs. 2830/- Recovered Amount = Rs. 00/- Net Fraud Amount = Rs. 2830/- Note: Staff Exist in Company 27 Aug 2024 but after that 3 Sep 2024 Loan card his signature found. Staff call not connected and as per Loan card Evidence Misappropriation consider.

Sheet Cash Embezzelment
A1: Spandana Sphoorty Financial Limited
A2: Fraud Risk Management Department
A3: Cash Embezzlement by Branch Staff | H3: Type of Fraud Amount
A4: Sr. No. | B4: Branch ID (Formula) | C4: Branch Name (Formula) | D4: Fradulent Staff Name (Formula) | E4: Fradulent Staff Emp ID (Formula) | F4: Fraudulent Staff Designation (Formula) | G4: Complaint Number (Formula) | H4: Safe Locker Cash Siphoned Off (Formula) | I4: Collection Amount Misappropriated (Formula) | J4: Pre-Closure Amount Misappropriated (Formula) | K4: Disbursed Amount Recollected (Formula) | L4: Advance Collection Amount Misappropriated (Formula) | M4: Loan Amount Misappropriation (Formula) | N4: Total Fraud Amount (Formula) | O4: Recovery Amount (Formula) | P4: Net Fraud Amount (Formula) | Q4: Fraud details of CDL Product (If Any) | R4: Police Complant/FIR Status (Drop Down)
A5: 1 | B5: =IF('Fraud Investigation Report'!C5="", "", 'Fraud Investigation Report'!C5) -> MR2881 | C5: =IF('Fraud Investigation Report'!D5="", "", 'Fraud Investigation Report'!D5) -> Anjangaon | D5: =IF(OR('Fraud Investigation Report'!R5="", 'Fraud Investigation Report'!R5=0), "", 'Fraud Investigation Report'!R5) -> Avinash Panjabrao Athavle | E5: =IF(OR('Fraud Investigation Report'!T5="", 'Fraud Investigation Report'!T5=0), "", 'Fraud Investigation Report'!T5) -> SF0084282 | F5: =IF(OR('Fraud Investigation Report'!S5="", 'Fraud Investigation Report'!S5=0), "", 'Fraud Investigation Report'!S5) -> Credit Assistant | G5: =IF('Fraud Investigation Report'!J5="", "", 'Fraud Investigation Report'!J5) -> FN26-27-00977 | H5: =IF(OR(ISNUMBER(SEARCH("Safe Locker Cash Siphoned Off",'Fraud Investigation Report'!W5)), ISNUMBER(SEARCH("Safe Locker Cash Siphoned Off",'Fraud Investigation Report'!X5))), 'Physical Cash at Safe'!$A$30, "") | I5: =IF(OR(ISNUMBER(SEARCH("Collection Amount Misappropriated",'Fraud Investigation Report'!W5)), ISNUMBER(SEARCH("Collection Amount Misappropriated",'Fraud Investigation Report'!X5))), SUMIFS('Borrower Wise Details'!$R$5:$R$1003, 'Borrower Wise Details'!$P$5:$P$1003, "Collection Amount Misappropriated"), "" ) -> 2830 | J5: =IF(OR(ISNUMBER(SEARCH("Pre-Closure Amount Misappropriated",'Fraud Investigation Report'!W5)), ISNUMBER(SEARCH("Pre-Closure Amount Misappropriated",'Fraud Investigation Report'!X5))), SUMIFS('Borrower Wise Details'!$R$5:$R$1003, 'Borrower Wise Details'!$P$5:$P$1003, "Pre-Closure Amount Misappropriated"), "" ) | K5: =IF(OR(ISNUMBER(SEARCH("Disbursed Amount Recollected",'Fraud Investigation Report'!W5)), ISNUMBER(SEARCH("Disbursed Amount Recollected",'Fraud Investigation Report'!X5))), SUMIFS('Borrower Wise Details'!$R$5:$R$1003, 'Borrower Wise Details'!$P$5:$P$1003, "Disbursed Amount Recollected"), "" ) | L5: =IF(OR(ISNUMBER(SEARCH("Advance Collection Amount Misappropriated",'Fraud Investigation Report'!W5)),ISNUMBER(SEARCH("Advance Collection Amount Misappropriated",'Fraud Investigation Report'!X5))), SUMIFS('Borrower Wise Details'!$R$5:$R$1003,'Borrower Wise Details'!$P$5:$P$1003,"Advance Collection Amount Misappropriated"), "" ) | M5: =IF(OR(ISNUMBER(SEARCH("Loan Amount Misappropriation",'Fraud Investigation Report'!W5)), ISNUMBER(SEARCH("Loan Amount Misappropriation",'Fraud Investigation Report'!X5))), SUMIFS('Borrower Wise Details'!$R$5:$R$1003, 'Borrower Wise Details'!$P$5:$P$1003, "Loan Amount Misappropriation"), "" ) | N5: =SUM(H5:M5) -> 2830 | O5: =IFERROR('Fraud Investigation Report'!AJ5+'Fraud Investigation Report'!AK5,"") -> 0 | P5: =IF(AND(N5="", O5=""), "", IF(O5="", N5, N5 - IF(ISNUMBER(O5), O5, 0))) -> 2830 | Q5: NA | R5: No Action Taken

Sheet Physical Cash at Safe
A1: Spandana Sphoorty Financial Limited
B2: Fraud Risk Management Department
A3: Branch Code | B3: Branch Name | C3: Area | D3: Region | E3: Zone
A4: MR2881 | B4: Anjangaon | C4: Murtizapur | D4: Amravati | E4: West
A5: State | B5: FIMO Opening Balance Date (DD-MMM-YY) | C5: Denomination Register Date (DD-MMM-YY) | D5: Date of Verification (DD-MMM-YY) | E5: Time of Verification (24 Hrs.) (HH:MM)
A6: Maharashtra | B6: 46216 | C6: 46215 | D6: 46216 | E6: 0.52083333
A7: Physical Cash Verification Certificate
A8: Note Denomination | B8: Cash as per FIMO | D8: Cash as per Physical Verification
B9: Number | C9: Amount (Rs.) | D9: Number | E9: Amount (Rs.)
A10: 2000 | C10: =B10*A10 -> 0 | E10: =D10*A10 -> 0
A11: 500 | B11: 221 | C11: =B11*A11 -> 110500 | D11: 221 | E11: =D11*A11 -> 110500
A12: 200 | B12: 26 | C12: =B12*A12 -> 5200 | D12: 26 | E12: =D12*A12 -> 5200
A13: 100 | B13: 188 | C13: =B13*A13 -> 18800 | D13: 188 | E13: =D13*A13 -> 18800
A14: 50 | B14: 3 | C14: =B14*A14 -> 150 | D14: 3 | E14: =D14*A14 -> 150
A15: 20 | B15: 2 | C15: =B15*A15 -> 40 | D15: 2 | E15: =D15*A15 -> 40
A16: 10 | B16: 6 | C16: =B16*A16 -> 60 | D16: 6 | E16: =D16*A16 -> 60
A17: 5 | B17: 0 | C17: =B17*A17 -> 0 | D17: 0 | E17: =D17*A17 -> 0
A18: All Coins | B18: 31 | C18: =B18 -> 31 | D18: 31 | E18: =D18 -> 31
B19: Total | C19: =SUM(C10:C18) -> 134781 | D19: Total | E19: =SUM(E10:E18) -> 134781
A20: Denomination Register Opening Cash Balance | C20: 134781 | D20: Petty Expenses | E20: 0
A21: Collection Amount | C21: 0 | D21: Bank Deposit Amount | E21: 0
A22: Counter Fiet Notes (If Any) Mention Denomination in Remarks | C22: 0 | D22: Availability of Deposit Slip (Drop Down)
A23: Difference (Excess/Short) | C23: =(C19+C21)-(E20+E21)-E19 -> 0 | D23: Digital payment in Branch staff personal a/c Amount | E23: 0
A24: Investigation Officer Remarks for the Differences | B24: Physical Cash Tailed with FIMO
A25: Explanation provided by Branch Manager
A26: Physical Cash Siphoned Off Details
A27: Cash Siphoned Off by EMP Name | B27: Cash Siphoned Off by Emp ID | C27: Cash Siphoned Off by Emp Designation | D27: Cash Siphoned Off (Drop Down) | E27: Complaint Number
D28: No
A29: Cash Siphoned Off Amount (Gross Fraud) | B29: Recovery Amount | C29: Cash Siphoned Off Amount (Net Fraud) | D29: Cash Siphoned Off Details (Drop Down)
C30: =IF(AND(A30="",B30=""),"",A30-B30)
A32: Safe Keys Handled by (Drop Down) | B32: Dual Staff | C32: Updation of Key Register (Drop Down) | D32: Available & Updated
A33: "Right" Key Number | B33: 1 | C33: "Left" Key Number | D33: 2
A34: "Right" Key Holder Name (Physical) | B34: Amol Laxman Marabade | C34: "Left" Key Holder Name (Physical) | D34: Lakhan Eknath Pundkar
A35: "Right" Key Holder Emp ID (Physical) | B35: SF0095585 | C35: "Left" Key Holder Emp ID (Physical) | D35: SF0103754
A36: "Right" Key Holder Designation (Physical) | B36: Branch Manager | C36: "Left" Key Holder Designation (Physical) | D36: Senior Credit Assistant

Sheet Borrower Wise Details
A1: Spandana Sphoorty Financial Limited
A2: Fraud Risk Management Department
A3: Borrower Wise Details Ver 1.2 | E3: Home | F3: Loan O/s Report | U3: Home | V3: Loan O/s Report
A4: Sr. No. | B4: Branch Code (Formula) | C4: Branch Name (Formula) | D4: Complaint No. (Formula from 2 row) | E4: Date of IO Visit (DD/MMM/YY) | F4: Fradulent Staff Name (Formula from 2 row) | G4: Fradulent Staff Emp. ID (Formula from 2 row) | H4: Fraudulent Staff Designation (Formula from 2 row) | I4: Center Number | J4: Customer ID | K4: Borrower Name | L4: Loan ID | M4: Date of Disbursement as per FIMO (DD/MM/YY) | N4: Disbursed Amount as per FIMO | O4: Installment Amount as per FIMO | P4: Type of Amount Collected (Drop Down) | Q4: Date of Collection (DD/MM/YY) | R4: Total Amount Collected (Gross Fraud) | S4: Amount Adjusted & Accounted in FIMO | T4: Amount Recovered But "Not" Accounted in FIMO | U4: Difference Amount (Net Fraud) (Formula) | V4: Availability of Evidence | W4: Remarks (If Applicable)
A5: 1 | B5: =IF('Loan Outstanding Report'!$G$5="", "", 'Loan Outstanding Report'!$G$5) -> MR2881 | C5: =IF('Loan Outstanding Report'!$H$5="", "", 'Loan Outstanding Report'!$H$5) -> Anjangaon | D5: FN26-27-00977 | E5: 46217 | F5: Avinash Panjabrao Athavle | G5: SF0084282 | H5: Credit Assistant | I5: 623223 | J5: SID951374553885 | K5: ARTI AMOL KALE | L5: 352423316 | M5: 45145 | N5: 53000 | O5: 2830 | P5: Collection Amount Misappropriated | Q5: 45538 | R5: 2830 | S5: 0 | T5: 0 | U5: =IF(AND(ISBLANK(R5),ISBLANK(S5),ISBLANK(T5)),"",R5-(S5+T5)) -> 2830 | V5: Loan Card | W5: As per Loan card Borrower ARTI AMOL KALE/352423316 Paid EMI on date 03 Sep 2024 Amount of Rs 2830/- to Credit Assistant - Avinash Panjabrao Athavle/SF0084282 but Same he didn't posted in FIMO.
A6: 2 | B6: =IF(J6<>"", $B$5, "") | C6: =IF(J6<>"", $C$5, "") | D6: =IF(J6<>"", $D$5, "") | F6: =IF(J6<>"", $F$5, "") | G6: =IF(J6<>"", $G$5, "") | H6: =IF(J6<>"", $H$5, "") | U6: =IF(AND(ISBLANK(R6),ISBLANK(S6),ISBLANK(T6)),"",R6-(S6+T6))
A7: 3 | B7: =IF(J7<>"", $B$5, "") | C7: =IF(J7<>"", $C$5, "") | D7: =IF(J7<>"", $D$5, "") | F7: =IF(J7<>"", $F$5, "") | G7: =IF(J7<>"", $G$5, "") | H7: =IF(J7<>"", $H$5, "") | U7: =IF(AND(ISBLANK(R7),ISBLANK(S7),ISBLANK(T7)),"",R7-(S7+T7))
A8: 4 | B8: =IF(J8<>"", $B$5, "") | C8: =IF(J8<>"", $C$5, "") | D8: =IF(J8<>"", $D$5, "") | F8: =IF(J8<>"", $F$5, "") | G8: =IF(J8<>"", $G$5, "") | H8: =IF(J8<>"", $H$5, "") | U8: =IF(AND(ISBLANK(R8),ISBLANK(S8),ISBLANK(T8)),"",R8-(S8+T8))
A9: 5 | B9: =IF(J9<>"", $B$5, "") | C9: =IF(J9<>"", $C$5, "") | D9: =IF(J9<>"", $D$5, "") | F9: =IF(J9<>"", $F$5, "") | G9: =IF(J9<>"", $G$5, "") | H9: =IF(J9<>"", $H$5, "") | U9: =IF(AND(ISBLANK(R9),ISBLANK(S9),ISBLANK(T9)),"",R9-(S9+T9))
A10: 6 | B10: =IF(J10<>"", $B$5, "") | C10: =IF(J10<>"", $C$5, "") | D10: =IF(J10<>"", $D$5, "") | F10: =IF(J10<>"", $F$5, "") | G10: =IF(J10<>"", $G$5, "") | H10: =IF(J10<>"", $H$5, "") | U10: =IF(AND(ISBLANK(R10),ISBLANK(S10),ISBLANK(T10)),"",R10-(S10+T10))
A11: 7 | B11: =IF(J11<>"", $B$5, "") | C11: =IF(J11<>"", $C$5, "") | D11: =IF(J11<>"", $D$5, "") | F11: =IF(J11<>"", $F$5, "") | G11: =IF(J11<>"", $G$5, "") | H11: =IF(J11<>"", $H$5, "") | U11: =IF(AND(ISBLANK(R11),ISBLANK(S11),ISBLANK(T11)),"",R11-(S11+T11))
A12: 8 | B12: =IF(J12<>"", $B$5, "") | C12: =IF(J12<>"", $C$5, "") | D12: =IF(J12<>"", $D$5, "") | F12: =IF(J12<>"", $F$5, "") | G12: =IF(J12<>"", $G$5, "") | H12: =IF(J12<>"", $H$5, "") | U12: =IF(AND(ISBLANK(R12),ISBLANK(S12),ISBLANK(T12)),"",R12-(S12+T12))
A13: 9 | B13: =IF(J13<>"", $B$5, "") | C13: =IF(J13<>"", $C$5, "") | D13: =IF(J13<>"", $D$5, "") | F13: =IF(J13<>"", $F$5, "") | G13: =IF(J13<>"", $G$5, "") | H13: =IF(J13<>"", $H$5, "") | U13: =IF(AND(ISBLANK(R13),ISBLANK(S13),ISBLANK(T13)),"",R13-(S13+T13))
A14: 10 | B14: =IF(J14<>"", $B$5, "") | C14: =IF(J14<>"", $C$5, "") | D14: =IF(J14<>"", $D$5, "") | F14: =IF(J14<>"", $F$5, "") | G14: =IF(J14<>"", $G$5, "") | H14: =IF(J14<>"", $H$5, "") | U14: =IF(AND(ISBLANK(R14),ISBLANK(S14),ISBLANK(T14)),"",R14-(S14+T14))
A15: 11 | B15: =IF(J15<>"", $B$5, "") | C15: =IF(J15<>"", $C$5, "") | D15: =IF(J15<>"", $D$5, "") | F15: =IF(J15<>"", $F$5, "") | G15: =IF(J15<>"", $G$5, "") | H15: =IF(J15<>"", $H$5, "") | U15: =IF(AND(ISBLANK(R15),ISBLANK(S15),ISBLANK(T15)),"",R15-(S15+T15))
A16: 12 | B16: =IF(J16<>"", $B$5, "") | C16: =IF(J16<>"", $C$5, "") | D16: =IF(J16<>"", $D$5, "") | F16: =IF(J16<>"", $F$5, "") | G16: =IF(J16<>"", $G$5, "") | H16: =IF(J16<>"", $H$5, "") | U16: =IF(AND(ISBLANK(R16),ISBLANK(S16),ISBLANK(T16)),"",R16-(S16+T16))
A17: 13 | B17: =IF(J17<>"", $B$5, "") | C17: =IF(J17<>"", $C$5, "") | D17: =IF(J17<>"", $D$5, "") | F17: =IF(J17<>"", $F$5, "") | G17: =IF(J17<>"", $G$5, "") | H17: =IF(J17<>"", $H$5, "") | U17: =IF(AND(ISBLANK(R17),ISBLANK(S17),ISBLANK(T17)),"",R17-(S17+T17))
... A103: 99 | B103: =IF(J103<>"", $B$5, "") | C103: =IF(J103<>"", $C$5, "") | D103: =IF(J103<>"", $D$5, "") | F103: =IF(J103<>"", $F$5, "") | G103: =IF(J103<>"", $G$5, "") | H103: =IF(J103<>"", $H$5, "") | U103: =IF(AND(ISBLANK(R103),ISBLANK(S103),ISBLANK(T103)),"",R103-(S103+T103))
A104: 100 | B104: =IF(J104<>"", $B$5, "") | H104: =IF(J104<>"", $H$5, "") | U104: =IF(AND(ISBLANK(R104),ISBLANK(S104),ISBLANK(T104)),"",R104-(S104+T104))
A105: 101 | U105: =IF(AND(ISBLANK(R105),ISBLANK(S105),ISBLANK(T105)),"",R105-(S105+T105))
A106: 102 | U106: =IF(AND(ISBLANK(R106),ISBLANK(S106),ISBLANK(T106)),"",R106-(S106+T106))
A107: 103 | U107: =IF(AND(ISBLANK(R107),ISBLANK(S107),ISBLANK(T107)),"",R107-(S107+T107))
A108: 104 | U108: =IF(AND(ISBLANK(R108),ISBLANK(S108),ISBLANK(T108)),"",R108-(S108+T108))
A109: 105 | U109: =IF(AND(ISBLANK(R109),ISBLANK(S109),ISBLANK(T109)),"",R109-(S109+T109))
A110: 106 | U110: =IF(AND(ISBLANK(R110),ISBLANK(S110),ISBLANK(T110)),"",R110-(S110+T110))
A111: 107 | U111: =IF(AND(ISBLANK(R111),ISBLANK(S111),ISBLANK(T111)),"",R111-(S111+T111))
A112: 108 | U112: =IF(AND(ISBLANK(R112),ISBLANK(S112),ISBLANK(T112)),"",R112-(S112+T112))
A113: 109 | U113: =IF(AND(ISBLANK(R113),ISBLANK(S113),ISBLANK(T113)),"",R113-(S113+T113))
A114: 110 | U114: =IF(AND(ISBLANK(R114),ISBLANK(S114),ISBLANK(T114)),"",R114-(S114+T114))
A115: 111 | U115: =IF(AND(ISBLANK(R115),ISBLANK(S115),ISBLANK(T115)),"",R115-(S115+T115))
A116: 112 | U116: =IF(AND(ISBLANK(R116),ISBLANK(S116),ISBLANK(T116)),"",R116-(S116+T116))
... A1003: 999 | U1003: =IF(AND(ISBLANK(R1003),ISBLANK(S1003),ISBLANK(T1003)),"",R1003-(S1003+T1003))

Sheet Loan Outstanding Report
A1: From Date : 14 July 2026
A2: To Date : 14 July 2026
A3: Reporting Time : Thursday, July 14, 2026 7:00 AM | BG3: Home | BH3: Borrower Wise Details | BP3: Home | BQ3: Borrower Wise Details
A4: S No | B4: Zone | C4: State | D4: Region | E4: Area | F4: Cluster | G4: Branch Code | H4: Branch | I4: Village Id | J4: Village | K4: Village ID | L4: CSR EMP ID | M4: CSR NAME | N4: Center Id | O4: Center Number | P4: Group ID | Q4: Group Name | R4: Product Name | S4: Cust ID | T4: UCIC | U4: Caste | V4: Religion | W4: PPI Score | X4: Loan purpose | Y4: Loan No. | Z4: Customer Name | AA4: Disb date | AB4: Loan Amount | AC4: Center Meeting Date | AD4: No of Instalments | AE4: Loan Cycle | AF4: Vintage | AG4: Client Formation Date | AH4: Vintage Bracket | AI4: First Installment Date | AJ4: First EMI amount | AK4: Second EMI amount | AL4: Last Repaid Date | AM4: Principal Collection | AN4: Interest Collection | AO4: Total Collection | AP4: Outstanding Principal | AQ4: Outstanding Interest | AR4: Outstanding Total | AS4: Over Due Prin | AT4: Over Due Int | AU4: Over Due Total | AV4: No of Installments Paid | AW4: OD days | AX4: Ageing Bucket | AY4: Last Prepayment Date | AZ4: Prepayment Prin | BA4: Prepayment Interest | BB4: Loan Status | BC4: Death Flag | BD4: Woff date | BE4: Woff Amount | BF4: Ucic | BG4: Borrower Mobile Number | BH4: IO Staff Name/ID (Ex: Ganesh/SF0072845) | BI4: Verification Status (Drop Down) | BJ4: IO Visited Date (DD-MMM-YY) | BK4: Availability of Borrower (Dropdown) | BL4: Confirmed By (Drop Down) | BM4: Availability of Loan Card (Drop Down) | BN4: Cash Misappropriation Status (Drop Down) | BO4: Total Fraud Amount | BP4: Availability of Evidence (Drop Down) | BQ4: Remarks
A5: 1 | B5: West | C5: Maharashtra | D5: Amravati | E5: Murtizapur | F5: Murtizapur | G5: MR2881 | H5: Anjangaon | I5: 119897 | J5: Sategaon | K5: 119897 | L5: SF0103385 | M5: Darshan Vijay Khadse | N5: 202404 | O5: 623223 | P5: 268086 | Q5: VITHAL | R5: Abhilasha - JLG Loans-Monthly-Migrated | S5: SID951374630128 | T5: SID951374630128 | U5: EBC | V5: HINDU | W5: 0 | X5: TAILORING | Y5: 13919794 | Z5: CHITRA KISHOR | AA5: 18-Jan-2019 | AB5: 20744 | AC5: 03 | AD5: 38 | AE5: 1 | AF5: 7.49 Yrs | AG5: 18 Jan 2019 | AH5: > 6 to 10 Years | AI5: 18-Jan-2019 | AJ5: 785 | AK5: 785 | AL5: 31-Mar-2022 | AM5: 16214.81 | AN5: 86 | AO5: 16300.81 | AP5: 5230.81 | AQ5: 222.23 | AR5: 5453.04 | AS5: 4727.19 | AT5: 222.23 | AU5: 4949.42 | AV5: 59 | AW5: 1725 | AX5: >180 | BB5: Open | BD5: 31-Mar-2023 | BE5: 20744 | BF5: SID951374630128 | BG5: 8888182602 | BH5: Rahul Sakarde/SF0026788 | BI5: Visited | BJ5: 46217 | BK5: Borrower Not Available | BL5: Borrower Family Member | BM5: Not Available | BN5: NA | BQ5: Confirmed from borrower Family Member but there is not found loan card for verification
A6: 2 | B6: West | C6: Maharashtra | D6: Amravati | E6: Murtizapur | F6: Murtizapur | G6: MR2881 | H6: Anjangaon | I6: 119897 | J6: Sategaon | K6: 119897 | L6: SF0103385 | M6: Darshan Vijay Khadse | N6: 202404 | O6: 623223 | P6: 268086 | Q6: VITHAL | R6: Abhilasha - JLG Loans-BiWeekly-Migrated | S6: SID951374630130 | T6: SID951374630130 | U6: EBC | V6: HINDU | W6: 0 | X6: TAILORING | Y6: 13919796 | Z6: SONAL ATUL | AA6: 18-Jan-2019 | AB6: 20744 | AC6: 03 | AD6: 38 | AE6: 1 | AF6: 7.49 Yrs | AG6: 18 Jan 2019 | AH6: > 6 to 10 Years | AI6: 18-Jan-2019 | AJ6: 0 | AK6: 0 | AL6: 27-Dec-2023 | AM6: 16157.28 | AN6: 166.7 | AO6: 16323.98 | AP6: 4990.72 | AQ6: 0 | AR6: 4990.72 | AS6: 4991.13 | AT6: 0 | AU6: 4991.13 | AV6: 114 | AW6: 2141 | AX6: >180 | BB6: Open | BD6: 31-Mar-2023 | BE6: 20744 | BF6: SID951374630130 | BG6: 7218199875 | BH6: Rahul Sakarde/SF0026788 | BI6: Visited | BJ6: 46217 | BK6: Borrower Not Available | BL6: Borrower Family Member | BM6: Not Available | BN6: NA | BQ6: Confirmed from borrower Family Member but there is not found loan card for verification
A7: 3 | B7: West | C7: Maharashtra | D7: Amravati | E7: Murtizapur | F7: Murtizapur | G7: MR2881 | H7: Anjangaon | I7: 119125 | J7: Surji | K7: 119125 | L7: SF0103754 | M7: Lakhan Eknath Pundkar | N7: 204512 | O7: 532241 | P7: 270702 | Q7: NAVRANG | R7: Interim Loans-Monthly-Migrated | S7: SID951374378728 | T7: SID951374378728 | U7: OBC | V7: HINDU | W7: 0 | X7: CANTEEN | Y7: 15487465 | Z7: SARIKA PRAMOD | AA7: 12-Apr-2019 | AB7: 15558 | AC7: 10 | AD7: 38 | AE7: 1 | AF7: 7.73 Yrs | AG7: 12 Apr 2019 | AH7: > 6 to 10 Years | AI7: 12-Apr-2019 | AJ7: 590 | AK7: 590 | AL7: 26-Dec-2023 | AM7: 10805.48 | AN7: 76 | AO7: 10881.48 | AP7: 5342.21 | AQ7: 433.54 | AR7: 5775.75 | AS7: 5060.52 | AT7: 433.54 | AU7: 5494.06 | AV7: 59 | AW7: 1726 | AX7: >180 | BB7: Open | BD7: 31-Mar-2023 | BE7: 15558 | BF7: SID951374378728 | BG7: 8557872851 | BH7: Rahul Sakarde/SF0026788 | BI7: Visited | BJ7: 46218 | BK7: Borrower Available | BL7: Borrower | BM7: Not Available | BN7: No | BQ7: Confirmed from borrower but there is no any evidence available for further verification.
A8: 4 | B8: West | C8: Maharashtra | D8: Amravati | E8: Murtizapur | F8: Murtizapur | G8: MR2881 | H8: Anjangaon | I8: 124084 | J8: Akot | K8: 124084 | L8: SF0103754 | M8: Lakhan Eknath Pundkar | N8: 220346 | O8: 695356 | P8: 290835 | Q8: nursing maharaj | R8: Abhilasha - JLG Loans-Monthly-Migrated | S8: SID951375808399 | T8: SID951375808399 | U8: OBC | V8: HINDU | W8: 0 | X8: AUTOMOBILE SHOP | Y8: 21943229 | Z8: Rekha Mohan Sulkiya | AA8: 09-Mar-2020 | AB8: 31116 | AC8: 06 | AD8: 18 | AE8: 1 | AF8: 6.35 Yrs | AG8: 09 Mar 2020 | AH8: > 6 to 10 Years | AI8: 09-Mar-2020 | AJ8: 2050 | AK8: 2050 | AL8: 30-Sep-2021 | AM8: 7932.92 | AN8: 0 | AO8: 7932.92 | AP8: 30255.86 | AQ8: 4043.92 | AR8: 34299.78 | AS8: 27194.08 | AT8: 4043.92 | AU8: 31238 | AV8: 59 | AW8: 1742 | AX8: >180 | BB8: Open | BD8: 31-Mar-2022 | BE8: 31116 | BF8: SID951375808399 | BG8: 9689543506 | BH8: Rahul Sakarde/SF0026788 | BI8: Visited | BJ8: 46219 | BK8: Borrower Available | BL8: Borrower | BM8: Not Available | BN8: No | BQ8: Confirmed from borrower but there is no any evidence available for further verification.
A9: 5 | B9: West | C9: Maharashtra | D9: Amravati | E9: Murtizapur | F9: Murtizapur | G9: MR2881 | H9: Anjangaon | I9: 124084 | J9: Akot | K9: 124084 | L9: SF0103754 | M9: Lakhan Eknath Pundkar | N9: 220346 | O9: 695356 | P9: 290835 | Q9: nursing maharaj | R9: Abhilasha - JLG Loans-Monthly-Migrated | S9: SID951375808414 | T9: SID951375808414 | U9: OBC | V9: HINDU | W9: 0 | X9: Agriculture & Farming | Y9: 21943251 | Z9: Sau.Durgabai Suresh Shivarkar | AA9: 09-Mar-2020 | AB9: 31116 | AC9: 06 | AD9: 18 | AE9: 1 | AF9: 6.35 Yrs | AG9: 09 Mar 2020 | AH9: > 6 to 10 Years | AI9: 09-Mar-2020 | AJ9: 2050 | AK9: 2050 | AL9: 12-Jul-2022 | AM9: 15675.29 | AN9: 10 | AO9: 15685.29 | AP9: 18502.71 | AQ9: 1220.29 | AR9: 19723 | AS9: 15440.71 | AT9: 1220.29 | AU9: 16661 | AV9: 60 | AW9: 1834 | AX9: >180 | BB9: Open | BD9: 30-Jun-2022 | BE9: 31116 | BF9: SID951375808414 | BG9: 9763103408 | BH9: Rahul Sakarde/SF0026788 | BI9: Visited | BJ9: 46219 | BK9: Borrower Not Available | BL9: Borrower Family Member | BM9: Not Available | BN9: NA | BQ9: Confirmed from borrower Family Member but there is not found loan card for verification
A10: 6 | B10: West | C10: Maharashtra | D10: Amravati | E10: Murtizapur | F10: Murtizapur | G10: MR2881 | H10: Anjangaon | I10: 124084 | J10: Akot | K10: 124084 | L10: SF0103754 | M10: Lakhan Eknath Pundkar | N10: 220346 | O10: 695356 | P10: 290835 | Q10: nursing maharaj | R10: Abhilasha - JLG Loans-Monthly-Migrated | S10: SID951375808431 | T10: SID951375808431 | U10: OBC | V10: HINDU | W10: 0 | X10: Cashew Business | Y10: 21943288 | Z10: Chhaya Janrao Ambhore | AA10: 09-Mar-2020 | AB10: 31116 | AC10: 06 | AD10: 18 | AE10: 1 | AF10: 6.35 Yrs | AG10: 09 Mar 2020 | AH10: > 6 to 10 Years | AI10: 09-Mar-2020 | AJ10: 2050 | AK10: 2050 | AL10: 11-Jul-2022 | AM10: 19592.88 | AN10: 10 | AO10: 19602.88 | AP10: 14585.12 | AQ10: 760.88 | AR10: 15346 | AS10: 11523.12 | AT10: 760.88 | AU10: 12284 | AV10: 60 | AW10: 1772 | AX10: >180 | BB10: Open | BD10: 30-Jun-2022 | BE10: 31116 | BF10: SID951375808431 | BG10: 7620137732 | BH10: Rahul Sakarde/SF0026788 | BI10: Visited | BJ10: 46219 | BK10: Borrower Available | BL10: Borrower | BM10: Not Available | BN10: No | BQ10: Confirmed from borrower but there is no any evidence available for further verification.
A11: 7 | B11: West | C11: Maharashtra | D11: Amravati | E11: Murtizapur | F11: Murtizapur | G11: MR2881 | H11: Anjangaon | I11: 124084 | J11: Akot | K11: 124084 | L11: SF0103754 | M11: Lakhan Eknath Pundkar | N11: 484015 | O11: Akot C15 | P11: 764803 | Q11: Akot C15 Shahin Couleny1 | R11: Chetana Loans-Montly-Migrated | S11: SID951375441893 | T11: SID951375441893 | U11: OBC | V11: MUSLIM | W11: 0 | X11: Agriculture & Farming | Y11: 24725074 | Z11: Rukhsana Parvin Ayub Sha | AA11: 22-Oct-2020 | AB11: 51860 | AC11: 06 | AD11: 24 | AE11: 2 | AF11: 6.64 Yrs | AG11: 22 Oct 2020 | AH11: > 6 to 10 Years | AI11: 22-Oct-2020 | AJ11: 2700 | AK11: 2700 | AL11: 27-Dec-2023 | AM11: 15996.09 | AN11: 1629.81 | AO11: 17625.9 | AP11: 36730.68 | AQ11: 5451.38 | AR11: 42182.06 | AS11: 36730.91 | AT11: 5451.38 | AU11: 42182.29 | AV11: 59 | AW11: 1650 | AX11: >180 | BB11: Open | BD11: 30-Jun-2022 | BE11: 51860 | BF11: SID951375441893 | BG11: 8378933871 | BH11: Rahul Sakarde/SF0026788 | BI11: Visited | BJ11: 46219 | BK11: Borrower Available | BL11: Borrower | BM11: Not Available | BN11: No | BQ11: Confirmed from borrower but there is no any evidence available for further verification.
A12: 8 | B12: West | C12: Maharashtra | D12: Amravati | E12: Murtizapur | F12: Murtizapur | G12: MR2881 | H12: Anjangaon | I12: 124084 | J12: Akot | K12: 124084 | L12: SF0103754 | M12: Lakhan Eknath Pundkar | N12: 480400 | O12: Akot C13 | P12: 755599 | Q12: Akot C13 Shahista1 | R12: Chetana Loans-Montly-Migrated | S12: SID951375449845 | T12: SID951375449845 | U12: OBC | V12: MUSLIM | W12: 0 | X12: Auto Repair | Y12: 24783572 | Z12: Yasmin Bi She.Akil | AA12: 22-Oct-2020 | AB12: 51860 | AC12: 06 | AD12: 24 | AE12: 2 | AF12: 6.64 Yrs | AG12: 22 Oct 2020 | AH12: > 6 to 10 Years | AI12: 22-Oct-2020 | AJ12: 2700 | AK12: 2700 | AL12: 27-Dec-2023 | AM12: 7649.28 | AN12: 14.71 | AO12: 7663.99 | AP12: 47587.92 | AQ12: 8528.57 | AR12: 56116.49 | AS12: 47588.72 | AT12: 8528.57 | AU12: 56117.29 | AV12: 59 | AW12: 1742 | AX12: >180 | BB12: Open | BE12: 0 | BF12: SID951375449845 | BG12: 9657703339 | BH12: Rahul Sakarde/SF0026788 | BI12: Visited | BJ12: 46219 | BK12: Borrower Not Available | BL12: Borrower Family Member | BM12: Not Available | BN12: NA | BQ12: Confirmed from borrower Family Member but there is not found loan card for verification
A13: 9 | B13: West | C13: Maharashtra | D13: Amravati | E13: Murtizapur | F13: Murtizapur | G13: MR2881 | H13: Anjangaon | I13: 124084 | J13: Akot | K13: 124084 | L13: SF0103754 | M13: Lakhan Eknath Pundkar | N13: 209177 | O13: 661226 | P13: 276605 | Q13: Shanti | R13: Chetana Loans-Montly-Migrated | S13: SID951375441964 | T13: SID951375441964 | U13: EBC | V13: HINDU | W13: 0 | X13: Agriculture & Farming | Y13: 25204677 | Z13: madhuri Prashant Wankhade | AA13: 22-Oct-2020 | AB13: 62232 | AC13: 06 | AD13: 24 | AE13: 3 | AF13: 6.65 Yrs | AG13: 22 Oct 2020 | AH13: > 6 to 10 Years | AI13: 22-Oct-2020 | AJ13: 3200 | AK13: 3200 | AL13: 27-Dec-2023 | AM13: 30402.35 | AN13: 1931.24 | AO13: 32333.59 | AP13: 31829.65 | AQ13: 3340.76 | AR13: 35170.41 | AS13: 31829.65 | AT13: 3340.76 | AU13: 35170.41 | AV13: 59 | AW13: 1650 | AX13: >180 | BB13: Open | BE13: 0 | BF13: SID951375441964 | BG13: 7350701862 | BH13: Rahul Sakarde/SF0026788 | BI13: Visited | BJ13: 46219 | BK13: Borrower Not Available | BL13: Borrower Family Member | BM13: Not Available | BN13: NA | BQ13: Confirmed from borrower Family Member but there is not found loan card for verification
A14: 10 | B14: West | C14: Maharashtra | D14: Amravati | E14: Murtizapur | F14: Murtizapur | G14: MR2881 | H14: Anjangaon | I14: 118949 | J14: Surji | K14: 118949 | L14: SF0100374 | M14: Yash Mangesh Banubakode | N14: 373971 | O14: Surji C15 | P14: 545416 | Q14: Surji C15 Sakhi021 | R14: Chetana | S14: SSF3097177 | T14: SSF3097177 | U14: GENERAL | V14: MUSLIM | W14: 541 | X14: Cotton Business | Y14: 349973824 | Z14: PARVEEN SABA SHAIKH YUSUF | AA14: 23-Dec-2022 | AB14: 33602 | AC14: 10 | AD14: 24 | AE14: 1 | AF14: 3.56 Yrs | AG14: 23 Dec 2022 | AH14: > 2 to 4 Years | AI14: 10-Feb-2023 | AJ14: 2078 | AK14: 1800 | AL14: 01-Oct-2024 | AM14: 28421.15 | AN14: 9656.85 | AO14: 38078 | AP14: 5180.85 | AQ14: 219.15 | AR14: 5400 | AS14: 5180.85 | AT14: 219.15 | AU14: 5400 | AV14: 42 | AW14: 607 | AX14: >180 | BB14: Open | BD14: 31-Mar-2025 | BE14: 33602 | BF14: SSF3097177 | BG14: 9763125334 | BH14: Rahul Sakarde/SF0026788 | BI14: Visited | BJ14: 46218 | BK14: Borrower Not Available | BL14: Borrower Family Member | BM14: Not Available | BN14: NA | BQ14: Confirmed from borrower Family Member but there is not found loan card for verification
A15: 11 | B15: West | C15: Maharashtra | D15: Amravati | E15: Murtizapur | F15: Murtizapur | G15: MR2881 | H15: Anjangaon | I15: 124084 | J15: Akot | K15: 124084 | L15: SF0103754 | M15: Lakhan Eknath Pundkar | N15: 382075 | O15: Akot C5 | P15: 561460 | Q15: Akot C5 MeenBai1 | R15: Chetana | S15: SSF3361154 | T15: SSF3361154 | U15: GENERAL | V15: MUSLIM | W15: 541 | X15: Animal Husbandry & Poultry | Y15: 350574178 | Z15: SHAISTA PARVEEN SHAIKH FIROZ | AA15: 13-Feb-2023 | AB15: 33602 | AC15: 06 | AD15: 24 | AE15: 1 | AF15: 3.42 Yrs | AG15: 13 Feb 2023 | AH15: > 2 to 4 Years | AI15: 06-Apr-2023 | AJ15: 2191 | AK15: 1800 | AL15: 01-Jul-2024 | AM15: 17514.36 | AN15: 8076.64 | AO15: 25591 | AP15: 16087.64 | AQ15: 1912.36 | AR15: 18000 | AS15: 16087.64 | AT15: 1912.36 | AU15: 18000 | AV15: 40 | AW15: 769 | AX15: >180 | BB15: Open | BD15: 31-Mar-2025 | BE15: 33602 | BF15: SSF3361154 | BG15: 9421893866 | BH15: Rahul Sakarde/SF0026788 | BI15: Visited | BJ15: 46219 | BK15: Borrower Not Available | BL15: Borrower Family Member | BM15: Not Available | BN15: NA | BQ15: Confirmed from borrower Family Member but there is not found loan card for verification
A16: 12 | B16: West | C16: Maharashtra | D16: Amravati | E16: Murtizapur | F16: Murtizapur | G16: MR2881 | H16: Anjangaon | I16: 124084 | J16: Akot | K16: 124084 | L16: SF0103754 | M16: Lakhan Eknath Pundkar | N16: 373916 | O16: Akot C4 | P16: 545310 | Q16: Akot C4 Sai1 | R16: Chetana | S16: SSF3392215 | T16: SSF3392215 | U16: GENERAL | V16: MUSLIM | W16: 541 | X16: Animal Husbandry & Poultry | Y16: 350630291 | Z16: SHAMA BANO AHMAD SHAH | AA16: 16-Feb-2023 | AB16: 33602 | AC16: 06 | AD16: 24 | AE16: 1 | AF16: 3.41 Yrs | AG16: 16 Feb 2023 | AH16: > 2 to 4 Years | AI16: 02-Apr-2023 | AJ16: 2030 | AK16: 1800 | AL16: 30-Aug-2024 | AM16: 18972.77 | AN16: 8257.23 | AO16: 27230 | AP16: 14629.23 | AQ16: 1570.77 | AR16: 16200 | AS16: 14629.23 | AT16: 1570.77 | AU16: 16200 | AV16: 41 | AW16: 741 | AX16: >180 | BB16: Open | BE16: 0 | BF16: SSF3392215 | BG16: 9689318471 | BH16: Rahul Sakarde/SF0026788 | BI16: Visited | BJ16: 46219 | BK16: Borrower Available | BL16: Borrower | BM16: Not Available | BN16: No | BQ16: Confirmed from borrower but there is no any evidence available for further verification.
A17: 13 | B17: West | C17: Maharashtra | D17: Amravati | E17: Murtizapur | F17: Murtizapur | G17: MR2881 | H17: Anjangaon | I17: 118949 | J17: Surji | K17: 118949 | L17: SF0100374 | M17: Yash Mangesh Banubakode | N17: 373971 | O17: Surji C15 | P17: 545416 | Q17: Surji C15 Sakhi021 | R17: Chetana | S17: SSF3491296 | T17: SSF3491296 | U17: OBC | V17: HINDU | W17: 541 | X17: Agriculture & Farming | Y17: 350817241 | Z17: PRAGATI AMOL HEDAU | AA17: 01-Mar-2023 | AB17: 33602 | AC17: 10 | AD17: 24 | AE17: 1 | AF17: 3.37 Yrs | AG17: 01 Mar 2023 | AH17: > 2 to 4 Years | AI17: 10-Apr-2023 | AJ17: 1915 | AK17: 1800 | AL17: 01-Sep-2024 | AM17: 21993.39 | AN17: 8721.61 | AO17: 30715 | AP17: 11608.61 | AQ17: 991.39 | AR17: 12600 | AS17: 11608.61 | AT17: 991.39 | AU17: 12600 | AV17: 41 | AW17: 670 | AX17: >180 | BB17: Open | BD17: 31-Mar-2025 | BE17: 33602 | BF17: SSF3491296 | BG17: 9604771783 | BH17: Rahul Sakarde/SF0026788 | BI17: Visited | BJ17: 46218 | BK17: Borrower Not Available | BL17: Borrower Family Member | BM17: Not Available | BN17: NA | BQ17: Confirmed from borrower Family Member but there is not found loan card for verification
A18: 14 | B18: West | C18: Maharashtra | D18: Amravati | E18: Murtizapur | F18: Murtizapur | G18: MR2881 | H18: Anjangaon | I18: 124084 | J18: Akot | K18: 124084 | L18: SF0103754 | M18: Lakhan Eknath Pundkar | N18: 382075 | O18: Akot C5 | P18: 612441 | Q18: Akot C5 Mina 21 | R18: Chetana | S18: SSF3817121 | T18: SSF3817121 | U18: OBC | V18: HINDU | W18: 541 | X18: Food Item Business | Y18: 351501902 | Z18: KAVITA FAKIRA ADHAU | AA18: 01-May-2023 | AB18: 32000 | AC18: 06 | AD18: 24 | AE18: 1 | AF18: 3.21 Yrs | AG18: 01 May 2023 | AH18: > 2 to 4 Years | AI18: 06-Jun-2023 | AJ18: 1750 | AK18: 1750 | AL18: 27-May-2024 | AM18: 14431.38 | AN18: 6568.62 | AO18: 21000 | AP18: 17568.62 | AQ18: 2365.38 | AR18: 19934 | AS18: 17568.62 | AT18: 2365.38 | AU18: 19934 | AV18: 39 | AW18: 769 | AX18: >180 | BB18: Open | BD18: 30-Sep-2025 | BE18: 32000 | BF18: SSF3817121 | BG18: 9024342371 | BH18: Rahul Sakarde/SF0026788 | BI18: Visited | BJ18: 46220 | BK18: Borrower Not Available | BL18: Borrower Family Member | BM18: Not Available | BN18: NA | BQ18: Confirmed from borrower Family Member but there is not found loan card for verification
A19: 15 | B19: West | C19: Maharashtra | D19: Amravati | E19: Murtizapur | F19: Murtizapur | G19: MR2881 | H19: Anjangaon | I19: 124084 | J19: Akot | K19: 124084 | L19: SF0103754 | M19: Lakhan Eknath Pundkar | N19: 373916 | O19: Akot C4 | P19: 580684 | Q19: Akotc4sai1 C4 G2 | R19: Chetana | S19: SSF3863667 | T19: SSF3863667 | U19: OBC | V19: MUSLIM | W19: 541 | X19: Irrigation | Y19: 351589889 | Z19: SHAMSHAD BI SAMIR SHAH | AA19: 13-May-2023 | AB19: 32000 | AC19: 06 | AD19: 24 | AE19: 1 | AF19: 3.17 Yrs | AG19: 13 May 2023 | AH19: > 2 to 4 Years | AI19: 02-Jul-2023 | AJ19: 1750 | AK19: 1750 | AL19: 21-May-2024 | AM19: 12686.4 | AN19: 6563.6 | AO19: 19250 | AP19: 19313.6 | AQ19: 2879.4 | AR19: 22193 | AS19: 19313.6 | AT19: 2879.4 | AU19: 22193 | AV19: 38 | AW19: 769 | AX19: >180 | BB19: Open | BD19: 30-Jun-2025 | BE19: 32000 | BF19: SSF3863667 | BG19: 9172680313 | BH19: Rahul Sakarde/SF0026788 | BI19: Visited | BJ19: 46220 | BK19: Borrower Available | BL19: Borrower | BM19: Not Available | BN19: No | BQ19: Confirmed from borrower but there is no any evidence available for further verification.
A20: 16 | B20: West | C20: Maharashtra | D20: Amravati | E20: Murtizapur | F20: Murtizapur | G20: MR2881 | H20: Anjangaon | I20: 118949 | J20: Surji | K20: 118949 | L20: SF0103754 | M20: Lakhan Eknath Pundkar | N20: 216516 | O20: 523398 | P20: 285857 | Q20: sawra | R20: Unnati | S20: SID951374251712 | T20: SID951374251712 | U20: OBC | V20: HINDU | W20: 541 | X20: Agriculture & Farming | Y20: 351761530 | Z20: MANDA UTTAMRAO DABHADE | AA20: 14-Jun-2023 | AB20: 24000 | AC20: 10 | AD20: 18 | AE20: 0 | AF20: 4.73 Yrs | AG20: 21 Oct 2021 | AH20: > 4 to 6 Years | AI20: 10-Aug-2023 | AJ20: 1610 | AK20: 1610 | AL20: 15-Dec-2023 | AM20: 5305.33 | AN20: 2744.67 | AO20: 8050 | AP20: 18694.67 | AQ20: 2932.33 | AR20: 21627 | AS20: 18694.67 | AT20: 2932.33 | AU20: 21627 | AV20: 36 | AW20: 914 | AX20: >180 | BB20: Open | BD20: 31-Dec-2024 | BE20: 24000 | BF20: SID951374251712 | BG20: 9130477929 | BH20: Rahul Sakarde/SF0026788 | BI20: Visited | BJ20: 46218 | BK20: Borrower Available | BL20: Borrower | BM20: Not Available | BN20: No | BQ20: Confirmed from borrower but there is no any evidence available for further verification.
A21: 17 | B21: West | C21: Maharashtra | D21: Amravati | E21: Murtizapur | F21: Murtizapur | G21: MR2881 | H21: Anjangaon | I21: 118949 | J21: Surji | K21: 118949 | L21: SF0103754 | M21: Lakhan Eknath Pundkar | N21: 216516 | O21: 523398 | P21: 285857 | Q21: sawra | R21: Chetana | S21: SID951374245147 | T21: SID951374245147 | U21: OBC | V21: HINDU | W21: 541 | X21: Agriculture & Farming | Y21: 351796698 | Z21: SWATI GAURAV DABHADE | AA21: 16-Jun-2023 | AB21: 73000 | AC21: 10 | AD21: 24 | AE21: 4 | AF21: 7.82 Yrs | AG21: 30 Jan 2020 | AH21: > 6 to 10 Years | AI21: 10-Aug-2023 | AJ21: 3900 | AK21: 3900 | AL21: 01-Mar-2024 | AM21: 11048.3 | AN21: 8451.7 | AO21: 19500 | AP21: 61951.7 | AQ21: 14069.3 | AR21: 76021 | AS21: 61951.7 | AT21: 14069.3 | AU21: 76021 | AV21: 37 | AW21: 914 | AX21: >180 | BB21: Open | BE21: 0 | BF21: SID951374245147 | BG21: 9356538863 | BH21: Rahul Sakarde/SF0026788 | BI21: Visited | BJ21: 46218 | BK21: Borrower Available | BL21: Borrower | BM21: Not Available | BN21: No | BQ21: Confirmed from borrower but there is no any evidence available for further verification.
A22: 18 | B22: West | C22: Maharashtra | D22: Amravati | E22: Murtizapur | F22: Murtizapur | G22: MR2881 | H22: Anjangaon | I22: 119897 | J22: Sategaon | K22: 119897 | L22: SF0103385 | M22: Darshan Vijay Khadse | N22: 202404 | O22: 623223 | P22: 268086 | Q22: VITHAL | R22: Chetana | S22: SID951374553885 | T22: SID951374553885 | U22: OBC | V22: HINDU | W22: 541 | X22: Animal Husbandry & Poultry | Y22: 352423316 | Z22: ARTI AMOL KALE | AA22: 07-Aug-2023 | AB22: 53000 | AC22: 03 | AD22: 24 | AE22: 4 | AF22: 7.49 Yrs | AG22: 28 Jan 2021 | AH22: > 6 to 10 Years | AI22: 03-Oct-2023 | AJ22: 2830 | AK22: 2830 | AL22: 11-Oct-2025 | AM22: 50220 | AN22: 16528 | AO22: 66748 | AP22: 2780 | AQ22: 0 | AR22: 2780 | AS22: 2780 | AT22: 0 | AU22: 2780 | AV22: 35 | AW22: 315 | AX22: >180 | BB22: Open | BE22: 0 | BF22: SID951374553885 | BG22: 9689161379 | BH22: Rahul Sakarde/SF0026788 | BI22: Visited | BJ22: 46217 | BK22: Borrower Available | BL22: Borrower | BM22: Available | BN22: Yes | BO22: 2830 | BP22: Loan Card | BQ22: As per Loan card Borrower ARTI AMOL KALE/352423316 Paid EMI on date 03 Sep 2024 Amount of Rs 2830/- to Credit Assistant - Avinash Panjabrao Athavle/SF0084282 but Same he didn't posted in FIMO. Note : Staff call not connected and Based on Loan card his signature matched with Movement register and found EMI Misappropriation.
A23: 19 | B23: West | C23: Maharashtra | D23: Amravati | E23: Murtizapur | F23: Murtizapur | G23: MR2881 | H23: Anjangaon | I23: 124084 | J23: Akot | K23: 124084 | L23: SF0103754 | M23: Lakhan Eknath Pundkar | N23: 373916 | O23: Akot C4 | P23: 545310 | Q23: Akot C4 Sai1 | R23: Unnati | S23: SSF3165605 | T23: SSF3165605 | U23: GENERAL | V23: MUSLIM | W23: 541 | X23: Coconut Business | Y23: 353001356 | Z23: ASHABI HUSEN SHAH | AA23: 16-Sep-2023 | AB23: 20000 | AC23: 06 | AD23: 18 | AE23: 0 | AF23: 3.52 Yrs | AG23: 06 Jan 2023 | AH23: > 2 to 4 Years | AI23: 01-Nov-2023 | AJ23: 1340 | AK23: 1340 | AL23: 28-Jul-2024 | AM23: 8748.79 | AN23: 3311.21 | AO23: 12060 | AP23: 11251.21 | AQ23: 1255.62 | AR23: 12506.83 | AS23: 11251.21 | AT23: 1255.62 | AU23: 12506.83 | AV23: 33 | AW23: 706 | AX23: >180 | BB23: Open | BD23: 31-Dec-2024 | BE23: 20000 | BF23: SSF3165605 | BG23: 7066604068 | BH23: Rahul Sakarde/SF0026788 | BI23: Visited | BJ23: 46220 | BK23: Borrower Not Available | BL23: Borrower Family Member | BM23: Not Available | BN23: NA | BQ23: Confirmed from borrower Family Member but there is not found loan card for verification
A24: 20 | B24: West | C24: Maharashtra | D24: Amravati | E24: Murtizapur | F24: Murtizapur | G24: MR2881 | H24: Anjangaon | I24: 119125 | J24: Surji | K24: 119125 | L24: SF0103754 | M24: Lakhan Eknath Pundkar | N24: 204512 | O24: 532241 | P24: 270702 | Q24: NAVRANG | R24: Chetana | S24: SID951374379478 | T24: SID951374379478 | U24: OBC | V24: HINDU | W24: 541 | X24: Agriculture & Farming | Y24: 353013506 | Z24: PRIYA NITIN KAPLE | AA24: 16-Sep-2023 | AB24: 65000 | AC24: 10 | AD24: 24 | AE24: 4 | AF24: 7.53 Yrs | AG24: 12 Feb 2020 | AH24: > 6 to 10 Years | AI24: 02-Nov-2023 | AJ24: 3470 | AK24: 3470 | AL24: 27-Sep-2025 | AM24: 58737.98 | AN24: 19402.02 | AO24: 78140 | AP24: 6262.02 | AQ24: -1976.02 | AR24: 4286 | AS24: 4236.48 | AT24: 49.52 | AU24: 4286 | AV24: 34 | AW24: 305 | AX24: >180 | BB24: Open | BD24: 31-Dec-2025 | BE24: 65000 | BF24: SID951374379478 | BG24: 7820973988 | BH24: Rahul Sakarde/SF0026788 | BI24: Visited | BJ24: 46218 | BK24: Borrower Not Available | BL24: Borrower Family Member | BM24: Not Available | BN24: NA | BQ24: Confirmed from borrower Family Member but there is not found loan card for verification
A25: 21 | B25: West | C25: Maharashtra | D25: Amravati | E25: Murtizapur | F25: Murtizapur | G25: MR2881 | H25: Anjangaon | I25: 124084 | J25: Akot | K25: 124084 | L25: SF0103754 | M25: Lakhan Eknath Pundkar | N25: 366043 | O25: Akot C3 | P25: 530417 | Q25: Akot C3 12321 | R25: Unnati | S25: SSF3268335 | T25: SSF3268335 | U25: OBC | V25: MUSLIM | W25: 541 | X25: Chilli Business | Y25: 353413332 | Z25: SHAISTABI MUSHTAKUDDIN | AA25: 21-Oct-2023 | AB25: 20000 | AC25: 06 | AD25: 18 | AE25: 0 | AF25: 3.45 Yrs | AG25: 30 Jan 2023 | AH25: > 2 to 4 Years | AI25: 06-Dec-2023 | AJ25: 1340 | AK25: 1340 | AL25: 01-Jul-2024 | AM25: 6652.93 | AN25: 2727.07 | AO25: 9380 | AP25: 13347.07 | AQ25: 1757.93 | AR25: 15105 | AS25: 13347.07 | AT25: 1757.93 | AU25: 15105 | AV25: 32 | AW25: 741 | AX25: >180 | BB25: Open | BD25: 31-Dec-2024 | BE25: 20000 | BF25: SSF3268335 | BG25: 9284145775 | BH25: Rahul Sakarde/SF0026788 | BI25: Visited | BJ25: 46220 | BK25: Borrower Not Available | BL25: Borrower Family Member | BM25: Not Available | BN25: NA | BQ25: Confirmed from borrower Family Member but there is not found loan card for verification
A26: 22 | B26: West | C26: Maharashtra | D26: Amravati | E26: Murtizapur | F26: Murtizapur | G26: MR2881 | H26: Anjangaon | I26: 124084 | J26: Akot | K26: 124084 | L26: SF0103754 | M26: Lakhan Eknath Pundkar | N26: 382075 | O26: Akot C5 | P26: 561460 | Q26: Akot C5 MeenBai1 | R26: Unnati | S26: SSF3361154 | T26: SSF3361154 | U26: OBC | V26: MUSLIM | W26: 541 | X26: Agriculture & Farming | Y26: 353568281 | Z26: SHAISTA PARVEEN SHAIKH FIROZ | AA26: 01-Nov-2023 | AB26: 20000 | AC26: 06 | AD26: 18 | AE26: 0 | AF26: 3.42 Yrs | AG26: 13 Feb 2023 | AH26: > 2 to 4 Years | AI26: 06-Dec-2023 | AJ26: 1340 | AK26: 1340 | AL26: 01-Jul-2024 | AM26: 5823.26 | AN26: 2216.74 | AO26: 8040 | AP26: 14176.74 | AQ26: 2054.26 | AR26: 16231 | AS26: 14176.74 | AT26: 2054.26 | AU26: 16231 | AV26: 32 | AW26: 769 | AX26: >180 | BB26: Open | BD26: 31-Dec-2024 | BE26: 20000 | BF26: SSF3361154 | BG26: 9421893866 | BH26: Rahul Sakarde/SF0026788 | BI26: Visited | BJ26: 46220 | BK26: Borrower Not Available | BL26: Borrower Family Member | BM26: Not Available | BN26: NA | BQ26: Confirmed from borrower Family Member but there is not found loan card for verification
A27: 23 | B27: West | C27: Maharashtra | D27: Amravati | E27: Murtizapur | F27: Murtizapur | G27: MR2881 | H27: Anjangaon | I27: 124084 | J27: Akot | K27: 124084 | L27: SF0103754 | M27: Lakhan Eknath Pundkar | N27: 382075 | O27: Akot C5 | P27: 612441 | Q27: Akot C5 Mina 21 | R27: Unnati | S27: SSF3817040 | T27: SSF3817040 | U27: OBC | V27: HINDU | W27: 541 | X27: Agriculture & Farming | Y27: 353639428 | Z27: SUNITA GAJANAN LABADE | AA27: 16-Nov-2023 | AB27: 20000 | AC27: 06 | AD27: 18 | AE27: 0 | AF27: 3.21 Yrs | AG27: 01 May 2023 | AH27: > 2 to 4 Years | AI27: 03-Jan-2024 | AJ27: 1340 | AK27: 1340 | AL27: 17-Dec-2024 | AM27: 12117.36 | AN27: 3962.64 | AO27: 16080 | AP27: 7882.64 | AQ27: 606.36 | AR27: 8489 | AS27: 7882.64 | AT27: 606.36 | AU27: 8489 | AV27: 31 | AW27: 559 | AX27: >180 | BB27: Open | BD27: 30-Jun-2025 | BE27: 20000 | BF27: SSF3817040 | BG27: 9765807909 | BH27: Rahul Sakarde/SF0026788 | BI27: Visited | BJ27: 46220 | BK27: Borrower Available | BL27: Borrower | BM27: Not Available | BN27: No | BQ27: Confirmed from borrower but there is no any evidence available for further verification.
A28: 24 | B28: West | C28: Maharashtra | D28: Amravati | E28: Murtizapur | F28: Murtizapur | G28: MR2881 | H28: Anjangaon | I28: 118949 | J28: Surji | K28: 118949 | L28: SF0103385 | M28: Darshan Vijay Khadse | N28: 242876 | O28: 524773 | P28: 718349 | Q28: 524773 KokaTkhel Surji1 | R28: Chetana | S28: SSF4969593 | T28: SSF4969593 | U28: OBC | V28: MUSLIM | W28: 541 | X28: Agriculture & Farming | Y28: 353863892 | Z28: SUFIYA KHATUN SHEIKH NAJIM | AA28: 02-Dec-2023 | AB28: 32000 | AC28: 10 | AD28: 24 | AE28: 1 | AF28: 2.62 Yrs | AG28: 02 Dec 2023 | AH28: > 2 to 4 Years | AI28: 04-Jan-2024 | AJ28: 1710 | AK28: 1710 | AL28: 28-Jul-2025 | AM28: 23945.69 | AN28: 8544.31 | AO28: 32490 | AP28: 8054.31 | AQ28: 526.69 | AR28: 8581 | AS28: 8054.31 | AT28: 526.69 | AU28: 8581 | AV28: 32 | AW28: 341 | AX28: >180 | BB28: Open | BD28: 31-Dec-2025 | BE28: 32000 | BF28: SSF4969593 | BG28: 9096705776 | BH28: Rahul Sakarde/SF0026788 | BI28: Visited | BJ28: 46218 | BK28: Borrower Not Available | BL28: Borrower Family Member | BM28: Not Available | BN28: NA | BQ28: Confirmed from borrower Family Member but there is not found loan card for verification
A29: 25 | B29: West | C29: Maharashtra | D29: Amravati | E29: Murtizapur | F29: Murtizapur | G29: MR2881 | H29: Anjangaon | I29: 118949 | J29: Surji | K29: 118949 | L29: SF0103385 | M29: Darshan Vijay Khadse | N29: 242876 | O29: 524773 | P29: 718349 | Q29: 524773 KokaTkhel Surji1 | R29: Chetana | S29: SSF5015403 | T29: SSF5015403 | U29: OBC | V29: MUSLIM | W29: 541 | X29: Agriculture & Farming | Y29: 353947257 | Z29: RUBINA BANO SYED FARUQUE | AA29: 03-Dec-2023 | AB29: 32000 | AC29: 10 | AD29: 24 | AE29: 1 | AF29: 2.61 Yrs | AG29: 03 Dec 2023 | AH29: > 2 to 4 Years | AI29: 04-Jan-2024 | AJ29: 1710 | AK29: 1710 | AL29: 30-Apr-2025 | AM29: 19533.27 | AN29: 7826.73 | AO29: 27360 | AP29: 12466.73 | AQ29: 1209.27 | AR29: 13676 | AS29: 12466.73 | AT29: 1209.27 | AU29: 13676 | AV29: 32 | AW29: 439 | AX29: >180 | BB29: Open | BD29: 30-Sep-2025 | BE29: 32000 | BF29: SSF5015403 | BG29: 8208690635 | BH29: Rahul Sakarde/SF0026788 | BI29: Visited | BJ29: 46218 | BK29: Borrower Available | BL29: Borrower | BM29: Not Available | BN29: No | BQ29: Confirmed from borrower but there is no any evidence available for further verification.
A30: 26 | B30: West | C30: Maharashtra | D30: Amravati | E30: Murtizapur | F30: Murtizapur | G30: MR2881 | H30: Anjangaon | I30: 119897 | J30: Sategaon | K30: 119897 | L30: SF0103385 | M30: Darshan Vijay Khadse | N30: 220316 | O30: 695388 | P30: 290690 | Q30: datta | R30: Chetana | S30: SID951375828093 | T30: SID951375828093 | U30: OBC | V30: HINDU | W30: 0 | X30: Agriculture & Farming | Y30: 354193058 | Z30: MANORMA GANESH RAUT | AA30: 28-Dec-2023 | AB30: 73000 | AC30: 03 | AD30: 24 | AE30: 4 | AF30: 6.33 Yrs | AG30: 17 Mar 2020 | AH30: > 6 to 10 Years | AI30: 06-Feb-2024 | AJ30: 3900 | AK30: 3900 | AL30: 01-Aug-2024 | AM30: 9339.84 | AN30: 6260.16 | AO30: 15600 | AP30: 63660.16 | AQ30: 14793.84 | AR30: 78454 | AS30: 63660.16 | AT30: 14793.84 | AU30: 78454 | AV30: 30 | AW30: 770 | AX30: >180 | BB30: Open | BD30: 31-Dec-2024 | BE30: 73000 | BF30: SID951375828093 | BG30: 9689410945 | BH30: Rahul Sakarde/SF0026788 | BI30: Visited | BJ30: 46217 | BK30: Borrower Not Available | BL30: Borrower Family Member | BM30: Not Available | BN30: NA | BQ30: Confirmed from borrower Family Member but there is not found loan card for verification
A31: 27 | B31: West | C31: Maharashtra | D31: Amravati | E31: Murtizapur | F31: Murtizapur | G31: MR2881 | H31: Anjangaon | I31: 124084 | J31: Akot | K31: 124084 | L31: SF0103754 | M31: Lakhan Eknath Pundkar | N31: 220346 | O31: 695356 | P31: 290729 | Q31: santoshi mata | R31: Chetana | S31: SID951375802675 | T31: SID951375802675 | U31: OBC | V31: HINDU | W31: 0 | X31: Chicken Stall | Y31: 354193066 | Z31: RINA SACHIN KALPEKAR | AA31: 19-Jan-2024 | AB31: 52000 | AC31: 06 | AD31: 24 | AE31: 4 | AF31: 6.34 Yrs | AG31: 04 Jan 2021 | AH31: > 6 to 10 Years | AI31: 06-Mar-2024 | AJ31: 2780 | AK31: 2780 | AL31: 06-Jun-2024 | AM31: 6395.79 | AN31: 4724.21 | AO31: 11120 | AP31: 45604.21 | AQ31: 10741.79 | AR31: 56346 | AS31: 45604.21 | AT31: 10741.79 | AU31: 56346 | AV31: 29 | AW31: 734 | AX31: >180 | BB31: Open | BE31: 0 | BF31: SID951375802675 | BG31: 9011363535 | BH31: Rahul Sakarde/SF0026788 | BI31: Visited | BJ31: 46220 | BK31: Borrower Not Available | BL31: Borrower Family Member | BM31: Not Available | BN31: NA | BQ31: Confirmed from borrower Family Member but there is not found loan card for verification
A32: 28 | B32: West | C32: Maharashtra | D32: Amravati | E32: Murtizapur | F32: Murtizapur | G32: MR2881 | H32: Anjangaon | I32: 118949 | J32: Surji | K32: 118949 | L32: SF0100374 | M32: Yash Mangesh Banubakode | N32: 377270 | O32: Surji C16 | P32: 594018 | Q32: Surji C16 Matang Pura1 | R32: Chetana | S32: SSF3616593 | T32: SSF3616593 | U32: SC | V32: HINDU | W32: 0 | X32: Agriculture & Farming | Y32: 357862041 | Z32: URMILA PRABHUKIRAN WANKHDE | AA32: 01-Aug-2024 | AB32: 63000 | AC32: 10 | AD32: 24 | AE32: GL-2 | AF32: 3.31 Yrs | AG32: 23 Mar 2023 | AH32: > 2 to 4 Years | AI32: 12-Sep-2024 | AJ32: 3360 | AK32: 3360 | AL32: 18-Jun-2026 | AM32: 55725.55 | AN32: 18194.45 | AO32: 73920 | AP32: 7274.45 | AQ32: 237.55 | AR32: 7512 | AS32: 3220.49 | AT32: 139.51 | AU32: 3360 | AV32: 23 | AW32: 4 | AX32: 1-30 Days | BB32: Open | BE32: 0 | BF32: SSF3616593 | BG32: 7666348083 | BH32: Rahul Sakarde/SF0026788 | BI32: Visited | BJ32: 46218 | BK32: Borrower Not Available | BL32: Borrower Family Member | BM32: Not Available | BN32: NA | BQ32: Confirmed from borrower Family Member but there is not found loan card for verification
A33: 29 | B33: West | C33: Maharashtra | D33: Amravati | E33: Murtizapur | F33: Murtizapur | G33: MR2881 | H33: Anjangaon | I33: 118949 | J33: Surji | K33: 118949 | L33: SF0103754 | M33: Lakhan Eknath Pundkar | N33: 216516 | O33: 523398 | P33: 285857 | Q33: sawra | R33: Chetana | S33: SID951374243506 | T33: SID951374243506 | U33: OBC | V33: HINDU | W33: 0 | X33: Agriculture & Farming | Y33: 358472772 | Z33: LATA GAJANAN YEUL | AA33: 01-Oct-2024 | AB33: 63000 | AC33: 10 | AD33: 24 | AE33: GL-4 | AF33: 7.77 Yrs | AG33: 01 Dec 2020 | AH33: > 6 to 10 Years | AI33: 08-Nov-2024 | AJ33: 3310 | AK33: 3310 | AL33: 12-Jun-2026 | AM33: 49859.68 | AN33: 16340.32 | AO33: 66200 | AP33: 13140.32 | AQ33: 651.68 | AR33: 13792 | AS33: 3075.63 | AT33: 234.37 | AU33: 3310 | AV33: 21 | AW33: 4 | AX33: 1-30 Days | BB33: Open | BE33: 0 | BF33: SID951374243506 | BG33: 7775998482 | BH33: Rahul Sakarde/SF0026788 | BI33: Visited | BJ33: 46218 | BK33: Borrower Available | BL33: Borrower | BM33: Not Available | BN33: No | BQ33: Confirmed from borrower but there is no any evidence available for further verification.
A34: 30 | B34: West | C34: Maharashtra | D34: Amravati | E34: Murtizapur | F34: Murtizapur | G34: MR2881 | H34: Anjangaon | I34: 119897 | J34: Sategaon | K34: 119897 | L34: SF0103385 | M34: Darshan Vijay Khadse | N34: 211941 | O34: 492811 | P34: 645142 | Q34: 492811 Ganesh1 | R34: Chetana | S34: SSF5406139 | T34: SSF5406139 | U34: OBC | V34: MUSLIM | W34: 0 | X34: Fisheries | Y34: 359181525 | Z34: TASLIM SAIYYAD FARHAN | AA34: 16-Jan-2025 | AB34: 52000 | AC34: 03 | AD34: 24 | AE34: GL-2 | AF34: 2.46 Yrs | AG34: 29 Jan 2024 | AH34: > 2 to 4 Years | AI34: 04-Mar-2025 | AJ34: 2770 | AK34: 2770 | AL34: 25-Jun-2026 | AM34: 30997.08 | AN34: 13322.92 | AO34: 44320 | AP34: 21002.92 | AQ34: 2096.08 | AR34: 23099 | AS34: 2271.54 | AT34: 498.46 | AU34: 2770 | AV34: 17 | AW34: 11 | AX34: 1-30 Days | BB34: Open | BE34: 0 | BF34: SSF5406139 | BG34: 9112397164 | BH34: Rahul Sakarde/SF0026788 | BI34: Visited | BJ34: 46217 | BK34: Borrower Available | BL34: Borrower | BM34: Available | BN34: No | BQ34: Confirmed from borrower and there is no issue observed
A35: 31 | B35: West | C35: Maharashtra | D35: Amravati | E35: Murtizapur | F35: Murtizapur | G35: MR2881 | H35: Anjangaon | I35: 124084 | J35: Akot | K35: 124084 | L35: SF0103754 | M35: Lakhan Eknath Pundkar | N35: 425851 | O35: Akot C6 | P35: 660660 | Q35: Akot C6 Trupti1 | R35: Chetana | S35: SSF5128522 | T35: SSF5128522 | U35: OBC | V35: HINDU | W35: 0 | X35: Construction Activity | Y35: 359657264 | Z35: SHARDA DIPAK GADE | AA35: 11-Sep-2025 | AB35: 70000 | AC35: 06 | AD35: 24 | AE35: GL-2 | AF35: 2.56 Yrs | AG35: 21 Dec 2023 | AH35: > 2 to 4 Years | AI35: 01-Oct-2025 | AJ35: 3730 | AK35: 3730 | AL35: 06-Jul-2026 | AM35: 25306.14 | AN35: 11643.86 | AO35: 36950 | AP35: 44693.86 | AQ35: 7212.14 | AR35: 51906 | AS35: 350 | AT35: 0 | AU35: 350 | AV35: 10 | AW35: 8 | AX35: 1-30 Days | BB35: Open | BE35: 0 | BF35: SSF5128522 | BG35: 9561081064 | BH35: Rahul Sakarde/SF0026788 | BI35: Visited | BJ35: 46220 | BK35: Borrower Available | BL35: Borrower | BM35: Not Available | BN35: No | BQ35: Confirmed from borrower but there is no any evidence available for further verification.
A36: 32
A37: 33
A38: 34
A39: 35
A40: 36
...
