Workbook
Name A: 'Backup sheet'!$D$2
Name ab: 'Backup sheet'!$E$3:$E$4
Name AE: 'Backup sheet'!$H$2
Name AOE: 'Backup sheet'!$I$2:$I$8
Name B: 'Backup sheet'!$D$3
Name BL: 'Backup sheet'!$J$2
Name BND: 'Backup sheet'!$D$4:$D$6
Name BOB: 'Backup sheet'!$E$3:$E$5
Name BS: 'Backup sheet'!$E$5
Name BWS: 'Backup sheet'!$I$9
Name CSOD: 'Backup sheet'!$F$2:$F$5
Name D: 'Backup sheet'!$D:$D
Name DCD: 'Backup sheet'!$I$3:$I$8
Name DD: 'Backup sheet'!$D$4
Name Default: 'Backup sheet'!$K$2
Name EE: 'Backup sheet'!$D$5
Name FF: 'Backup sheet'!$D$6
Name gf: #REF!
Name JJ: 'Backup sheet'!$E$2
Name KK: 'Backup sheet'!$E$3
Name LC: 'Backup sheet'!$H$2:$H$3
Name LDC: 'Backup sheet'!$I$2:$I$9
Name LL: 'Backup sheet'!$E$4
Name MBW: 'Backup sheet'!$I$3:$I$9
Name MM: 'Backup sheet'!$E$6
Name MMM: 'Backup sheet'!$B$4
Name NA: 'Backup sheet'!$J$4
Name NL: 'Backup sheet'!$H$3
Name NN: 'Backup sheet'!$E$7
Name OB: 'Backup sheet'!$E$4:$E$5
Name OO: 'Backup sheet'!$E$8
Name s: #REF!
Name SSS: 'Backup sheet'!$G$2:$G$3
Name tcs: 'Backup sheet'!$B$3
Name Type: 'Backup sheet'!$A$2:$A$6
Name vv: 'Backup sheet'!$B$2
Name YNN: 'Backup sheet'!$J$2:$J$4

Sheet Backup sheet
A1: FIA - Type of Compliant | B1: IA Visit/Tele Call Verification Status | C1: If Tele Call Not Success | D1: Availability of Borrower | E1: Confirmed By | F1: Cash Siphoned Off Details (Drop Down) | G1: If TeleCall Success | H1: Loan Card | I1: Availability of Evidence
A2: Collection Amount Misappropriated | B2: Visited | C2: Invalid Number | D2: Borrower Available | E2: Borrower | F2: Safe Locker Cash Siphoned Off | G2: Borrower | H2: Available | I2: Loan Card | J2: Yes
A3: Pre-Closure Amount Misappropriated | B3: Tele Call Success | C3: Incoming Facility Barred | D3: Borrower Not Available | E3: Borrower Family Member | F3: Collection Entry done in FIMO without Collecting Amount from Borrower - Borrower Details Available | G3: Borrower Family Member | H3: Not Available | I3: Digital Payment | J3: No
A4: Disbursed Amount Recollected | B4: Tele Call Not Success | C4: No Answer | D4: Borrower Not Traceable | E4: Other Borrower | F4: Collection Entry done in FIMO without Collecting Amount from Borrower - Borrower Details Not Available | I4: Cash Receipt | J4: NA
A5: Advance Collection Amount Misappropriated | C5: Out of Coverage Area | D5: Borrower-Migrated | E5: Branch Staff | F5: Collection Entry done in FIMO without Collecting Amount from Borrower - Borrower Details Partial Available | I5: Delinquent Staff Written Statement
A6: Loan Amount Misappropriation | C6: Other Member | D6: Borrower Death | E6: Borrower Migrated | I6: Center Meeting Register
C7: Staff Mobile Number | E7: Borrower Not Treceable | I7: Handwritten Receipt
C8: Switched Off | E8: Borrower Death | I8: Multiple Evidence
C9: Wrong Number | I9: Borrower Written Statement

Sheet Fraud Investigation Report
A1: Spandana Sphoorty Financial Limited
A2: Fraud Risk Management Department
A3: Fraud Investigation Report Tracker Version 1.2
A4: Sr. No. | B4: Financial Year/Quarter (Formula) | C4: Branch Code (Formula) | D4: Branch Name (Formula) | E4: State (Formula) | F4: Region (Formula) | G4: Date of Identification (DD-MMM-YY) | H4: Identified by (IA/Business/HR/IT etc) (Drop Down) | I4: Date of Complaint Raised (DD-MMM-YY) | J4: Compliant Number (Formula) | K4: Initial No. of Borrowers Identified | L4: Preliminary Fraud Amount | M4: Preliminary Fraud Amount Recovered | N4: AH Name/ID | O4: RH Name/ID | P4: SH Name/ID | Q4: CBO/DCBO Name/ID | R4: Name of the Staff Involved (Formula) | S4: Employee Designation (Formula) | T4: Employee Code (Formula) | U4: Employee Current Status (Drop Down) | V4: Date, if Employee not available/not working (DD-MMM-YY) | W4: Type of Compliant (Formula) | X4: Multiple Complaints If any (Formula) | Y4: Fraud Investigation Status (Drop Down) | Z4: Start Date of Fraud Investigation (DD-MMM-YY) | AA4: End Date of Fraud Investigation (DD-MMM-YY) | AB4: Veification done by AH Name | AC4: Veification done by AH Emp Id | AD4: Number of borrowers verified by AH | AE4: Investigation done by IO Name | AF4: Investigation done by IO Emp ID | AG4: Number of borrowers verified by IO | AH4: Total No. of Borrowers Verified (Formula) | AI4: Total Fraud Amount (Post Investigation) (Formula) | AJ4: Total Amount Accounted (Amount updated in FIMO during Verification) (On or before Fraud Investigation) (Formula) | AK4: Total Amount Recovered (Amount Recovred from staff during FI) (On or before Fraud Investigation) (Formula) | AL4: Balance Net Fraud Amount to recover (Formula) | AM4: Total number of Borrowers Affected (Formula) | AN4: Investigation Report Submitted Date (DD-MMM-YY) | AO4: Investigation Officer Observations & Remarks
A5: 1 | B5: =IF(I5="", "", IF(MONTH(I5)>=4, "Q" & ROUNDUP((MONTH(I5)-3)/3,0) & " " & YEAR(I5)-2000 & "-" & YEAR(I5)-1999, "Q" & ROUNDUP((MONTH(I5)+9)/3,0) & " " & YEAR(I5)-2001 & "-" & YEAR(I5)-2000)) -> Q2 26-27 | C5: =IF('Physical Cash at Safe'!D28="Yes", 'Physical Cash at Safe'!B4, 'Borrower Wise Details'!B5) -> CHGL2136 | D5: =IF('Physical Cash at Safe'!D28="Yes", 'Physical Cash at Safe'!A4, 'Borrower Wise Details'!C5) -> Pussore | E5: =IF(D5="", "", IF(ISBLANK('Loan Outstanding Report'!B5), IF('Physical Cash at Safe'!D28="Yes", 'Physical Cash at Safe'!A6, ""), 'Loan Outstanding Report'!B5)) -> East | F5: =IF(D5="", "", IF(ISBLANK('Loan Outstanding Report'!C5), IF('Physical Cash at Safe'!D28="Yes", 'Physical Cash at Safe'!E4, ""), 'Loan Outstanding Report'!C5)) -> Chhattisgarh | G5: 46238 | H5: CSS | I5: 46238 | J5: =IF('Physical Cash at Safe'!D28="Yes",'Physical Cash at Safe'!E28,IF('Borrower Wise Details'!D5<>"",'Borrower Wise Details'!D5,"")) -> FN26-27-01160 | K5: 1 | L5: 2690 | M5: 0 | N5: Nilambar Chauhan/sf0050530 | O5: Dhaneshwar Yadav/SF0022006 | P5: Deependra Shrivastava/SF0002115 | Q5: Deepak Kujur/SF0101649 | R5: =IF('Physical Cash at Safe'!$D$28="Yes", 'Physical Cash at Safe'!$A$28, IF('Borrower Wise Details'!F5<>"", 'Borrower Wise Details'!F5, "")) -> Ashutosh Pradhan | S5: =IF('Physical Cash at Safe'!$D$28="Yes", 'Physical Cash at Safe'!$C$28, IF('Borrower Wise Details'!H5<>"", 'Borrower Wise Details'!H5, "")) -> Credit Assistant | T5: =IF('Physical Cash at Safe'!$D$28="Yes", 'Physical Cash at Safe'!$B$28, IF('Borrower Wise Details'!G5<>"", 'Borrower Wise Details'!G5, "")) -> SF0087885 | U5: Terminated | V5: 45761 | W5: =IF('Physical Cash at Safe'!$D$28="Yes", "Safe Locker Cash Siphoned Off", IF('Borrower Wise Details'!$P$5<>"",'Borrower Wise Details'!$P$5,"") ) -> Collection Amount Misappropriated | X5: {=IF('Borrower Wise Details'!P5="","", IF('Physical Cash at Safe'!$D$28="Yes", IF(COUNT('Borrower Wise Details'!$P$5:$P$1003)<>"", IFERROR( _xlfn.TEXTJOIN("/",TRUE,_xlfn.UNIQUE(_xlfn._xlws.FILTER('Borrower Wise Details'!$P$5:$P$1003,'Borrower Wise Details'!$P$5:$P$1003<>""))), "" ), "" ), IF(COUNT('Borrower Wise Details'!$P$5:$P$1003)<>"", IFERROR( _xlfn.TEXTJOIN("/",TRUE,_xlfn.UNIQUE(_xlfn._xlws.FILTER('Borrower Wise Details'!$P$5:$P$1003,('Borrower Wise Details'!$P$5:$P$1003<>"")*('Borrower Wise Details'!$P$5:$P$1003<>INDEX(_xlfn._xlws.FILTER('Borrower Wise Details'!$P$5:$P$1003,'Borrower Wise Details'!$P$5:$P$1003<>""),1))))), "" ), "" ) ) )} | Y5: Completed-Report Submitted | Z5: 46259 | AA5: 46261 | AE5: Mithun Lal Yadav | AF5: SF0038184 | AG5: 172 | AH5: {=IF(COUNTA('Loan Outstanding Report'!$BI$5:$BI$5964)=0,"",SUMPRODUCT(--(FREQUENCY(IF('Loan Outstanding Report'!$BI$5:$BI$5964<>"",MATCH('Loan Outstanding Report'!$S$5:$S$5964,'Loan Outstanding Report'!$S$5:$S$5964,0)),ROW('Loan Outstanding Report'!$S$5:$S$5964)-ROW('Loan Outstanding Report'!S5)+1)>0)))} -> 123 | AI5: {=IF(COUNTA('Borrower Wise Details'!$R$5:$R$1003)=0, "", IF('Physical Cash at Safe'!$D$28="Yes", 'Physical Cash at Safe'!$A$30 + SUM(SUMIFS('Borrower Wise Details'!$R$5:$R$1003, 'Borrower Wise Details'!$P$5:$P$1003, {"Collection Amount Misappropriated","Pre-Closure Amount Misappropriated","Disbursed Amount Recollected","Advance Collection Amount Misappropriated","Loan Amount Misappropriation"})), SUM(SUMIFS('Borrower Wise Details'!$R$5:$R$1003, 'Borrower Wise Details'!$P$5:$P$1003, {"Collection Amount Misappropriated","Pre-Closure Amount Misappropriated","Disbursed Amount Recollected","Advance Collection Amount Misappropriated","Loan Amount Misappropriation"})) ) )} -> 15050 | AJ5: {=IF(COUNTA('Borrower Wise Details'!$S$5:$S$1003)=0, "", IF('Physical Cash at Safe'!$D$28="Yes", 'Physical Cash at Safe'!$A$30 + SUM(SUMIFS('Borrower Wise Details'!$T$5:$T$1003, 'Borrower Wise Details'!$P$5:$P$1003, {"Collection Amount Misappropriated","Pre-Closure Amount Misappropriated","Disbursed Amount Recollected","Advance Collection Amount Misappropriated","Loan Amount Misappropriation"})), SUM(SUMIFS('Borrower Wise Details'!$S$5:$S$1003, 'Borrower Wise Details'!$P$5:$P$1003, {"Collection Amount Misappropriated","Pre-Closure Amount Misappropriated","Disbursed Amount Recollected","Advance Collection Amount Misappropriated","Loan Amount Misappropriation"})) ) )} -> 0 | AK5: {=IF(COUNTA('Borrower Wise Details'!$T$5:$T$1003)=0, "", IF('Physical Cash at Safe'!$D$28="Yes", 'Physical Cash at Safe'!$A$30 + SUM(SUMIFS('Borrower Wise Details'!$T$5:$T$1003, 'Borrower Wise Details'!$P$5:$P$1003, {"Collection Amount Misappropriated","Pre-Closure Amount Misappropriated","Disbursed Amount Recollected","Advance Collection Amount Misappropriated","Loan Amount Misappropriation"})), SUM(SUMIFS('Borrower Wise Details'!$T$5:$T$1003, 'Borrower Wise Details'!$P$5:$P$1003, {"Collection Amount Misappropriated","Pre-Closure Amount Misappropriated","Disbursed Amount Recollected","Advance Collection Amount Misappropriated","Loan Amount Misappropriation"})) ) )} -> 0 | AL5: =IFERROR(IF(COUNTA(AI:AK5)=0,"",AI5-(AJ5+AK5)),"") -> 15050 | AM5: {=IF(COUNTA('Borrower Wise Details'!$J$5:$J$1003)=0,"", SUMPRODUCT(--(FREQUENCY( IF(('Borrower Wise Details'!$J$5:$J$1003<>""),IF(ISNUMBER(SEARCH({"Collection Amount Misappropriated","Pre-Closure Amount Misappropriated","Disbursed Amount Recollected","Advance Collection Amount Misappropriated","Loan Amount Misappropriation"},'Borrower Wise Details'!$P$5:$P$1003)),MATCH('Borrower Wise Details'!$J$5:$J$1003,'Borrower Wise Details'!$J$5:$J$1003,0))), ROW('Borrower Wise Details'!$J$5:$J$1003)-ROW('Borrower Wise Details'!$J$5)+1)>0)))} -> 2 | AN5: 46269 | AO5: As Per Borrower & Digital Payments, LO Aashutosh Pradhan/SF0087885 has Collected From borrower Devki sao (Loan ID-350464227)2 EMI 4500*2 = Rs.9000/- on date 10-Nov-24 and 08-Dec-2024 and another Loan ID - 353838915 Collected 2 EMI 1680*2 = Rs.3360/- on date 10-Nov-24 and 08-Dec-2024 and He has also Collected at loan ID-356443255 from borrower Dileshwari 1 EMI 2690 on dated 02-Jan-25 Now Total fraud amount Rs15050 but LO Ashutosh Pradhan has Not posted in FIMO.

Sheet Physical Cash at Safe
A1: Spandana Sphoorty Financial Limited
B2: Fraud Risk Management Department
A3: Branch Code | B3: Branch Name | C3: Area | D3: Region | E3: Zone
A4: CHGL2136 | B4: Pussore | C4: Raigarh | D4: Champa | E4: Champa
A5: State | B5: FIMO Opening Balance Date (DD-MMM-YY) | C5: Denomination Register Date (DD-MMM-YY) | D5: Date of Verification (DD-MMM-YY) | E5: Time of Verification (24 Hrs.) (HH:MM)
A6: Chhattisgarh | B6: 46258 | C6: 46259 | D6: 46259 | E6: 0.79166667
A7: Physical Cash Verification Certificate
A8: Note Denomination | B8: Cash as per FIMO | D8: Cash as per Physical Verification
B9: Number | C9: Amount (Rs.) | D9: Number | E9: Amount (Rs.)
A10: 2000 | C10: =B10*A10 -> 0 | E10: =D10*A10 -> 0
A11: 500 | B11: 33 | C11: =B11*A11 -> 16500 | D11: 33 | E11: =D11*A11 -> 16500
A12: 200 | B12: 4 | C12: =B12*A12 -> 800 | D12: 4 | E12: =D12*A12 -> 800
A13: 100 | B13: 4 | C13: =B13*A13 -> 400 | D13: 4 | E13: =D13*A13 -> 400
A14: 50 | B14: 1 | C14: =B14*A14 -> 50 | D14: 1 | E14: =D14*A14 -> 50
A15: 20 | B15: 1 | C15: =B15*A15 -> 20 | D15: 1 | E15: =D15*A15 -> 20
A16: 10 | B16: 3 | C16: =B16*A16 -> 30 | D16: 3 | E16: =D16*A16 -> 30
A17: 5 | C17: =B17*A17 -> 0 | E17: =D17*A17 -> 0
A18: All Coins | B18: 15 | C18: =B18 -> 15 | D18: 15 | E18: =D18 -> 15
B19: Total | C19: =SUM(C10:C18) -> 17815 | D19: Total | E19: =SUM(E10:E18) -> 17815
A20: Denomination Register Opening Cash Balance | C20: 0 | D20: Petty Expenses
A21: Collection Amount | D21: Bank Deposit Amount
A22: Counter Fiet Notes (If Any) Mention Denomination in Remarks | D22: Availability of Deposit Slip (Drop Down)
A23: Difference (Excess/Short) | C23: =(C19+C21)-(E20+E21)-E19 -> 0 | D23: Digital payment in Branch staff personal a/c Amount
A24: Investigation Officer Remarks for the Differences
A25: Explanation provided by Branch Manager
A26: Physical Cash Siphoned Off Details
A27: Cash Siphoned Off by EMP Name | B27: Cash Siphoned Off by Emp ID | C27: Cash Siphoned Off by Emp Designation | D27: Cash Siphoned Off (Drop Down) | E27: Complaint Number
D28: No
A29: Cash Siphoned Off Amount (Gross Fraud) | B29: Recovery Amount | C29: Cash Siphoned Off Amount (Net Fraud) | D29: Cash Siphoned Off Details (Drop Down)
C30: =IF(AND(A30="",B30=""),"",A30-B30)
A32: Safe Keys Handled by (Drop Down) | B32: Dual Staff | C32: Updation of Key Register (Drop Down) | D32: Available & Updated
A33: "Right" Key Number | B33: G1 | C33: "Left" Key Number | D33: G2
A34: "Right" Key Holder Name (Physical) | B34: Phleshwar Mirri | C34: "Left" Key Holder Name (Physical) | D34: Dinanath Yadav
A35: "Right" Key Holder Emp ID (Physical) | B35: SF0053624 | C35: "Left" Key Holder Emp ID (Physical) | D35: SF0099850
A36: "Right" Key Holder Designation (Physical) | B36: BM | C36: "Left" Key Holder Designation (Physical) | D36: LO

Sheet Cash Embezzelment
A1: Spandana Sphoorty Financial Limited
A2: Fraud Risk Management Department
A3: Cash Embezzlement by Branch Staff | H3: Type of Fraud Amount
A4: Sr. No. | B4: Branch ID (Formula) | C4: Branch Name (Formula) | D4: Fradulent Staff Name (Formula) | E4: Fradulent Staff Emp ID (Formula) | F4: Fraudulent Staff Designation (Formula) | G4: Complaint Number (Formula) | H4: Safe Locker Cash Siphoned Off (Formula) | I4: Collection Amount Misappropriated (Formula) | J4: Pre-Closure Amount Misappropriated (Formula) | K4: Disbursed Amount Recollected (Formula) | L4: Advance Collection Amount Misappropriated (Formula) | M4: Loan Amount Misappropriation (Formula) | N4: Total Fraud Amount (Formula) | O4: Recovery Amount (Formula) | P4: Net Fraud Amount (Formula) | Q4: Fraud details of CDL Product (If Any) | R4: Police Complant/FIR Status (Drop Down)
A5: 1 | B5: =IF('Fraud Investigation Report'!C5="", "", 'Fraud Investigation Report'!C5) -> CHGL2136 | C5: =IF('Fraud Investigation Report'!D5="", "", 'Fraud Investigation Report'!D5) -> Pussore | D5: =IF(OR('Fraud Investigation Report'!R5="", 'Fraud Investigation Report'!R5=0), "", 'Fraud Investigation Report'!R5) -> Ashutosh Pradhan | E5: =IF(OR('Fraud Investigation Report'!T5="", 'Fraud Investigation Report'!T5=0), "", 'Fraud Investigation Report'!T5) -> SF0087885 | F5: =IF(OR('Fraud Investigation Report'!S5="", 'Fraud Investigation Report'!S5=0), "", 'Fraud Investigation Report'!S5) -> Credit Assistant | G5: =IF('Fraud Investigation Report'!J5="", "", 'Fraud Investigation Report'!J5) -> FN26-27-01160 | H5: =IF(OR(ISNUMBER(SEARCH("Safe Locker Cash Siphoned Off",'Fraud Investigation Report'!W5)), ISNUMBER(SEARCH("Safe Locker Cash Siphoned Off",'Fraud Investigation Report'!X5))), 'Physical Cash at Safe'!$A$30, "") | I5: =IF(OR(ISNUMBER(SEARCH("Collection Amount Misappropriated",'Fraud Investigation Report'!W5)), ISNUMBER(SEARCH("Collection Amount Misappropriated",'Fraud Investigation Report'!X5))), SUMIFS('Borrower Wise Details'!$R$5:$R$1003, 'Borrower Wise Details'!$P$5:$P$1003, "Collection Amount Misappropriated"), "" ) -> 15050 | J5: =IF(OR(ISNUMBER(SEARCH("Pre-Closure Amount Misappropriated",'Fraud Investigation Report'!W5)), ISNUMBER(SEARCH("Pre-Closure Amount Misappropriated",'Fraud Investigation Report'!X5))), SUMIFS('Borrower Wise Details'!$R$5:$R$1003, 'Borrower Wise Details'!$P$5:$P$1003, "Pre-Closure Amount Misappropriated"), "" ) | K5: =IF(OR(ISNUMBER(SEARCH("Disbursed Amount Recollected",'Fraud Investigation Report'!W5)), ISNUMBER(SEARCH("Disbursed Amount Recollected",'Fraud Investigation Report'!X5))), SUMIFS('Borrower Wise Details'!$R$5:$R$1003, 'Borrower Wise Details'!$P$5:$P$1003, "Disbursed Amount Recollected"), "" ) | L5: =IF(OR(ISNUMBER(SEARCH("Advance Collection Amount Misappropriated",'Fraud Investigation Report'!W5)),ISNUMBER(SEARCH("Advance Collection Amount Misappropriated",'Fraud Investigation Report'!X5))), SUMIFS('Borrower Wise Details'!$R$5:$R$1003,'Borrower Wise Details'!$P$5:$P$1003,"Advance Collection Amount Misappropriated"), "" ) | M5: =IF(OR(ISNUMBER(SEARCH("Loan Amount Misappropriation",'Fraud Investigation Report'!W5)), ISNUMBER(SEARCH("Loan Amount Misappropriation",'Fraud Investigation Report'!X5))), SUMIFS('Borrower Wise Details'!$R$5:$R$1003, 'Borrower Wise Details'!$P$5:$P$1003, "Loan Amount Misappropriation"), "" ) | N5: =SUM(H5:M5) -> 15050 | O5: =IFERROR('Fraud Investigation Report'!AJ5+'Fraud Investigation Report'!AK5,"") -> 0 | P5: =IF(AND(N5="", O5=""), "", IF(O5="", N5, N5 - IF(ISNUMBER(O5), O5, 0))) -> 15050

Sheet Borrower Wise Details
A1: Spandana Sphoorty Financial Limited
A2: Fraud Risk Management Department
A3: Borrower Wise Details Ver 1.2 | E3: Home | F3: Loan O/s Report | U3: Home | V3: Loan O/s Report
A4: Sr. No. | B4: Branch Code (Formula) | C4: Branch Name (Formula) | D4: Complaint No. (Formula from 2 row) | E4: Date of IO Visit (DD/MMM/YY) | F4: Fradulent Staff Name (Formula from 2 row) | G4: Fradulent Staff Emp. ID (Formula from 2 row) | H4: Fraudulent Staff Designation (Formula from 2 row) | I4: Center Number | J4: Customer ID | K4: Borrower Name | L4: Loan ID | M4: Date of Disbursement as per FIMO (DD/MM/YY) | N4: Disbursed Amount as per FIMO | O4: Installment Amount as per FIMO | P4: Type of Amount Collected (Drop Down) | Q4: Date of Collection (DD/MM/YY) | R4: Total Amount Collected (Gross Fraud) | S4: Amount Adjusted & Accounted in FIMO | T4: Amount Recovered But "Not" Accounted in FIMO | U4: Difference Amount (Net Fraud) (Formula) | V4: Availability of Evidence | W4: Remarks (If Applicable)
A5: 1 | B5: =IF('Loan Outstanding Report'!$G$5="", "", 'Loan Outstanding Report'!$G$5) -> CHGL2136 | C5: =IF('Loan Outstanding Report'!$H$5="", "", 'Loan Outstanding Report'!$H$5) -> Pussore | D5: FN26-27-01160 | E5: 46260 | F5: Ashutosh Pradhan | G5: SF0087885 | H5: Credit Assistant | I5: 21 | J5: CID050401246 | K5: DEVKI SAO | L5: 350464227 | M5: 44957 | N5: 83704 | O5: 4500 | P5: Collection Amount Misappropriated | Q5: 45606 | R5: 4500 | S5: 0 | T5: 0 | U5: =IF(AND(ISBLANK(R5),ISBLANK(S5),ISBLANK(T5)),"",R5-(S5+T5)) -> 4500 | V5: Digital Payment | W5: As Per Borrower & Digital Payments, LO Aashutosh Pradhan/SF0087885 has Collected EMI Rs.4500/- on date 10-Nov-24 but LO-Ashutosh pradhan Not posted in FIMO.
A6: 2 | B6: =IF(J6<>"", $B$5, "") -> CHGL2136 | C6: =IF(J6<>"", $C$5, "") -> Pussore | D6: =IF(J6<>"", $D$5, "") -> FN26-27-01160 | E6: 46260 | F6: =IF(J6<>"", $F$5, "") -> Ashutosh Pradhan | G6: =IF(J6<>"", $G$5, "") -> SF0087885 | H6: =IF(J6<>"", $H$5, "") -> Credit Assistant | I6: 21 | J6: CID050401246 | K6: DEVKI SAO | L6: 350464227 | M6: 44957 | N6: 83704 | O6: 4500 | P6: Collection Amount Misappropriated | Q6: 45634 | R6: 4500 | S6: 0 | T6: 0 | U6: =IF(AND(ISBLANK(R6),ISBLANK(S6),ISBLANK(T6)),"",R6-(S6+T6)) -> 4500 | V6: Digital Payment | W6: As Per Borrower & Digital Payments, LO Aashutosh Pradhan/SF0087885 has Collected EMI Rs.4500/- on dated 08-Dec-2024 but LO-Ashutosh pradhan Not posted in FIMO.
A7: 3 | B7: =IF(J7<>"", $B$5, "") -> CHGL2136 | C7: =IF(J7<>"", $C$5, "") -> Pussore | D7: =IF(J7<>"", $D$5, "") -> FN26-27-01160 | E7: 46260 | F7: =IF(J7<>"", $F$5, "") -> Ashutosh Pradhan | G7: =IF(J7<>"", $G$5, "") -> SF0087885 | H7: =IF(J7<>"", $H$5, "") -> Credit Assistant | I7: 21 | J7: CID050401246 | K7: DEVKI SAO | L7: 353838915 | M7: 45255 | N7: 25000 | O7: 1680 | P7: Collection Amount Misappropriated | Q7: 45606 | R7: 1680 | S7: 0 | T7: 0 | U7: =IF(AND(ISBLANK(R7),ISBLANK(S7),ISBLANK(T7)),"",R7-(S7+T7)) -> 1680 | V7: Digital Payment | W7: As Per Borrower & Digital Payments, LO Aashutosh Pradhan/SF0087885 has Collected EMI Rs.1680/- on dated 10-Nov-24 but LO-Ashutosh pradhan Not posted in FIMO.
A8: 4 | B8: =IF(J8<>"", $B$5, "") -> CHGL2136 | C8: =IF(J8<>"", $C$5, "") -> Pussore | D8: =IF(J8<>"", $D$5, "") -> FN26-27-01160 | E8: 46260 | F8: =IF(J8<>"", $F$5, "") -> Ashutosh Pradhan | G8: =IF(J8<>"", $G$5, "") -> SF0087885 | H8: =IF(J8<>"", $H$5, "") -> Credit Assistant | I8: 21 | J8: CID050401246 | K8: DEVKI SAO | L8: 353838915 | M8: 45255 | N8: 25000 | O8: 1680 | P8: Collection Amount Misappropriated | Q8: 45634 | R8: 1680 | S8: 0 | T8: 0 | U8: =IF(AND(ISBLANK(R8),ISBLANK(S8),ISBLANK(T8)),"",R8-(S8+T8)) -> 1680 | V8: Digital Payment | W8: As Per Borrower & Digital Payments, LO Aashutosh Pradhan/SF0087885 has Collected EMI Rs.1680/- on dated 08-Dec-2024 but LO-Ashutosh pradhan Not posted in FIMO.
A9: 5 | B9: =IF(J9<>"", $B$5, "") -> CHGL2136 | C9: =IF(J9<>"", $C$5, "") -> Pussore | D9: =IF(J9<>"", $D$5, "") -> FN26-27-01160 | E9: 46260 | F9: =IF(J9<>"", $F$5, "") -> Ashutosh Pradhan | G9: =IF(J9<>"", $G$5, "") -> SF0087885 | H9: =IF(J9<>"", $H$5, "") -> Credit Assistant | I9: 16 | J9: SSF4242106 | K9: DILESHWARI YADAV | L9: 356443255 | M9: 45399 | N9: 40000 | O9: 2690 | P9: Collection Amount Misappropriated | Q9: 45659 | R9: 2690 | S9: 0 | T9: 0 | U9: =IF(AND(ISBLANK(R9),ISBLANK(S9),ISBLANK(T9)),"",R9-(S9+T9)) -> 2690 | V9: Loan Card | W9: As Per Borrower Loan Card, LO Ashutosh Pradhan /SF0087885 has Collected at loan ID-356443255 from borrower Dileshwari 1 EMI 2690 on dated 02-Jan-25 but LO Ashutosh has Not posted in FIMO.
A10: 6 | B10: =IF(J10<>"", $B$5, "") | C10: =IF(J10<>"", $C$5, "") | D10: =IF(J10<>"", $D$5, "") | F10: =IF(J10<>"", $F$5, "") | G10: =IF(J10<>"", $G$5, "") | H10: =IF(J10<>"", $H$5, "") | U10: =IF(AND(ISBLANK(R10),ISBLANK(S10),ISBLANK(T10)),"",R10-(S10+T10))
A11: 7 | B11: =IF(J11<>"", $B$5, "") | C11: =IF(J11<>"", $C$5, "") | D11: =IF(J11<>"", $D$5, "") | F11: =IF(J11<>"", $F$5, "") | G11: =IF(J11<>"", $G$5, "") | H11: =IF(J11<>"", $H$5, "") | U11: =IF(AND(ISBLANK(R11),ISBLANK(S11),ISBLANK(T11)),"",R11-(S11+T11))
A12: 8 | B12: =IF(J12<>"", $B$5, "") | C12: =IF(J12<>"", $C$5, "") | D12: =IF(J12<>"", $D$5, "") | F12: =IF(J12<>"", $F$5, "") | G12: =IF(J12<>"", $G$5, "") | H12: =IF(J12<>"", $H$5, "") | U12: =IF(AND(ISBLANK(R12),ISBLANK(S12),ISBLANK(T12)),"",R12-(S12+T12))
A13: 9 | B13: =IF(J13<>"", $B$5, "") | C13: =IF(J13<>"", $C$5, "") | D13: =IF(J13<>"", $D$5, "") | F13: =IF(J13<>"", $F$5, "") | G13: =IF(J13<>"", $G$5, "") | H13: =IF(J13<>"", $H$5, "") | U13: =IF(AND(ISBLANK(R13),ISBLANK(S13),ISBLANK(T13)),"",R13-(S13+T13))
A14: 10 | B14: =IF(J14<>"", $B$5, "") | C14: =IF(J14<>"", $C$5, "") | D14: =IF(J14<>"", $D$5, "") | F14: =IF(J14<>"", $F$5, "") | G14: =IF(J14<>"", $G$5, "") | H14: =IF(J14<>"", $H$5, "") | U14: =IF(AND(ISBLANK(R14),ISBLANK(S14),ISBLANK(T14)),"",R14-(S14+T14))
A15: 11 | B15: =IF(J15<>"", $B$5, "") | C15: =IF(J15<>"", $C$5, "") | D15: =IF(J15<>"", $D$5, "") | F15: =IF(J15<>"", $F$5, "") | G15: =IF(J15<>"", $G$5, "") | H15: =IF(J15<>"", $H$5, "") | U15: =IF(AND(ISBLANK(R15),ISBLANK(S15),ISBLANK(T15)),"",R15-(S15+T15))
A16: 12 | B16: =IF(J16<>"", $B$5, "") | C16: =IF(J16<>"", $C$5, "") | D16: =IF(J16<>"", $D$5, "") | F16: =IF(J16<>"", $F$5, "") | G16: =IF(J16<>"", $G$5, "") | H16: =IF(J16<>"", $H$5, "") | U16: =IF(AND(ISBLANK(R16),ISBLANK(S16),ISBLANK(T16)),"",R16-(S16+T16))
A17: 13 | B17: =IF(J17<>"", $B$5, "") | C17: =IF(J17<>"", $C$5, "") | D17: =IF(J17<>"", $D$5, "") | F17: =IF(J17<>"", $F$5, "") | G17: =IF(J17<>"", $G$5, "") | H17: =IF(J17<>"", $H$5, "") | U17: =IF(AND(ISBLANK(R17),ISBLANK(S17),ISBLANK(T17)),"",R17-(S17+T17))
A18: 14 | B18: =IF(J18<>"", $B$5, "") | C18: =IF(J18<>"", $C$5, "") | D18: =IF(J18<>"", $D$5, "") | F18: =IF(J18<>"", $F$5, "") | G18: =IF(J18<>"", $G$5, "") | H18: =IF(J18<>"", $H$5, "") | U18: =IF(AND(ISBLANK(R18),ISBLANK(S18),ISBLANK(T18)),"",R18-(S18+T18))
A19: 15 | B19: =IF(J19<>"", $B$5, "") | C19: =IF(J19<>"", $C$5, "") | D19: =IF(J19<>"", $D$5, "") | F19: =IF(J19<>"", $F$5, "") | G19: =IF(J19<>"", $G$5, "") | H19: =IF(J19<>"", $H$5, "") | U19: =IF(AND(ISBLANK(R19),ISBLANK(S19),ISBLANK(T19)),"",R19-(S19+T19))
A20: 16 | B20: =IF(J20<>"", $B$5, "") | C20: =IF(J20<>"", $C$5, "") | D20: =IF(J20<>"", $D$5, "") | F20: =IF(J20<>"", $F$5, "") | G20: =IF(J20<>"", $G$5, "") | H20: =IF(J20<>"", $H$5, "") | U20: =IF(AND(ISBLANK(R20),ISBLANK(S20),ISBLANK(T20)),"",R20-(S20+T20))
A21: 17 | B21: =IF(J21<>"", $B$5, "") | C21: =IF(J21<>"", $C$5, "") | D21: =IF(J21<>"", $D$5, "") | F21: =IF(J21<>"", $F$5, "") | G21: =IF(J21<>"", $G$5, "") | H21: =IF(J21<>"", $H$5, "") | U21: =IF(AND(ISBLANK(R21),ISBLANK(S21),ISBLANK(T21)),"",R21-(S21+T21))
... A103: 99 | B103: =IF(J103<>"", $B$5, "") | C103: =IF(J103<>"", $C$5, "") | D103: =IF(J103<>"", $D$5, "") | F103: =IF(J103<>"", $F$5, "") | G103: =IF(J103<>"", $G$5, "") | H103: =IF(J103<>"", $H$5, "") | U103: =IF(AND(ISBLANK(R103),ISBLANK(S103),ISBLANK(T103)),"",R103-(S103+T103))
A104: 100 | B104: =IF(J104<>"", $B$5, "") | H104: =IF(J104<>"", $H$5, "") | U104: =IF(AND(ISBLANK(R104),ISBLANK(S104),ISBLANK(T104)),"",R104-(S104+T104))
A105: 101 | U105: =IF(AND(ISBLANK(R105),ISBLANK(S105),ISBLANK(T105)),"",R105-(S105+T105))
A106: 102 | U106: =IF(AND(ISBLANK(R106),ISBLANK(S106),ISBLANK(T106)),"",R106-(S106+T106))
A107: 103 | U107: =IF(AND(ISBLANK(R107),ISBLANK(S107),ISBLANK(T107)),"",R107-(S107+T107))
A108: 104 | U108: =IF(AND(ISBLANK(R108),ISBLANK(S108),ISBLANK(T108)),"",R108-(S108+T108))
A109: 105 | U109: =IF(AND(ISBLANK(R109),ISBLANK(S109),ISBLANK(T109)),"",R109-(S109+T109))
A110: 106 | U110: =IF(AND(ISBLANK(R110),ISBLANK(S110),ISBLANK(T110)),"",R110-(S110+T110))
A111: 107 | U111: =IF(AND(ISBLANK(R111),ISBLANK(S111),ISBLANK(T111)),"",R111-(S111+T111))
A112: 108 | U112: =IF(AND(ISBLANK(R112),ISBLANK(S112),ISBLANK(T112)),"",R112-(S112+T112))
A113: 109 | U113: =IF(AND(ISBLANK(R113),ISBLANK(S113),ISBLANK(T113)),"",R113-(S113+T113))
A114: 110 | U114: =IF(AND(ISBLANK(R114),ISBLANK(S114),ISBLANK(T114)),"",R114-(S114+T114))
A115: 111 | U115: =IF(AND(ISBLANK(R115),ISBLANK(S115),ISBLANK(T115)),"",R115-(S115+T115))
A116: 112 | U116: =IF(AND(ISBLANK(R116),ISBLANK(S116),ISBLANK(T116)),"",R116-(S116+T116))
... A1003: 999 | U1003: =IF(AND(ISBLANK(R1003),ISBLANK(S1003),ISBLANK(T1003)),"",R1003-(S1003+T1003))

Sheet Loan Outstanding Report
A1: From Date :25-Aug-2026
A2: To Date :25-Aug-2026
A3: Reporting Time : 10:21 AM | BG3: Home | BH3: Borrower Wise Details | BP3: Home | BQ3: Borrower Wise Details
A4: S No | B4: Zone | C4: State | D4: Region | E4: Area | F4: Cluster | G4: Branch Code | H4: Branch | I4: Village Id | J4: Village | K4: Village ID | L4: CSR EMP ID | M4: CSR NAME | N4: Center Id | O4: Center Number | P4: Group ID | Q4: Group Name | R4: Product Name | S4: Cust ID | T4: UCIC | U4: Caste | V4: Religion | W4: PPI Score | X4: Loan purpose | Y4: Loan No. | Z4: Customer Name | AA4: Disb date | AB4: Loan Amount | AC4: Center Meeting Date | AD4: No of Instalments | AE4: Loan Cycle | AF4: Vintage | AG4: Client Formation Date | AH4: Vintage Bracket | AI4: First Installment Date | AJ4: First EMI amount | AK4: Second EMI amount | AL4: Last Repaid Date | AM4: Principal Collection | AN4: Interest Collection | AO4: Total Collection | AP4: Outstanding Principal | AQ4: Outstanding Interest | AR4: Outstanding Total | AS4: Over Due Prin | AT4: Over Due Int | AU4: Over Due Total | AV4: No of Installments Paid | AW4: OD days | AX4: Ageing Bucket | AY4: Last Prepayment Date | AZ4: Prepayment Prin | BA4: Prepayment Interest | BB4: Loan Status | BC4: Death Flag | BD4: Woff date | BE4: Woff Amount | BF4: Ucic | BG4: Borrower Mobile Number | BH4: IO Staff Name/ID (Ex: Ganesh/SF0072845) | BI4: Verification Status (Drop Down) | BJ4: IO Visited Date (DD-MMM-YY) | BK4: Availability of Borrower (Dropdown) | BL4: Confirmed By (Drop Down) | BM4: Availability of Loan Card (Drop Down) | BN4: Cash Misappropriation Status (Drop Down) | BO4: Total Fraud Amount | BP4: Availability of Evidence (Drop Down) | BQ4: Remarks
A5: 1 | B5: East | C5: Chhattisgarh | D5: Champa | E5: Raigarh | F5: Raigarh | G5: CHGL2136 | H5: Pussore | I5: 36165 | J5: Kodpali | K5: 36165 | L5: SF0059997 | M5: Jay Prakash Ratre | N5: 54073 | O5: 475573 | P5: 79344 | Q5: PREM | R5: Abhilasha - JLG Loans-BiWeekly-Migrated | S5: SID951373880176 | T5: SID951373880176 | U5: EBC | V5: MUSLIM | W5: 0 | X5: Agriculture & Farming | Y5: 12205632 | Z5: MAJBUN NISHA | AA5: 20-Jun-2018 | AB5: 31074 | AC5: 03 | AD5: 55 | AE5: 1 | AF5: 8.19 Yrs | AG5: 20 Jun 2018 | AH5: > 6 to 10 Years | AI5: 20-Jun-2018 | AJ5: 0 | AK5: 0 | AL5: 31-Mar-2022 | AM5: 30609.1 | AN5: 14.98 | AO5: 30624.08 | AP5: 681.9 | AQ5: 0 | AR5: 681.9 | AS5: 682.19 | AT5: 0 | AU5: 682.19 | AV5: 117 | BB5: Open | BD5: 31-Dec-2021 | BE5: 31074 | BF5: SID951373880176 | BG5: 7869081216 | BH5: Mithun Lal Yadav/SF0038184 | BI5: Visited | BJ5: 46261 | BK5: Borrower Available | BL5: Borrower | BM5: Available | BN5: No | BQ5: No issue
A6: 2 | B6: East | C6: Chhattisgarh | D6: Champa | E6: Raigarh | F6: Raigarh | G6: CHGL2136 | H6: Pussore | I6: 36178 | J6: Rengal Pali | K6: 36178 | L6: SF0097262 | M6: Gagan Bihari Seth | N6: 54087 | O6: 183 | P6: 79358 | Q6: Laxmi-4 | R6: Abhilasha - JLG Loans-BiWeekly-Migrated | S6: SID951374074669 | T6: SID951374074669 | U6: ST | V6: HINDU | W6: 0 | X6: Agriculture & Farming | Y6: 12547928 | Z6: SUMITA | AA6: 01-Aug-2018 | AB6: 31074 | AC6: 03 | AD6: 55 | AE6: 1 | AF6: 8.07 Yrs | AG6: 01 Aug 2018 | AH6: > 6 to 10 Years | AI6: 01-Aug-2018 | AJ6: 0 | AK6: 0 | AL6: 31-Mar-2022 | AM6: 29420.63 | AN6: 42.07 | AO6: 29462.7 | AP6: 1674.37 | AQ6: 0 | AR6: 1674.37 | AS6: 1674.57 | AT6: 0 | AU6: 1674.57 | AV6: 117 | BB6: Open | BD6: 31-Dec-2021 | BE6: 31074 | BF6: SID951374074669 | BG6: 9922345358 | BH6: Mithun Lal Yadav/SF0038184 | BI6: Visited | BJ6: 46261 | BK6: Borrower Not Available | BL6: Other Borrower | BM6: Not Available | BN6: NA | BQ6: Loan card not available
A7: 3 | B7: East | C7: Chhattisgarh | D7: Champa | E7: Raigarh | F7: Raigarh | G7: CHGL2136 | H7: Pussore | I7: 36202 | J7: Ruchida | K7: 36202 | L7: SF0099850 | M7: Dina Nath | N7: 54117 | O7: 491961 | P7: 79389 | Q7: ganga | R7: Abhilasha - JLG Loans-Monthly-Migrated | S7: SID951374258794 | T7: SID951374258794 | U7: ST | V7: HINDU | W7: 0 | X7: Ration shop | Y7: 12987121 | Z7: KUNTI | AA7: 21-Sep-2018 | AB7: 31074 | AC7: 07 | AD7: 55 | AE7: 1 | AF7: 7.93 Yrs | AG7: 21 Sep 2018 | AH7: > 6 to 10 Years | AI7: 21-Sep-2018 | AL7: 30-Sep-2021 | AM7: 31074 | AN7: 0 | AO7: 31074 | AP7: 1233.87 | AQ7: 0 | AR7: 1233.87 | AS7: 0 | AT7: 0 | AU7: 0 | BB7: Open | BD7: 31-Mar-2024 | BE7: 31074 | BF7: SID951374258794 | BG7: 8349676211 | BH7: Mithun Lal Yadav/SF0038184 | BI7: Visited | BJ7: 46261 | BK7: Borrower Not Available | BL7: Other Borrower | BM7: Not Available | BN7: NA | BQ7: Loan card not available
A8: 4 | B8: East | C8: Chhattisgarh | D8: Champa | E8: Raigarh | F8: Raigarh | G8: CHGL2136 | H8: Pussore | I8: 36202 | J8: Ruchida | K8: 36202 | L8: SF0099850 | M8: Dina Nath | N8: 54117 | O8: 491961 | P8: 79389 | Q8: ganga | R8: Abhilasha - JLG Loans-Monthly-Migrated | S8: SID951374289463 | T8: SID951374289463 | U8: SC | V8: HINDU | W8: 0 | X8: Agriculture & Farming | Y8: 13062796 | Z8: PUNIMATI | AA8: 29-Sep-2018 | AB8: 31074 | AC8: 07 | AD8: 55 | AE8: 1 | AF8: 7.91 Yrs | AG8: 29 Sep 2018 | AH8: > 6 to 10 Years | AI8: 29-Sep-2018 | AL8: 24-Apr-2024 | AM8: 31099.21 | AN8: 0 | AO8: 31099.21 | AP8: 319.2 | AQ8: 0 | AR8: 319.2 | AS8: 0 | AT8: 0 | AU8: 0 | BB8: Open | BD8: 30-Jun-2022 | BE8: 31074 | BF8: SID951374289463 | BG8: 9630463266 | BH8: Mithun Lal Yadav/SF0038184 | BI8: Visited | BJ8: 46261 | BK8: Borrower Not Available | BL8: Other Borrower | BM8: Not Available | BN8: NA | BQ8: Loan card not available
A9: 5 | B9: East | C9: Chhattisgarh | D9: Champa | E9: Raigarh | F9: Raigarh | G9: CHGL2136 | H9: Pussore | I9: 36178 | J9: Rengal Pali | K9: 36178 | L9: SF0097262 | M9: Gagan Bihari Seth | N9: 54087 | O9: 183 | P9: 79358 | Q9: Laxmi-4 | R9: Abhilasha - JLG Loans-BiWeekly-Migrated | S9: CID050402265 | T9: CID050402265 | U9: SC | V9: HINDU | W9: 0 | X9: Agriculture & Farming | Y9: 13100814 | Z9: PRABHASHINI | AA9: 29-Sep-2018 | AB9: 51790 | AC9: 03 | AD9: 56 | AE9: 7 | AF9: 12.44 Yrs | AG9: 29 Sep 2018 | AH9: > 10 Years | AI9: 29-Sep-2018 | AJ9: 0 | AK9: 0 | AL9: 26-Dec-2023 | AM9: 40726.59 | AN9: 0 | AO9: 40726.59 | AP9: 11637.41 | AQ9: 0 | AR9: 11637.41 | AS9: 11637.59 | AT9: 0 | AU9: 11637.59 | AV9: 118 | BB9: Open | BD9: 31-Mar-2022 | BE9: 51790 | BF9: CID050402265 | BG9: 9098815212 | BH9: Mithun Lal Yadav/SF0038184 | BI9: Visited | BJ9: 46261 | BK9: Borrower Death | BL9: Borrower Family Member | BM9: Not Available | BN9: NA | BQ9: Borrower death
A10: 6 | B10: East | C10: Chhattisgarh | D10: Champa | E10: Raigarh | F10: Raigarh | G10: CHGL2136 | H10: Pussore | I10: 36178 | J10: Rengal Pali | K10: 36178 | L10: SF0097262 | M10: Gagan Bihari Seth | N10: 54087 | O10: 183 | P10: 79358 | Q10: Laxmi-4 | R10: Abhilasha - JLG Loans-Monthly-Migrated | S10: SID951372943778 | T10: SID951372943778 | U10: ST | V10: HINDU | W10: 0 | X10: Agriculture & Farming | Y10: 13109677 | Z10: Sukmati | AA10: 01-Oct-2018 | AB10: 41432 | AC10: 03 | AD10: 55 | AE10: 2 | AF10: 9.06 Yrs | AG10: 01 Oct 2018 | AH10: > 6 to 10 Years | AI10: 01-Oct-2018 | AJ10: 1250 | AK10: 1250 | AL10: 31-Mar-2022 | AM10: 39224.07 | AN10: 80 | AO10: 39304.07 | AP10: 2313.84 | AQ10: 31.04 | AR10: 2344.88 | AS10: 2269.93 | AT10: 31.04 | AU10: 2300.97 | AV10: 57 | BB10: Open | BE10: 0 | BF10: SID951372943778 | BG10: 9893036941 | BH10: Mithun Lal Yadav/SF0038184 | BI10: Visited | BJ10: 46261 | BK10: Borrower Not Available | BL10: Other Borrower | BM10: Not Available | BN10: NA | BQ10: Loan card not available
A11: 7 | B11: East | C11: Chhattisgarh | D11: Champa | E11: Raigarh | F11: Raigarh | G11: CHGL2136 | H11: Pussore | I11: 36178 | J11: Rengal Pali | K11: 36178 | L11: SF0097262 | M11: Gagan Bihari Seth | N11: 54087 | O11: 183 | P11: 79377 | Q11: ganesh | R11: Abhilasha - JLG Loans-Monthly-Migrated | S11: CID050408159 | T11: CID050408159 | U11: SC | V11: HINDU | W11: 0 | X11: Agriculture & Farming | Y11: 13111378 | Z11: MUKTA | AA11: 01-Oct-2018 | AB11: 51790 | AC11: 03 | AD11: 56 | AE11: 5 | AF11: 10.12 Yrs | AG11: 01 Oct 2018 | AH11: > 10 Years | AI11: 01-Oct-2018 | AJ11: 1545 | AK11: 1428 | AL11: 26-Dec-2023 | AM11: 49926.26 | AN11: 50 | AO11: 49976.26 | AP11: 2312.53 | AQ11: 18.77 | AR11: 2331.3 | AS11: 1920.74 | AT11: 18.77 | AU11: 1939.51 | AV11: 57 | BB11: Open | BE11: 0 | BF11: CID050408159 | BG11: 6370269592 | BH11: Mithun Lal Yadav/SF0038184 | BI11: Visited | BJ11: 46261 | BK11: Borrower Not Available | BL11: Other Borrower | BM11: Not Available | BN11: NA | BQ11: Loan card not available
A12: 8 | B12: East | C12: Chhattisgarh | D12: Champa | E12: Raigarh | F12: Raigarh | G12: CHGL2136 | H12: Pussore | I12: 36226 | J12: Kensara | K12: 36226 | L12: SF0097262 | M12: Gagan Bihari Seth | N12: 54151 | O12: 63019 | P12: 79429 | Q12: 130949 | R12: Abhilasha - JLG Loans-BiWeekly-Migrated | S12: CID050401244 | T12: CID050401244 | U12: ST | V12: HINDU | W12: 0 | X12: Agriculture & Farming | Y12: 13337442 | Z12: SHURUVAL KHADIYA | AA12: 30-Oct-2018 | AB12: 51790 | AC12: Thu | AD12: 56 | AE12: 7 | AF12: 12.68 Yrs | AG12: 30 Oct 2018 | AH12: > 10 Years | AI12: 30-Oct-2018 | AJ12: 0 | AK12: 0 | AL12: 26-Dec-2023 | AM12: 50660.11 | AN12: 15.07 | AO12: 50675.18 | AP12: 1243.89 | AQ12: 0 | AR12: 1243.89 | AS12: 1244.84 | AT12: 0 | AU12: 1244.84 | AV12: 118 | BB12: Open | BD12: 31-Mar-2023 | BE12: 51790 | BF12: CID050401244 | BG12: 7724909983 | BH12: Mithun Lal Yadav/SF0038184 | BI12: Visited | BJ12: 46260 | BK12: Borrower Available | BL12: Borrower | BM12: Not Available | BN12: NA | BQ12: Agree to Paid
A13: 9 | B13: East | C13: Chhattisgarh | D13: Champa | E13: Raigarh | F13: Raigarh | G13: CHGL2136 | H13: Pussore | I13: 36165 | J13: Kodpali | K13: 36165 | L13: SF0059997 | M13: Jay Prakash Ratre | N13: 54158 | O13: 80 | P13: 79436 | Q13: Laxmi | R13: Abhilasha - JLG Loans-Monthly-Migrated | S13: SID951372815405 | T13: SID951372815405 | U13: ST | V13: HINDU | W13: 0 | X13: Agriculture & Farming | Y13: 13388568 | Z13: PRATIMA | AA13: 18-Nov-2018 | AB13: 31074 | AC13: 03 | AD13: 55 | AE13: 2 | AF13: 9.43 Yrs | AG13: 18 Nov 2018 | AH13: > 6 to 10 Years | AI13: 18-Nov-2018 | AJ13: 935 | AK13: 935 | AL13: 26-Dec-2023 | AM13: 23044.26 | AN13: 144.17 | AO13: 23188.43 | AP13: 9436.62 | AQ13: 724.68 | AR13: 10161.3 | AS13: 8690.74 | AT13: 724.68 | AU13: 9415.42 | AV13: 60 | BB13: Open | BD13: 31-Mar-2023 | BE13: 31074 | BF13: SID951372815405 | BG13: 6268547676 | BH13: Mithun Lal Yadav/SF0038184 | BI13: Visited | BJ13: 46261 | BK13: Borrower Not Available | BL13: Other Borrower | BM13: Not Available | BN13: NA | BQ13: Not Agree to Paid
A14: 10 | B14: East | C14: Chhattisgarh | D14: Champa | E14: Raigarh | F14: Raigarh | G14: CHGL2136 | H14: Pussore | I14: 36165 | J14: Kodpali | K14: 36165 | L14: SF0059997 | M14: Jay Prakash Ratre | N14: 54158 | O14: 80 | P14: 79436 | Q14: Laxmi | R14: Abhilasha - JLG Loans-Monthly-Migrated | S14: SID2125312775 | T14: SID2125312775 | U14: ST | V14: HINDU | W14: 0 | X14: Agriculture & Farming | Y14: 13389328 | Z14: TILOTAMA | AA14: 03-Nov-2018 | AB14: 41432 | AC14: 03 | AD14: 55 | AE14: 3 | AF14: 10.39 Yrs | AG14: 03 Nov 2018 | AH14: > 10 Years | AI14: 03-Nov-2018 | AJ14: 1250 | AK14: 1250 | AL14: 27-Dec-2023 | AM14: 27635.81 | AN14: 302.71 | AO14: 27938.52 | AP14: 17166.8 | AQ14: 1833.31 | AR14: 19000.11 | AS14: 15273.19 | AT14: 1833.31 | AU14: 17106.5 | AV14: 60 | BB14: Open | BD14: 31-Mar-2023 | BE14: 41432 | BF14: SID2125312775 | BG14: 8827019453 | BH14: Mithun Lal Yadav/SF0038184 | BI14: Visited | BJ14: 46261 | BK14: Borrower Available | BL14: Borrower | BM14: Not Available | BN14: NA | BQ14: borrower Not agree to paid
A15: 11 | B15: East | C15: Chhattisgarh | D15: Champa | E15: Raigarh | F15: Raigarh | G15: CHGL2136 | H15: Pussore | I15: 36165 | J15: Kodpali | K15: 36165 | L15: SF0059997 | M15: Jay Prakash Ratre | N15: 54158 | O15: 80 | P15: 79436 | Q15: Laxmi | R15: Abhilasha - JLG Loans-Monthly-Migrated | S15: SID951372815403 | T15: SID951372815403 | U15: EBC | V15: HINDU | W15: 0 | X15: Agriculture & Farming | Y15: 13390177 | Z15: PUSHPA | AA15: 03-Nov-2018 | AB15: 41432 | AC15: 03 | AD15: 55 | AE15: 2 | AF15: 9.43 Yrs | AG15: 03 Nov 2018 | AH15: > 6 to 10 Years | AI15: 03-Nov-2018 | AJ15: 1250 | AK15: 1250 | AL15: 14-Sep-2023 | AM15: 31662.39 | AN15: 183.91 | AO15: 31846.3 | AP15: 11473.38 | AQ15: 871.17 | AR15: 12344.55 | AS15: 10549.61 | AT15: 871.17 | AU15: 11420.78 | AV15: 60 | BB15: Open | BD15: 31-Mar-2023 | BE15: 41432 | BF15: SID951372815403 | BG15: 8827097129 | BH15: Mithun Lal Yadav/SF0038184 | BI15: Visited | BJ15: 46261 | BK15: Borrower Available | BL15: Borrower | BM15: Not Available | BN15: NA | BQ15: borrower Not agree to paid
A16: 12 | B16: East | C16: Chhattisgarh | D16: Champa | E16: Raigarh | F16: Raigarh | G16: CHGL2136 | H16: Pussore | I16: 36165 | J16: Kodpali | K16: 36165 | L16: SF0059997 | M16: Jay Prakash Ratre | N16: 54158 | O16: 80 | P16: 79436 | Q16: Laxmi | R16: Abhilasha - JLG Loans-Monthly-Migrated | S16: SID2125315181 | T16: SID2125315181 | U16: EBC | V16: HINDU | W16: 0 | X16: Agriculture & Farming | Y16: 13390178 | Z16: MEENA | AA16: 03-Nov-2018 | AB16: 41432 | AC16: 03 | AD16: 55 | AE16: 3 | AF16: 10.39 Yrs | AG16: 03 Nov 2018 | AH16: > 10 Years | AI16: 03-Nov-2018 | AJ16: 1250 | AK16: 1250 | AL16: 14-Sep-2023 | AM16: 34404.69 | AN16: 18.49 | AO16: 34423.18 | AP16: 8520.36 | AQ16: 548.08 | AR16: 9068.44 | AS16: 7597.31 | AT16: 548.08 | AU16: 8145.39 | AV16: 60 | BB16: Open | BD16: 31-Mar-2023 | BE16: 41432 | BF16: SID2125315181 | BG16: 8356001583 | BH16: Mithun Lal Yadav/SF0038184 | BI16: Visited | BJ16: 46261 | BK16: Borrower Available | BL16: Borrower | BM16: Not Available | BN16: NA | BQ16: Agree to Paid
A17: 13 | B17: East | C17: Chhattisgarh | D17: Champa | E17: Raigarh | F17: Raigarh | G17: CHGL2136 | H17: Pussore | I17: 36165 | J17: Kodpali | K17: 36165 | L17: SF0059997 | M17: Jay Prakash Ratre | N17: 54158 | O17: 80 | P17: 79436 | Q17: Laxmi | R17: Abhilasha - JLG Loans-BiWeekly-Migrated | S17: SID2125312905 | T17: SID2125312905 | U17: ST | V17: HINDU | W17: 0 | X17: Fish Vending | Y17: 13390180 | Z17: PADMA | AA17: 03-Nov-2018 | AB17: 51790 | AC17: 03 | AD17: 56 | AE17: 3 | AF17: 10.39 Yrs | AG17: 03 Nov 2018 | AH17: > 10 Years | AI17: 03-Nov-2018 | AJ17: 0 | AK17: 0 | AL17: 28-Dec-2021 | AM17: 37752.2 | AN17: 150 | AO17: 37902.2 | AP17: 16461.8 | AQ17: 1034.29 | AR17: 17496.09 | AS17: 16462.52 | AT17: 1034.29 | AU17: 17496.81 | AV17: 106 | BB17: Open | BD17: 31-Mar-2022 | BE17: 51790 | BF17: SID2125312905 | BG17: 9109302524 | BH17: Mithun Lal Yadav/SF0038184 | BI17: Visited | BJ17: 46261 | BK17: Borrower Available | BL17: Borrower | BM17: Not Available | BN17: NA | BQ17: Agree to Paid
A18: 14 | B18: East | C18: Chhattisgarh | D18: Champa | E18: Raigarh | F18: Raigarh | G18: CHGL2136 | H18: Pussore | I18: 36165 | J18: Kodpali | K18: 36165 | L18: SF0059997 | M18: Jay Prakash Ratre | N18: 54158 | O18: 80 | P18: 79436 | Q18: Laxmi | R18: Abhilasha - JLG Loans-BiWeekly-Migrated | S18: SID2125312887 | T18: SID2125312887 | U18: SC | V18: HINDU | W18: 0 | X18: Fish Vending | Y18: 13390182 | Z18: Mathura | AA18: 03-Nov-2018 | AB18: 41432 | AC18: 03 | AD18: 55 | AE18: 3 | AF18: 10.39 Yrs | AG18: 03 Nov 2018 | AH18: > 10 Years | AI18: 03-Nov-2018 | AJ18: 0 | AK18: 0 | AL18: 14-Sep-2023 | AM18: 31771.55 | AN18: 741.97 | AO18: 32513.52 | AP18: 11554.45 | AQ18: 0 | AR18: 11554.45 | AS18: 11555.06 | AT18: 0 | AU18: 11555.06 | AV18: 105 | BB18: Open | BD18: 31-Mar-2022 | BE18: 41432 | BF18: SID2125312887 | BG18: 9691487343 | BH18: Mithun Lal Yadav/SF0038184 | BI18: Visited | BJ18: 46261 | BK18: Borrower Not Available | BL18: Borrower Family Member | BM18: Not Available | BN18: NA | BQ18: Not Agree to Paid
A19: 15 | B19: East | C19: Chhattisgarh | D19: Champa | E19: Raigarh | F19: Raigarh | G19: CHGL2136 | H19: Pussore | I19: 36165 | J19: Kodpali | K19: 36165 | L19: SF0059997 | M19: Jay Prakash Ratre | N19: 54158 | O19: 80 | P19: 79436 | Q19: Laxmi | R19: Abhilasha - JLG Loans-BiWeekly-Migrated | S19: SID2125315182 | T19: SID2125315182 | U19: EBC | V19: HINDU | W19: 0 | X19: Vegetable vending | Y19: 13502144 | Z19: SHAMA | AA19: 18-Nov-2018 | AB19: 51790 | AC19: 03 | AD19: 56 | AE19: 3 | AF19: 10.39 Yrs | AG19: 18 Nov 2018 | AH19: > 10 Years | AI19: 18-Nov-2018 | AJ19: 0 | AK19: 0 | AL19: 27-Dec-2023 | AM19: 37961 | AN19: 1062.73 | AO19: 39023.73 | AP19: 16362 | AQ19: 140.66 | AR19: 16502.66 | AS19: 16362.27 | AT19: 140.66 | AU19: 16502.93 | AV19: 106 | BB19: Open | BD19: 31-Mar-2022 | BE19: 51790 | BF19: SID2125315182 | BG19: 9993836676 | BH19: Mithun Lal Yadav/SF0038184 | BI19: Visited | BJ19: 46261 | BK19: Borrower Not Traceable | BL19: Other Borrower | BM19: Not Available | BN19: NA | BQ19: Borrower not available
A20: 16 | B20: East | C20: Chhattisgarh | D20: Champa | E20: Raigarh | F20: Raigarh | G20: CHGL2136 | H20: Pussore | I20: 36178 | J20: Rengal Pali | K20: 36178 | L20: SF0097262 | M20: Gagan Bihari Seth | N20: 54087 | O20: 183 | P20: 79358 | Q20: Laxmi-4 | R20: Abhilasha - JLG Loans-BiWeekly-Migrated | S20: CID050402258 | T20: CID050402258 | U20: OBC | V20: HINDU | W20: 0 | X20: Ration shop | Y20: 13802798 | Z20: MALTI | AA20: 02-Jan-2019 | AB20: 45637 | AC20: 03 | AD20: 55 | AE20: 10 | AF20: 12.13 Yrs | AG20: 02 Jan 2019 | AH20: > 10 Years | AI20: 02-Jan-2019 | AJ20: 0 | AK20: 0 | AL20: 27-Dec-2023 | AM20: 23193.29 | AN20: 512.39 | AO20: 23705.68 | AP20: 24995.71 | AQ20: 2662.08 | AR20: 27657.79 | AS20: 24996.69 | AT20: 2662.08 | AU20: 27658.77 | AV20: 117 | BB20: Open | BD20: 31-Mar-2023 | BE20: 45637 | BF20: CID050402258 | BG20: 7952211792 | BH20: Mithun Lal Yadav/SF0038184 | BI20: Visited | BJ20: 46261 | BK20: Borrower Not Available | BL20: Other Borrower | BM20: Not Available | BN20: NA | BQ20: Loan card not available
A21: 17 | B21: East | C21: Chhattisgarh | D21: Champa | E21: Raigarh | F21: Raigarh | G21: CHGL2136 | H21: Pussore | I21: 36240 | J21: Kensara. | K21: 36240 | L21: SF0097262 | M21: Gagan Bihari Seth | N21: 54221 | O21: 16 | P21: 79539 | Q21: Laxmi | R21: Abhilasha - JLG Loans-Monthly-Migrated | S21: CID213602532 | T21: CID213602532 | U21: SC | V21: HINDU | W21: 0 | X21: Salt Business | Y21: 14677381 | Z21: BASNTI MAHANT | AA21: 15-Mar-2019 | AB21: 46674 | AC21: 05 | AD21: 52 | AE21: 4 | AF21: 9.96 Yrs | AG21: 15 Mar 2019 | AH21: > 6 to 10 Years | AI21: 15-Mar-2019 | AJ21: 1450 | AK21: 1450 | AL21: 31-Mar-2022 | AM21: 30401.14 | AN21: 120 | AO21: 30521.14 | AP21: 16761.93 | AQ21: 2075.27 | AR21: 18837.2 | AS21: 16351.86 | AT21: 2075.27 | AU21: 18427.13 | AV21: 59 | BB21: Open | BD21: 31-Mar-2023 | BE21: 46674 | BF21: CID213602532 | BG21: 7999469663 | BH21: Mithun Lal Yadav/SF0038184 | BI21: Visited | BJ21: 46260 | BK21: Borrower Available | BL21: Borrower | BM21: Not Available | BN21: NA | BQ21: Borrower Not agree to paid
A22: 18 | B22: East | C22: Chhattisgarh | D22: Champa | E22: Raigarh | F22: Raigarh | G22: CHGL2136 | H22: Pussore | I22: 36181 | J22: Kensara. | K22: 36181 | L22: SF0097262 | M22: Gagan Bihari Seth | N22: 54091 | O22: 71984 | P22: 79538 | Q22: 134092 | R22: Abhilasha - JLG Loans-BiWeekly-Migrated | S22: SID2125150020 | T22: SID2125150020 | U22: SC | V22: HINDU | W22: 0 | X22: Agriculture & Farming | Y22: 14722710 | Z22: VIMALA BHOY | AA22: 15-Mar-2019 | AB22: 41488 | AC22: Tue | AD22: 52 | AE22: 3 | AF22: 10.30 Yrs | AG22: 15 Mar 2019 | AH22: > 10 Years | AI22: 15-Mar-2019 | AJ22: 0 | AK22: 0 | AL22: 27-Dec-2023 | AM22: 24156.64 | AN22: 0 | AO22: 24156.64 | AP22: 17696.36 | AQ22: 0 | AR22: 17696.36 | AS22: 17696.79 | AT22: 0 | AU22: 17696.79 | AV22: 108 | BB22: Open | BD22: 31-Mar-2023 | BE22: 41488 | BF22: SID2125150020 | BG22: 9109723347 | BH22: Mithun Lal Yadav/SF0038184 | BI22: Visited | BJ22: 46260 | BK22: Borrower Not Available | BL22: Other Borrower | BM22: Not Available | BN22: NA | BQ22: Loan card not available
A23: 19 | B23: East | C23: Chhattisgarh | D23: Champa | E23: Raigarh | F23: Raigarh | G23: CHGL2136 | H23: Pussore | I23: 36202 | J23: Ruchida | K23: 36202 | L23: SF0099850 | M23: Dina Nath | N23: 54117 | O23: 491961 | P23: 79389 | Q23: ganga | R23: Interim Loans-BiWeekly-Migrated | S23: SID951374258247 | T23: SID951374258247 | U23: EBC | V23: HINDU | W23: 0 | X23: Agriculture & Farming | Y23: 15468122 | Z23: SUNITA | AA23: 12-Apr-2019 | AB23: 15558 | AC23: 07 | AD23: 52 | AE23: 1 | AF23: 7.93 Yrs | AG23: 12 Apr 2019 | AH23: > 6 to 10 Years | AI23: 12-Apr-2019 | AJ23: 0 | AK23: 0 | AL23: 27-Dec-2023 | AM23: 6327.49 | AN23: 350.31 | AO23: 6677.8 | AP23: 10237.51 | AQ23: 1116.07 | AR23: 11353.58 | AS23: 9553.62 | AT23: 1116.07 | AU23: 10669.69 | AV23: 107 | BB23: Open | BD23: 31-Dec-2021 | BE23: 15558 | BF23: SID951374258247 | BG23: 7024699683 | BH23: Mithun Lal Yadav/SF0038184 | BI23: Visited | BJ23: 46261 | BK23: Borrower Not Available | BL23: Other Borrower | BM23: Not Available | BN23: NA | BQ23: Loan card not available
... A26: 22 | B26: East | C26: Chhattisgarh | D26: Champa | E26: Raigarh | F26: Raigarh | G26: CHGL2136 | H26: Pussore | I26: 36202 | J26: Ruchida | K26: 36202 | L26: SF0099850 | M26: Dina Nath | N26: 54260 | O26: 48 | P26: 79604 | Q26: VAISHNO | R26: Abhilasha - JLG Loans-BiWeekly-Migrated | S26: CID050410908 | T26: CID050410908 | U26: EBC | V26: HINDU | W26: 0 | X26: Ration shop | Y26: 15607227 | Z26: USHKUMARI | AA26: 23-Apr-2019 | AB26: 41488 | AC26: 07 | AD26: 52 | AE26: 4 | AF26: 11.54 Yrs | AG26: 23 Apr 2019 | AH26: > 10 Years | AI26: 23-Apr-2019 | AJ26: 353 | AK26: 0 | AL26: 27-Dec-2023 | AM26: 20852.8 | AN26: 719.15 | AO26: 21571.95 | AP26: 23256.2 | AQ26: 2228.65 | AR26: 25484.85 | AS26: 20635.2 | AT26: 2228.65 | AU26: 22863.85 | AV26: 119 | BB26: Open | BD26: 31-Dec-2021 | BE26: 41488 | BF26: CID050410908 | BG26: 9098528720 | BH26: Mithun Lal Yadav/SF0038184 | BI26: Visited | BJ26: 46261 | BK26: Borrower Not Available | BL26: Other Borrower | BM26: Not Available | BN26: NA | BQ26: Loan card not available
A27: 23 | B27: East | C27: Chhattisgarh | D27: Champa | E27: Raigarh | F27: Raigarh | G27: CHGL2136 | H27: Pussore | I27: 36202 | J27: Ruchida | K27: 36202 | L27: SF0099850 | M27: Dina Nath | N27: 54260 | O27: 48 | P27: 79604 | Q27: VAISHNO | R27: Abhilasha - JLG Loans-Monthly-Migrated | S27: CID050410915 | T27: CID050410915 | U27: EBC | V27: HINDU | W27: 0 | X27: Ration shop | Y27: 15632220 | Z27: RAMBAI | AA27: 23-Apr-2019 | AB27: 46674 | AC27: 07 | AD27: 52 | AE27: 4 | AF27: 11.53 Yrs | AG27: 23 Apr 2019 | AH27: > 10 Years | AI27: 23-Apr-2019 | AJ27: 1450 | AK27: 1450 | AL27: 26-Dec-2023 | AM27: 46793.18 | AN27: 893 | AO27: 47686.18 | AP27: 1342.45 | AQ27: 5.14 | AR27: 1347.59 | AS27: 504.82 | AT27: 5.14 | AU27: 509.96 | AV27: 60 | BB27: Open | BE27: 0 | BF27: CID050410915 | BG27: 8224255040 | BH27: Mithun Lal Yadav/SF0038184 | BI27: Visited | BJ27: 46261 | BK27: Borrower Not Available | BL27: Other Borrower | BM27: Not Available | BN27: NA | BQ27: Loan card not available
A28: 24 | B28: East | C28: Chhattisgarh | D28: Champa | E28: Raigarh | F28: Raigarh | G28: CHGL2136 | H28: Pussore | I28: 36165 | J28: Kodpali | K28: 36165 | L28: SF0059997 | M28: Jay Prakash Ratre | N28: 54158 | O28: 80 | P28: 79436 | Q28: Laxmi | R28: Interim Loans-BiWeekly-Migrated | S28: SID2125315182 | T28: SID2125315182 | U28: EBC | V28: HINDU | W28: 0 | X28: Vegetable vending | Y28: 16052900 | Z28: SHAMA | AA28: 15-May-2019 | AB28: 10372 | AC28: 03 | AD28: 38 | AE28: 3 | AF28: 10.39 Yrs | AG28: 18 Nov 2018 | AH28: > 10 Years | AI28: 15-May-2019 | AJ28: 0 | AK28: 0 | AL28: 31-Mar-2022 | AM28: 8741.97 | AN28: 0 | AO28: 8741.97 | AP28: 2175.03 | AQ28: 0 | AR28: 2175.03 | AS28: 2175.17 | AT28: 0 | AU28: 2175.17 | AV28: 106 | BB28: Open | BD28: 31-Mar-2022 | BE28: 10372 | BF28: SID2125315182 | BG28: 9993836676 | BH28: Mithun Lal Yadav/SF0038184 | BI28: Visited | BJ28: 46261 | BK28: Borrower Not Traceable | BL28: Other Borrower | BM28: Not Available | BN28: NA | BQ28: Borrower not available
A29: 25 | B29: East | C29: Chhattisgarh | D29: Champa | E29: Raigarh | F29: Raigarh | G29: CHGL2136 | H29: Pussore | I29: 36181 | J29: Kensara. | K29: 36181 | L29: SF0097262 | M29: Gagan Bihari Seth | N29: 54091 | O29: 71984 | P29: 79636 | Q29: 133884 | R29: Abhilasha - JLG Loans-BiWeekly-Migrated | S29: CID050404446 | T29: CID050404446 | U29: ST | V29: HINDU | W29: 0 | X29: Agriculture & Farming | Y29: 16165385 | Z29: KUMARI BAI | AA29: 22-May-2019 | AB29: 41488 | AC29: Tue | AD29: 52 | AE29: 6 | AF29: 12.65 Yrs | AG29: 22 May 2019 | AH29: > 10 Years | AI29: 22-May-2019 | AJ29: 0 | AK29: 0 | AL29: 27-Dec-2023 | AM29: 39243.03 | AN29: 10.36 | AO29: 39253.39 | AP29: 2429.97 | AQ29: 0 | AR29: 2429.97 | AS29: 2304.82 | AT29: 0 | AU29: 2304.82 | AV29: 109 | BB29: Open | BD29: 30-Jun-2022 | BE29: 41488 | BF29: CID050404446 | BG29: 7828065588 | BH29: Mithun Lal Yadav/SF0038184 | BI29: Visited | BJ29: 46260 | BK29: Borrower Not Available | BL29: Other Borrower | BM29: Not Available | BN29: NA | BQ29: Loan card not available
A30: 26 | B30: East | C30: Chhattisgarh | D30: Champa | E30: Raigarh | F30: Raigarh | G30: CHGL2136 | H30: Pussore | I30: 36202 | J30: Ruchida | K30: 36202 | L30: SF0099850 | M30: Dina Nath | N30: 54117 | O30: 491961 | P30: 79389 | Q30: ganga | R30: Abhilasha - JLG Loans-Monthly-Migrated | S30: SID951375024476 | T30: SID951375024476 | U30: EBC | V30: HINDU | W30: 0 | X30: Agriculture & Farming | Y30: 16445630 | Z30: BHARTI | AA30: 06-Jun-2019 | AB30: 36302 | AC30: 07 | AD30: 52 | AE30: 1 | AF30: 7.22 Yrs | AG30: 06 Jun 2019 | AH30: > 6 to 10 Years | AI30: 06-Jun-2019 | AJ30: 1130 | AK30: 1130 | AL30: 27-Dec-2023 | AM30: 12569.97 | AN30: 169 | AO30: 12738.97 | AP30: 30717.27 | AQ30: 10606.53 | AR30: 41323.8 | AS30: 28082.03 | AT30: 10606.53 | AU30: 38688.56 | AV30: 60 | BB30: Open | BD30: 31-Mar-2023 | BE30: 36302 | BF30: SID951375024476 | BG30: 8435954661 | BH30: Mithun Lal Yadav/SF0038184 | BI30: Visited | BJ30: 46261 | BK30: Borrower Not Available | BL30: Other Borrower | BM30: Not Available | BN30: NA | BQ30: Loan card not available
A31: 27 | B31: East | C31: Chhattisgarh | D31: Champa | E31: Raigarh | F31: Raigarh | G31: CHGL2136 | H31: Pussore | I31: 36240 | J31: Kensara. | K31: 36240 | L31: SF0097262 | M31: Gagan Bihari Seth | N31: 54221 | O31: 16 | P31: 79723 | Q31: GANGA | R31: Abhilasha - JLG Loans-Monthly-Migrated | S31: CID213601871 | T31: CID213601871 | U31: EBC | V31: HINDU | W31: 0 | X31: Agriculture & Farming | Y31: 17146931 | Z31: LALITA | AA31: 17-Jul-2019 | AB31: 46674 | AC31: 05 | AD31: 52 | AE31: 4 | AF31: 8.22 Yrs | AG31: 17 Jul 2019 | AH31: > 6 to 10 Years | AI31: 17-Jul-2019 | AJ31: 1450 | AK31: 1450 | AL31: 27-Dec-2023 | AM31: 37434.75 | AN31: 1472.96 | AO31: 38907.71 | AP31: 9687.55 | AQ31: 755.79 | AR31: 10443.34 | AS31: 9453.25 | AT31: 755.79 | AU31: 10209.04 | AV31: 59 | BB31: Open | BD31: 30-Jun-2023 | BE31: 46674 | BF31: CID213601871 | BG31: 6262069194 | BH31: Mithun Lal Yadav/SF0038184 | BI31: Visited | BJ31: 46260 | BK31: Borrower Not Available | BL31: Other Borrower | BM31: Not Available | BN31: NA | BQ31: Loan card not available
A32: 28 | B32: East | C32: Chhattisgarh | D32: Champa | E32: Raigarh | F32: Raigarh | G32: CHGL2136 | H32: Pussore | I32: 36240 | J32: Kensara. | K32: 36240 | L32: SF0097262 | M32: Gagan Bihari Seth | N32: 54221 | O32: 16 | P32: 79723 | Q32: GANGA | R32: Abhilasha - JLG Loans-Monthly-Migrated | S32: CID050401237 | T32: CID050401237 | U32: OBC | V32: HINDU | W32: 0 | X32: Agriculture & Farming | Y32: 17146997 | Z32: SANTRABAI MAHANT | AA32: 17-Jul-2019 | AB32: 46674 | AC32: 05 | AD32: 52 | AE32: 6 | AF32: 8.45 Yrs | AG32: 17 Jul 2019 | AH32: > 6 to 10 Years | AI32: 17-Jul-2019 | AJ32: 1450 | AK32: 1450 | AL32: 26-Dec-2023 | AM32: 24320.98 | AN32: 1600.87 | AO32: 25921.85 | AP32: 23774.26 | AQ32: 4665.11 | AR32: 28439.37 | AS32: 23227.02 | AT32: 4665.11 | AU32: 27892.13 | AV32: 59 | BB32: Open | BD32: 31-Mar-2023 | BE32: 46674 | BF32: CID050401237 | BG32: 7804826138 | BH32: Mithun Lal Yadav/SF0038184 | BI32: Visited | BJ32: 46260 | BK32: Borrower Available | BL32: Borrower | BM32: Not Available | BN32: NA | BQ32: Borrower Not agree to paid
A33: 29 | B33: East | C33: Chhattisgarh | D33: Champa | E33: Raigarh | F33: Raigarh | G33: CHGL2136 | H33: Pussore | I33: 36165 | J33: Kodpali | K33: 36165 | L33: SF0059997 | M33: Jay Prakash Ratre | N33: 54158 | O33: 80 | P33: 79755 | Q33: VANDANA | R33: Abhilasha - JLG Loans-Monthly-Migrated | S33: CID213608239 | T33: CID213608239 | U33: EBC | V33: HINDU | W33: 0 | X33: Agriculture & Farming | Y33: 17226721 | Z33: PUSHPA YADAV | AA33: 03-Aug-2019 | AB33: 36302 | AC33: 03 | AD33: 52 | AE33: 4 | AF33: 11.25 Yrs | AG33: 03 Aug 2019 | AH33: > 10 Years | AI33: 03-Aug-2019 | AJ33: 1130 | AK33: 1130 | AL33: 27-Dec-2023 | AM33: 32092.41 | AN33: 107 | AO33: 32199.41 | AP33: 4610.16 | AQ33: 116.9 | AR33: 4727.06 | AS33: 4251.59 | AT33: 116.9 | AU33: 4368.49 | AV33: 59 | BB33: Open | BE33: 0 | BF33: CID213608239 | BG33: 9109965052 | BH33: Mithun Lal Yadav/SF0038184 | BI33: Visited | BJ33: 46261 | BK33: Borrower Available | BL33: Borrower | BM33: Not Available | BN33: NA | BQ33: borrower Not agree to paid
A34: 30 | B34: East | C34: Chhattisgarh | D34: Champa | E34: Raigarh | F34: Raigarh | G34: CHGL2136 | H34: Pussore | I34: 36240 | J34: Kensara. | K34: 36240 | L34: SF0097262 | M34: Gagan Bihari Seth | N34: 54221 | O34: 16 | P34: 79539 | Q34: Laxmi | R34: Abhilasha - JLG Loans-BiWeekly-Migrated | S34: CID050401195 | T34: CID050401195 | U34: ST | V34: HINDU | W34: 0 | X34: Agriculture & Farming | Y34: 17474825 | Z34: Madhuri | AA34: 20-Aug-2019 | AB34: 46674 | AC34: 05 | AD34: 52 | AE34: 7 | AF34: 12.56 Yrs | AG34: 20 Aug 2019 | AH34: > 10 Years | AI34: 20-Aug-2019 | AJ34: 1135 | AK34: 1135 | AL34: 27-Dec-2023 | AM34: 39311.81 | AN34: 74.86 | AO34: 39386.67 | AP34: 7610.19 | AQ34: 229.95 | AR34: 7840.14 | AS34: 7362.19 | AT34: 229.95 | AU34: 7592.14 | AV34: 115 | BB34: Open | BD34: 30-Jun-2022 | BE34: 46674 | BF34: CID050401195 | BG34: 6267972335 | BH34: Mithun Lal Yadav/SF0038184 | BI34: Visited | BJ34: 46260 | BK34: Borrower Not Available | BL34: Other Borrower | BM34: Not Available | BN34: NA | BQ34: Loan card not available
A35: 31 | B35: East | C35: Chhattisgarh | D35: Champa | E35: Raigarh | F35: Raigarh | G35: CHGL2136 | H35: Pussore | I35: 36165 | J35: Kodpali | K35: 36165 | L35: SF0059997 | M35: Jay Prakash Ratre | N35: 54158 | O35: 80 | P35: 79436 | Q35: Laxmi | R35: Abhilasha - JLG Loans-Monthly-Migrated | S35: SID951375241029 | T35: SID951375241029 | U35: EBC | V35: HINDU | W35: 0 | X35: Agriculture & Farming | Y35: 17610187 | Z35: NANDINI | AA35: 03-Sep-2019 | AB35: 36302 | AC35: 03 | AD35: 52 | AE35: 1 | AF35: 6.98 Yrs | AG35: 03 Sep 2019 | AH35: > 6 to 10 Years | AI35: 03-Sep-2019 | AJ35: 1130 | AK35: 1130 | AL35: 31-Mar-2022 | AM35: 14037.94 | AN35: 55.1 | AO35: 14093.04 | AP35: 27615.06 | AQ35: 8256.71 | AR35: 35871.77 | AS35: 25427.06 | AT35: 8256.71 | AU35: 33683.77 | AV35: 61 | BB35: Open | BD35: 31-Mar-2023 | BE35: 36302 | BF35: SID951375241029 | BG35: 6372464102 | BH35: Mithun Lal Yadav/SF0038184 | BI35: Visited | BJ35: 46261 | BK35: Borrower Not Available | BL35: Other Borrower | BM35: Not Available | BN35: NA | BQ35: Borrower not available
A36: 32 | B36: East | C36: Chhattisgarh | D36: Champa | E36: Raigarh | F36: Raigarh | G36: CHGL2136 | H36: Pussore | I36: 36240 | J36: Kensara. | K36: 36240 | L36: SF0097262 | M36: Gagan Bihari Seth | N36: 54221 | O36: 16 | P36: 79785 | Q36: Radha | R36: Abhilasha - JLG Loans-Monthly-Migrated | S36: SID951373538606 | T36: SID951373538606 | U36: ST | V36: HINDU | W36: 0 | X36: Agriculture & Farming | Y36: 17612418 | Z36: Hemo | AA36: 29-Aug-2019 | AB36: 41488 | AC36: 05 | AD36: 52 | AE36: 2 | AF36: 8.41 Yrs | AG36: 29 Aug 2019 | AH36: > 6 to 10 Years | AI36: 29-Aug-2019 | AJ36: 1290 | AK36: 1290 | AL36: 27-Dec-2023 | AM36: 37705.83 | AN36: 780 | AO36: 38485.83 | AP36: 4141.12 | AQ36: 101.32 | AR36: 4242.44 | AS36: 3915.17 | AT36: 101.32 | AU36: 4016.49 | AV36: 58 | BB36: Open | BE36: 0 | BF36: SID951373538606 | BG36: 7067387529 | BH36: Mithun Lal Yadav/SF0038184 | BI36: Visited | BJ36: 46260 | BK36: Borrower Not Available | BL36: Other Borrower | BM36: Not Available | BN36: NA | BQ36: Loan card not available
A37: 33 | B37: East | C37: Chhattisgarh | D37: Champa | E37: Raigarh | F37: Raigarh | G37: CHGL2136 | H37: Pussore | I37: 36202 | J37: Ruchida | K37: 36202 | L37: SF0099850 | M37: Dina Nath | N37: 54260 | O37: 48 | P37: 79604 | Q37: VAISHNO | R37: Abhilasha - JLG Loans-BiWeekly-Migrated | S37: SID951375255457 | T37: SID951375255457 | U37: EBC | V37: HINDU | W37: 0 | X37: Agriculture & Farming | Y37: 17671740 | Z37: RADHIKA | AA37: 12-Sep-2019 | AB37: 36302 | AC37: 07 | AD37: 52 | AE37: 1 | AF37: 6.96 Yrs | AG37: 12 Sep 2019 | AH37: > 6 to 10 Years | AI37: 12-Sep-2019 | AJ37: 880 | AK37: 880 | AL37: 27-Dec-2023 | AM37: 28772.05 | AN37: 246.28 | AO37: 29018.33 | AP37: 7987.95 | AQ37: 302.32 | AR37: 8290.27 | AS37: 7529.95 | AT37: 302.32 | AU37: 7832.27 | AV37: 127 | BB37: Open | BD37: 31-Mar-2023 | BE37: 36302 | BF37: SID951375255457 | BG37: 9301611823 | BH37: Mithun Lal Yadav/SF0038184 | BI37: Visited | BJ37: 46261 | BK37: Borrower Not Available | BL37: Other Borrower | BM37: Not Available | BN37: NA | BQ37: Loan card not available
